Workbook
Name OLE_LINK1: VORBEMERK!#REF!

Sheet IMPRESSUM
A1: Impressum
A3: Berufsbildendende Schulen in Thüringen 2025
A5: • Die Datei ist gespeichert im Format EXCEL 2016
A8: Herausgeber
A9: Thüringer Landesamt für Statistik
A10: Europaplatz 3, 99091 Erfurt
A11: Postfach 90 01 63, 99104 Erfurt
A12: Telefon: +49 361 57331-9642
A13: Telefax: +49 361 57331-9699
A14: E-Mail: auskunft@statistik.thueringen.de
A15: Internet: www.statistik.thueringen.de
A17: Auskunft erteilt
... A30: Vervielfältigung und Verbreitung, auch auszugsweise, mit Quellenangabe gestattet

Sheet ZEICHENERKL
A1: Zeichenerklärung
A5: - | B5: nichts vorhanden (genau Null)
A6: 0 | B6: weniger als die Hälfte von 1 in der letzten besetzten Stelle,
B7: jedoch mehr als nichts
A8: . | B8: Zahlenwert unbekannt oder geheim zu halten
A9: … | B9: Zahlenwert lag bei Redaktionsschluss noch nicht vor
A10: x | B10: Tabellenfach gesperrt, weil Aussage nicht sinnvoll
A11: p | B11: vorläufige Zahl
A12: r | B12: berichtigte Zahl
A13: / | B13: Zahlenwert nicht sicher genug
A14: ( ) | B14: Aussagewert eingeschränkt
A16: Anmerkung: | B16: Abweichungen in den Summen, auch im Vergleich zu anderen Veröffentlichungen, erklären sich aus dem Runden von Einzelwerten

Sheet INHALSVERZ
A2: Inhaltsverzeichnis
C4: Seite
A6: Vorbemerkungen | C6: 3
A10: Tabellen
A12: Themenbezogene Übersichten nach Trägern und Schuljahren | C12: 5
A14: 1. | B14: Schulen, Klassen und Schüler nach Schulformen | C14: 6
A15: 2. | B15: Schüler je Klasse nach Schulformen | C15: 7
A16: 3. | B16: Lehrer an berufsbildenden Schulen insgesamt | C16: 8
A17: 4. | B17: Vollzeitlehrereinheiten nach Schulformen | C17: 8
A18: 5. | B18: Schüler je Vollzeitlehrereinheiten nach Schulformen | C18: 9
A19: 6. | B19: Wöchentlich erteilte Unterrichtsstunden nach Schulformen | C19: 9
A20: 7. | B20: Wöchentlich erteilte Unterrichtsstunden je Klasse nach Schulformen | C20: 10
A21: 8. | B21: Wöchentlich erteilte Unterrichtsstunden je Schüler nach Schulformen | C21: 10
A22: 9. | B22: Schulen, Klassen, Schüler und Lehrer (Vollzeitlehrereinheiten) und
B23: wöchentlich erteilte Unterrichtsstunden nach Schulformen | C23: 11
A24: 10. | B24: Ausländische Schüler an Schulen insgesamt nach Staatsangehörigkeit | C24: 15
A25: 11. | B25: Ausländische Schüler an staatlichen Schulen nach Staatsangehörigkeit | C25: 16
A26: 12. | B26: Absolventen/Abgänger nach Schulformen | C26: 17
A27: 13. | B27: Absolventen/Abgänger aus berufsbildenden Schulen insgesamt nach Abschlussarten | C27: 17
A30: Übersichten zum Schuljahr 2025/26
A31: Stichtag: 5. November 2025 | C31: 19
A33: 1. | B33: Klassen und Schüler an berufsbildenden Schulen insgesamt nach Jahrgangsstufen,
B34: Schul- und Ausbildungsformen | C34: 20
A35: 2. | B35: Klassen und Schüler an staatlichen berufsbildenden Schulen nach Jahrgangsstufen,
B36: Schul- und Ausbildungsformen | C36: 21
A37: 3. | B37: Schüler an Berufsschulen insgesamt nach Jahrgangsstufen, Ausbildungsformen und
B38: Berufsfeldern | C38: 22
A39: 4. | B39: Schüler an staatlichen Berufsschulen nach Jahrgangsstufen, Ausbildungsformen und
B40: Berufsfeldern | C40: 23
A41: 5. | B41: Schüler an Berufsfachschulen insgesamt nach Jahrgangsstufen und Bildungsgängen | C41: 24
A42: 6. | B42: Schüler an staatlichen Berufsfachschulen nach Jahrgangsstufen und Bildungsgängen | C42: 25
A43: 7. | B43: Schüler an höheren Berufsfachschulen insgesamt nach Jahrgangsstufen und
B44: Bildungsgängen | C44: 26
A45: 8. | B45: Schüler an staatlichen höheren Berufsfachschulen nach Jahrgangsstufen und
B46: Bildungsgängen | C46: 27
A47: 9. | B47: Schüler an Fachoberschulen insgesamt nach Jahrgangsstufen und Bildungsgängen | C47: 28
A48: 10. | B48: Schüler an staatlichen Fachoberschulen nach Jahrgangsstufen und Bildungsgängen | C48: 28
A49: 11. | B49: Schüler an beruflichen Gymnasien nach Jahrgangsstufen und Bildungsgängen | C49: 29
A50: 12. | B50: Schüler an staatlichen beruflichen Gymnasien nach Jahrgangsstufen und Bildungsgängen | C50: 29
A53: 13. | B53: Schüler an Fachschulen insgesamt nach Jahrgangsstufen und Fachbereichen | C53: 30
...

Sheet VORBEMERK
A1: Vorbemerkungen
A3: Der vorliegende Bericht enthält die Ergebnisse der statistischen Erhebungen der Schuljahre 2020/21 bis 2025/26. Es handelt sich um Angaben zum Stichtag, der je nach Schuljahresbeginn im Oktober, November oder Dezember lag.
A5: Bei der Bezeichnung von Personengruppen kommt in der Regel die sprachlich maskuline Form zur Anwendung. Wenn nicht ausdrücklich anders vermerkt, sind darunter stets beide Geschlechter zu verstehen.
A7: Rechtsgrundlage für die Erhebungen bildet § 58 Abs. 1 bis 3 des Thüringer Schulgesetzes (ThürSchulG) in der Fassung der Bekanntmachung vom 30. April 2003 (GVBl. S. 238), zuletzt geändert durch Artikel 2 des Gesetzes vom 2. Juli 2024 (GVBl. S. 204, 209) in Verbindung mit der Thüringer Verordnung über die statistische Erhebung von personenbezogenen Daten im Kultusbereich vom 5. August 1994 (GVBl. S. 954), zuletzt geändert durch Verordnung vom 28. April 2025 (GVBl. S. 139, 173), dem Thüringer Gesetz über Schulen in freier Trägerschaft (ThürSchfTG) vom 20. Dezember 2010 (GVBl. S. 522), zuletzt geändert durch Gesetz vom 15. Dezember 2025 (GVBl. S. 283) sowie dem § 6 Abs. 1 des Thüringer Statistikgesetzes (ThürStatG) vom 21. Juli 1992 (GVBl. S. 368), zuletzt geändert durch Artikel 17 des Gesetzes vom 6. Juni 2018 (GVBl. S. 229, 264).
A9: Der Bericht wurde gemeinsam mit dem Thüringer Ministerium für Bildung, Wissenschaft und Kultur erarbeitet.
A12: Begriffliche Erläuterungen
A15: Berufsbildende Schule
A16: Die berufsbildende Schule ist in Schulformen gegliedert. An einer Schule (Verwaltungs-, Organisationseinheit) können mehrere Schulformen bestehen. Deshalb ergibt die Addition der Zahl der Schulen aller Schulformen nicht die Zahl der berufsbildenden Schulen insgesamt.
A18: Die Formen der berufsbildenden Schulen sind:
A20: Berufsschule
A21: Die Berufsschule führt die Schüler in Teilzeitunterricht im Rahmen der dualen Berufsausbildung gemeinsam mit der betrieblichen oder der außerbetrieblichen Ausbildung zu beruflichen Qualifikationen. Die Schüler erwerben mit dem Berufsschulabschluss einen dem Hauptschulabschluss gleichwertigen Abschluss. Eine abgeschlossene Berufsausbildung in einem anerkannten Ausbildungsberuf, die Erfüllung bestimmter Leistungsvoraussetzungen im Berufsschulabschluss sowie ausreichende Fremdsprachenkenntnisse führen zum Erwerb eines dem Realschulabschluss gleichwertigen Abschlusses. Schüler mit Realschulabschluss können mit dem Besuch der Berufsschule neben der beruflichen Qualifikation zusätzlich die Fachhochschulreife erwerben.
A23: Das Berufsvorbereitungsjahr in schulischer oder kooperativer Form ermöglicht jungen Menschen ohne Hauptschulabschluss bei Erfüllung bestimmter Leistungsvoraussetzungen den Erwerb eines dem Hauptschulabschluss gleichwertigen Abschlusses.
... A56: Abkürzungen
A58: B | B58: Behinderte
A59: BVJ | B59: Berufsvorbereitungsjahr
A60: Tz | B60: Teilzeitunterricht
A61: Vz | B61: Vollzeitunterricht

Sheet S5
A28: Themenbezogene Übersichten nach Trägern und Schuljahren

Sheet TAB1.01
A2: 1. Schulen, Klassen und Schüler nach Schulformen
A4: Schuljahr | B4: Träger | C4: Berufs- bildende Schule | D4: Davon an
D5: Berufs- schulen | E5: Berufs- fach- schulen | F5: höhere Berufs- fach- schulen | G5: Fach- ober- schulen | H5: beruflichen Gymnasien | I5: Fach- schulen | J5: berufs- bildenden Einrichtungen für Behinderte
A10: Schulen
A12: 2020/21 | B12: Insgesamt | C12: 98 | D12: 46 | E12: 62 | F12: 61 | G12: 21 | H12: 22 | I12: 39 | J12: 20
B13: staatl. Träger | C13: 37 | D13: 35 | E13: 34 | F13: 17 | G13: 19 | H13: 21 | I13: 16 | J13: 18
B14: freier Träger | C14: 61 | D14: 11 | E14: 28 | F14: 44 | G14: 2 | H14: 1 | I14: 23 | J14: 2
A16: 2021/22 | B16: Insgesamt | C16: 98 | D16: 46 | E16: 62 | F16: 62 | G16: 21 | H16: 22 | I16: 39 | J16: 19
B17: staatl. Träger | C17: 37 | D17: 35 | E17: 34 | F17: 17 | G17: 19 | H17: 21 | I17: 16 | J17: 17
B18: freier Träger | C18: 61 | D18: 11 | E18: 28 | F18: 45 | G18: 2 | H18: 1 | I18: 23 | J18: 2
A20: 2022/23 | B20: Insgesamt | C20: 96 | D20: 43 | E20: 61 | F20: 61 | G20: 21 | H20: 22 | I20: 39 | J20: 19
B21: staatl. Träger | C21: 37 | D21: 35 | E21: 34 | F21: 17 | G21: 19 | H21: 21 | I21: 16 | J21: 17
B22: freier Träger | C22: 59 | D22: 8 | E22: 27 | F22: 44 | G22: 2 | H22: 1 | I22: 23 | J22: 2
A24: 2023/24 | B24: Insgesamt | C24: 95 | D24: 43 | E24: 61 | F24: 61 | G24: 21 | H24: 22 | I24: 39 | J24: 19
B25: staatl. Träger | C25: 37 | D25: 36 | E25: 34 | F25: 17 | G25: 19 | H25: 21 | I25: 16 | J25: 17
B26: freier Träger | C26: 58 | D26: 7 | E26: 27 | F26: 44 | G26: 2 | H26: 1 | I26: 23 | J26: 2
A28: 2024/25 | B28: Insgesamt | C28: 95 | D28: 43 | E28: 66 | F28: 61 | G28: 21 | H28: 22 | I28: 39 | J28: 18
B29: staatl. Träger | C29: 37 | D29: 36 | E29: 34 | F29: 17 | G29: 19 | H29: 21 | I29: 16 | J29: 16
B30: freier Träger | C30: 58 | D30: 7 | E30: 32 | F30: 44 | G30: 2 | H30: 1 | I30: 23 | J30: 2
A32: 2025/26 | B32: Insgesamt | C32: 96 | D32: 44 | E32: 70 | F32: 62 | G32: 21 | H32: 22 | I32: 38 | J32: 18
B33: staatl. Träger | C33: 37 | D33: 36 | E33: 34 | F33: 17 | G33: 19 | H33: 21 | I33: 16 | J33: 15
B34: freier Träger | C34: 59 | D34: 8 | E34: 36 | F34: 45 | G34: 2 | H34: 1 | I34: 22 | J34: 3
A37: Klassen
A39: 2020/21 | B39: Insgesamt | C39: 2920 | D39: 1531 | E39: 239 | F39: 465 | G39: 80 | H39: 154 | I39: 261 | J39: 190
B40: staatl. Träger | C40: 2370 | D40: 1489 | E40: 163 | F40: 216 | G40: 73 | H40: 151 | I40: 140 | J40: 138
B41: freier Träger | C41: 550 | D41: 42 | E41: 76 | F41: 249 | G41: 7 | H41: 3 | I41: 121 | J41: 52
A43: 2021/22 | B43: Insgesamt | C43: 2951 | D43: 1522 | E43: 246 | F43: 477 | G43: 79 | H43: 158 | I43: 278 | J43: 191
B44: staatl. Träger | C44: 2365 | D44: 1478 | E44: 163 | F44: 215 | G44: 72 | H44: 155 | I44: 146 | J44: 136
B45: freier Träger | C45: 586 | D45: 44 | E45: 83 | F45: 262 | G45: 7 | H45: 3 | I45: 132 | J45: 55
A47: 2022/23 | B47: Insgesamt | C47: 2924 | D47: 1521 | E47: 242 | F47: 474 | G47: 79 | H47: 152 | I47: 274 | J47: 182
B48: staatl. Träger | C48: 2331 | D48: 1477 | E48: 161 | F48: 204 | G48: 72 | H48: 149 | I48: 140 | J48: 128
B49: freier Träger | C49: 593 | D49: 44 | E49: 81 | F49: 270 | G49: 7 | H49: 3 | I49: 134 | J49: 54
A51: 2023/24 | B51: Insgesamt | C51: 2942 | D51: 1533 | E51: 242 | F51: 486 | G51: 80 | H51: 150 | I51: 267 | J51: 184
B52: staatl. Träger | C52: 2340 | D52: 1490 | E52: 158 | F52: 210 | G52: 73 | H52: 147 | I52: 136 | J52: 126
B53: freier Träger | C53: 602 | D53: 43 | E53: 84 | F53: 276 | G53: 7 | H53: 3 | I53: 131 | J53: 58
A55: 2024/25 | B55: Insgesamt | C55: 2944 | D55: 1559 | E55: 254 | F55: 484 | G55: 79 | H55: 143 | I55: 240 | J55: 185
B56: staatl. Träger | C56: 2352 | D56: 1516 | E56: 168 | F56: 208 | G56: 71 | H56: 140 | I56: 124 | J56: 125
B57: freier Träger | C57: 592 | D57: 43 | E57: 86 | F57: 276 | G57: 8 | H57: 3 | I57: 116 | J57: 60
A59: 2025/26 | B59: Insgesamt | C59: 2957 | D59: 1565 | E59: 264 | F59: 492 | G59: 78 | H59: 149 | I59: 222 | J59: 187
B60: staatl. Träger | C60: 2344 | D60: 1519 | E60: 166 | F60: 204 | G60: 70 | H60: 146 | I60: 115 | J60: 124
...

Sheet TAB1.01n+02
A2: Noch: 1. Schulen, Klassen und Schüler nach Schulformen
A4: Schuljahr | B4: Träger | C4: Berufs- bildende Schule | D4: Davon an
D5: Berufs- schulen | E5: Berufs- fach- schulen | F5: höhere Berufs- fach- schulen | G5: Fach- ober- schulen | H5: beruflichen Gymnasien | I5: Fach- schulen | J5: berufs- bildenden Einrichtungen für Behinderte
A10: Schüler
A12: 2020/21 | B12: Insgesamt | C12: 49016 | D12: 26115 | E12: 4182 | F12: 8318 | G12: 1592 | H12: 3079 | I12: 4596 | J12: 1134
B13: staatl. Träger | C13: 39791 | D13: 25427 | E13: 2713 | F13: 3868 | G13: 1490 | H13: 3042 | I13: 2454 | J13: 797
B14: freier Träger | C14: 9225 | D14: 688 | E14: 1469 | F14: 4450 | G14: 102 | H14: 37 | I14: 2142 | J14: 337
A16: 2021/22 | B16: Insgesamt | C16: 49119 | D16: 26257 | E16: 4026 | F16: 8344 | G16: 1560 | H16: 3099 | I16: 4748 | J16: 1085
B17: staatl. Träger | C17: 39598 | D17: 25554 | E17: 2559 | F17: 3720 | G17: 1455 | H17: 3058 | I17: 2481 | J17: 771
B18: freier Träger | C18: 9521 | D18: 703 | E18: 1467 | F18: 4624 | G18: 105 | H18: 41 | I18: 2267 | J18: 314
A20: 2022/23 | B20: Insgesamt | C20: 48426 | D20: 26468 | E20: 3800 | F20: 7965 | G20: 1497 | H20: 3029 | I20: 4656 | J20: 1011
B21: staatl. Träger | C21: 38964 | D21: 25707 | E21: 2385 | F21: 3423 | G21: 1402 | H21: 2986 | I21: 2378 | J21: 683
B22: freier Träger | C22: 9462 | D22: 761 | E22: 1415 | F22: 4542 | G22: 95 | H22: 43 | I22: 2278 | J22: 328
A24: 2023/24 | B24: Insgesamt | C24: 48749 | D24: 27035 | E24: 3954 | F24: 7970 | G24: 1469 | H24: 2902 | I24: 4371 | J24: 1048
B25: staatl. Träger | C25: 39397 | D25: 26287 | E25: 2474 | F25: 3480 | G25: 1384 | H25: 2861 | I25: 2212 | J25: 699
B26: freier Träger | C26: 9352 | D26: 748 | E26: 1480 | F26: 4490 | G26: 85 | H26: 41 | I26: 2159 | J26: 349
A28: 2024/25 | B28: Insgesamt | C28: 48907 | D28: 27375 | E28: 4257 | F28: 8086 | G28: 1510 | H28: 2773 | I28: 3847 | J28: 1059
B29: staatl. Träger | C29: 39489 | D29: 26630 | E29: 2661 | F29: 3471 | G29: 1409 | H29: 2728 | I29: 1892 | J29: 698
B30: freier Träger | C30: 9418 | D30: 745 | E30: 1596 | F30: 4615 | G30: 101 | H30: 45 | I30: 1955 | J30: 361
A32: 2025/26 | B32: Insgesamt | C32: 49765 | D32: 27696 | E32: 4635 | F32: 8519 | G32: 1478 | H32: 2876 | I32: 3518 | J32: 1043
B33: staatl. Träger | C33: 39940 | D33: 26917 | E33: 2830 | F33: 3510 | G33: 1377 | H33: 2839 | I33: 1768 | J33: 699
B34: freier Träger | C34: 9825 | D34: 779 | E34: 1805 | F34: 5009 | G34: 101 | H34: 37 | I34: 1750 | J34: 344
A37: 2. Schüler je Klasse nach Schulformen
A39: Schuljahr | B39: Träger | C39: Berufs- bildende Schule | D39: Davon an
D40: Berufs- schulen | E40: Berufs- fach- schulen | F40: höhere Berufs- fach- schulen | G40: Fach- ober- schulen | H40: beruflichen Gymnasien | I40: Fach- schulen | J40: berufs- bildenden Einrichtungen für Behinderte
A45: 2020/21 | B45: Insgesamt | C45: 16.786301 | D45: 17.057479 | E45: 17.497908 | F45: 17.888172 | G45: 19.9 | H45: 19.993506 | I45: 17.609195 | J45: 5.9684211
B46: staatl. Träger | C46: 16.789451 | D46: 17.076561 | E46: 16.644172 | F46: 17.907407 | G46: 20.410959 | H46: 20.145695 | I46: 17.528571 | J46: 5.7753623
B47: freier Träger | C47: 16.772727 | D47: 16.380952 | E47: 19.328947 | F47: 17.871486 | G47: 14.571429 | H47: 12.333333 | I47: 17.702479 | J47: 6.4807692
A49: 2021/22 | B49: Insgesamt | C49: 16.644866 | D49: 17.251643 | E49: 16.365854 | F49: 17.492662 | G49: 19.746835 | H49: 19.613924 | I49: 17.079137 | J49: 5.6806283
B50: staatl. Träger | C50: 16.74334 | D50: 17.289581 | E50: 15.699387 | F50: 17.302326 | G50: 20.208333 | H50: 19.729032 | I50: 16.993151 | J50: 5.6691176
B51: freier Träger | C51: 16.24744 | D51: 15.977273 | E51: 17.674699 | F51: 17.648855 | G51: 15 | H51: 13.666667 | I51: 17.174242 | J51: 5.7090909
A53: 2022/23 | B53: Insgesamt | C53: 16.56156 | D53: 17.401709 | E53: 15.702479 | F53: 16.803797 | G53: 18.949367 | H53: 19.927632 | I53: 16.992701 | J53: 5.5549451
B54: staatl. Träger | C54: 16.715573 | D54: 17.404875 | E54: 14.813665 | F54: 16.779412 | G54: 19.472222 | H54: 20.040268 | I54: 16.985714 | J54: 5.3359375
B55: freier Träger | C55: 15.956155 | D55: 17.295455 | E55: 17.469136 | F55: 16.822222 | G55: 13.571429 | H55: 14.333333 | I55: 17 | J55: 6.0740741
A57: 2023/24 | B57: Insgesamt | C57: 16.57002 | D57: 17.635356 | E57: 16.338843 | F57: 16.399177 | G57: 18.3625 | H57: 19.346667 | I57: 16.370787 | J57: 5.6956522
B58: staatl. Träger | C58: 16.836325 | D58: 17.642282 | E58: 15.658228 | F58: 16.571429 | G58: 18.958904 | H58: 19.462585 | I58: 16.264706 | J58: 5.547619
B59: freier Träger | C59: 15.534884 | D59: 17.395349 | E59: 17.619048 | F59: 16.268116 | G59: 12.142857 | H59: 13.666667 | I59: 16.480916 | J59: 6.0172414
A61: 2024/25 | B61: Insgesamt | C61: =C28/'TAB1.01'!C55 -> 16.612432 | D61: =D28/'TAB1.01'!D55 -> 17.559333 | E61: =E28/'TAB1.01'!E55 -> 16.759843 | F61: =F28/'TAB1.01'!F55 -> 16.706612 | G61: =G28/'TAB1.01'!G55 -> 19.113924 | H61: =H28/'TAB1.01'!H55 -> 19.391608 | I61: =I28/'TAB1.01'!I55 -> 16.029167 | J61: =J28/'TAB1.01'!J55 -> 5.7243243
B62: staatl. Träger | C62: =C29/'TAB1.01'!C56 -> 16.789541 | D62: =D29/'TAB1.01'!D56 -> 17.565963 | E62: =E29/'TAB1.01'!E56 -> 15.839286 | F62: =F29/'TAB1.01'!F56 -> 16.6875 | G62: =G29/'TAB1.01'!G56 -> 19.84507 | H62: =H29/'TAB1.01'!H56 -> 19.485714 | I62: =I29/'TAB1.01'!I56 -> 15.258065 | J62: =J29/'TAB1.01'!J56 -> 5.584
B63: freier Träger | C63: =C30/'TAB1.01'!C57 -> 15.908784 | D63: =D30/'TAB1.01'!D57 -> 17.325581 | E63: =E30/'TAB1.01'!E57 -> 18.55814 | F63: =F30/'TAB1.01'!F57 -> 16.721014 | G63: =G30/'TAB1.01'!G57 -> 12.625 | H63: =H30/'TAB1.01'!H57 -> 15 | I63: =I30/'TAB1.01'!I57 -> 16.853448 | J63: =J30/'TAB1.01'!J57 -> 6.0166667
...

Sheet TAB1.03+04
A2: 3. Lehrer an berufsbildenden Schulen insgesamt
A4: Schuljahr | B4: Träger | C4: Vollzeitbeschäftigte in Personen | H4: Teilzeitbeschäftigte in Personen | M4: Vollzeitbeschäftigte und in Vollzeit umgerechnete Teilzeitbeschäftigte
A9: 2020/21 | B9: Insgesamt | E9: 2342 | I9: 862 | M9: 2962 | N9: 2962
B10: staatl. Träger | E10: 2056 | I10: 527 | M10: 2482 | N10: 2482
B11: freier Träger | E11: 286 | I11: 335 | M11: 480 | N11: 480
A13: 2021/22 | B13: Insgesamt | E13: 2465 | I13: 742 | M13: 2969 | N13: 2969
B14: staatl. Träger | E14: 2146 | I14: 387 | M14: 2438 | N14: 2438
B15: freier Träger | E15: 319 | I15: 355 | M15: 531 | N15: 531
A17: 2022/23 | B17: Insgesamt | E17: 2368 | I17: 839 | M17: 2972 | N17: 2972
B18: staatl. Träger | E18: 2032 | I18: 473 | M18: 2408 | N18: 2408
B19: freier Träger | E19: 336 | I19: 366 | M19: 564 | N19: 564
A21: 2023/24 | B21: Insgesamt | E21: 2399 | I21: 842 | M21: 2923
B22: staatl. Träger | E22: 2086 | I22: 468 | M22: 2382
B23: freier Träger | E23: 313 | I23: 374 | M23: 541
A25: 2024/25 | B25: Insgesamt | E25: 2419 | I25: 843 | M25: 2954
B26: staatl. Träger | E26: 2084 | I26: 469 | M26: 2379
B27: freier Träger | E27: 335 | I27: 374 | M27: 575
A29: 2025/26 | B29: Insgesamt | E29: 2423 | I29: 829 | M29: 2958
B30: staatl. Träger | E30: 2054 | I30: 479 | M30: 2361
B31: freier Träger | E31: 369 | I31: 350 | M31: 597
A34: 4. Vollzeitlehrereinheiten nach Schulformen
A36: Schuljahr | B36: Träger | C36: Berufs- bildende Schule | E36: Davon
E37: Berufs- schulen | G37: Berufs- fach- schule | H37: höhere Berufs- fach- schulen | I37: Fach- ober- schule | K37: beruf- lichen Gymnasien | M37: Fach- schulen | O37: berufs- bildenden Einrichtungen für Behinderte
A42: 2020/21 | B42: Insgesamt | C42: 3076 | E42: 1142 | G42: 424 | H42: 610 | I42: 131 | K42: 351 | M42: 306 | O42: 112
B43: staatl. Träger | C43: 2495 | E43: 1100 | G43: 329 | H43: 339 | I43: 123 | K43: 344 | M43: 181 | O43: 79
B44: freier Träger | C44: 581 | E44: 42 | G44: 95 | H44: 271 | I44: 8 | K44: 7 | M44: 125 | O44: 33
A46: 2021/22 | B46: Insgesamt | C46: 3061 | E46: 1127 | G46: 420 | H46: 629 | I46: 123 | K46: 345 | M46: 307 | O46: 110
B47: staatl. Träger | C47: 2443 | E47: 1083 | G47: 320 | H47: 331 | I47: 116 | K47: 338 | M47: 181 | O47: 74
B48: freier Träger | C48: 618 | E48: 44 | G48: 100 | H48: 298 | I48: 7 | K48: 7 | M48: 126 | O48: 36
A50: 2022/23 | B50: Insgesamt | C50: 3046 | E50: 1140 | G50: 407 | H50: 617 | I50: 131 | K50: 336 | M50: 308 | O50: 107
B51: staatl. Träger | C51: 2415 | E51: 1093 | G51: 307 | H51: 317 | I51: 123 | K51: 329 | M51: 176 | O51: 70
B52: freier Träger | C52: 631 | E52: 47 | G52: 100 | H52: 300 | I52: 8 | K52: 7 | M52: 132 | O52: 37
A54: 2023/24 | B54: Insgesamt | C54: 3006 | E54: 1134 | G54: 398 | H54: 593 | I54: 125 | K54: 332 | M54: 317 | O54: 107
B55: staatl. Träger | C55: 2398 | E55: 1096 | G55: 299 | H55: 310 | I55: 118 | K55: 325 | M55: 183 | O55: 67
B56: freier Träger | C56: 608 | E56: 38 | G56: 99 | H56: 283 | I56: 7 | K56: 7 | M56: 134 | O56: 40
A58: 2024/25 | B58: Insgesamt | C58: 3023 | E58: 1134 | G58: 425 | H58: 602 | I58: 126 | K58: 325 | M58: 299 | O58: 112
B59: staatl. Träger | C59: 2393 | E59: 1095 | G59: 313 | H59: 308 | I59: 119 | K59: 319 | M59: 172 | O59: 67
B60: freier Träger | C60: 630 | E60: 39 | G60: 112 | H60: 294 | I60: 7 | K60: 6 | M60: 127 | O60: 45
A62: 2025/26 | B62: Insgesamt | C62: 3044 | E62: 1155 | G62: 430 | H62: 611 | I62: 121 | K62: 332 | M62: 286 | O62: =SUM(O63:O64) -> 109
B63: staatl. Träger | C63: 2392 | E63: 1114 | G63: 305 | H63: 294 | I63: 115 | K63: 326 | M63: 170 | O63: 68
...

Sheet TAB1.05+06
A2: 5. Schüler je Vollzeitlehrereinheiten nach Schulformen
A4: Schuljahr | B4: Träger | C4: Berufs- bildende Schule | E4: Davon
E5: Berufs- schulen | G5: Berufs- fach- schule | H5: höhere Berufs- fach- schulen | J5: Fach- ober- schule | L5: beruf- lichen Gymnasien | N5: Fach- schulen | P5: berufs- bildenden Einrichtungen für Behinderte
A10: 2020/21 | B10: Insgesamt | C10: 15.93498 | E10: 22.867776 | G10: 9.8632075 | H10: 13.636066 | J10: 12.152672 | L10: 8.7720798 | N10: 15.019608 | P10: 10.125
B11: staatl. Träger | C11: 15.948297 | E11: 23.115455 | G11: 8.2462006 | H11: 11.410029 | J11: 12.113821 | L11: 8.8430233 | N11: 13.558011 | P11: 10.088608
B12: freier Träger | C12: 15.877797 | E12: 16.380952 | G12: 15.463158 | H12: 16.420664 | J12: 12.75 | L12: 5.2857143 | N12: 17.136 | P12: 10.212121
A14: 2021/22 | B14: Insgesamt | C14: 16.046717 | E14: 23.298137 | G14: 9.5857143 | H14: 13.265501 | J14: 12.682927 | L14: 8.9826087 | N14: 15.465798 | P14: 9.8636364
B15: staatl. Träger | C15: 16.20876 | E15: 23.595568 | G15: 7.996875 | H15: 11.238671 | J15: 12.543103 | L15: 9.0473373 | N15: 13.707182 | P15: 10.418919
B16: freier Träger | C16: 15.406149 | E16: 15.977273 | G16: 14.67 | H16: 15.516779 | J16: 15 | L16: 5.8571429 | N16: 17.992063 | P16: 8.7222222
A18: 2022/23 | B18: Insgesamt | C18: 15.898227 | E18: 23.217544 | G18: 9.3366093 | H18: 12.909238 | J18: 11.427481 | L18: 9.014881 | N18: 15.116883 | P18: 9.4485981
B19: staatl. Träger | C19: 16.134161 | E19: 23.519671 | G19: 7.7687296 | H19: 10.798107 | J19: 11.398374 | L19: 9.0759878 | N19: 13.511364 | P19: 9.7571429
B20: freier Träger | C20: 14.995246 | E20: 16.191489 | G20: 14.15 | H20: 15.14 | J20: 11.875 | L20: 6.1428571 | N20: 17.257576 | P20: 8.8648649
A22: 2023/24 | B22: Insgesamt | C22: 16.217232 | E22: 23.840388 | G22: 9.9346734 | H22: 13.440135 | J22: 11.752 | L22: 8.7409639 | N22: 13.788644 | P22: 9.7943925
B23: staatl. Träger | C23: 16.429108 | E23: 23.984489 | G23: 8.2742475 | H23: 11.225806 | J23: 11.728814 | L23: 8.8030769 | N23: 12.087432 | P23: 10.432836
B24: freier Träger | C24: 15.381579 | E24: 19.684211 | G24: 14.949495 | H24: 15.865724 | J24: 12.142857 | L24: 5.8571429 | N24: 16.11194 | P24: 8.725
A26: 2024/25 | B26: Insgesamt | C26: 16.1783 | E26: 24.140212 | G26: 10.016471 | H26: 13.431894 | J26: 11.984127 | L26: 8.5323077 | N26: 12.866221 | P26: 9.4553571
B27: staatl. Träger | C27: 16.50188 | E27: 24.319635 | G27: 8.5015974 | H27: 11.269481 | J27: 11.840336 | L27: 8.5517241 | N27: 11 | P27: 10.41791
B28: freier Träger | C28: 14.949206 | E28: 19.102564 | G28: 14.25 | H28: 15.697279 | J28: 14.428571 | L28: 7.5 | N28: 15.393701 | P28: 8.0222222
A30: 2025/26 | B30: Insgesamt | C30: 16.348555 | E30: 23.979221 | G30: 10.77907 | H30: 13.942717 | J30: 12.214876 | L30: 8.6626506 | N30: 12.300699 | P30: 9.5688073
B31: staatl. Träger | C31: 16.697324 | E31: 24.162478 | G31: 9.2786885 | H31: 11.938776 | J31: 11.973913 | L31: 8.708589 | N31: 10.4 | P31: 10.279412
B32: freier Träger | C32: 15.069018 | E32: 19 | G32: 14.44 | H32: 15.801262 | J32: 16.833333 | L32: 6.1666667 | N32: 15.086207 | P32: 8.3902439
A35: 6. Wöchentlich erteilte Unterrichtsstunden nach Schulformen
A37: Schuljahr | B37: Träger | C37: Berufs- bildende Schule | E37: Davon
E38: Berufs- schulen | G38: Berufs- fach- schule | H38: höhere Berufs- fach- schulen | J38: Fach- ober- schule | L38: beruf- lichen Gymnasien | N38: Fach- schulen | P38: berufs- bildenden Einrichtungen für Behinderte
A43: 2020/21 | B43: Insgesamt | C43: 59002 | E43: 21484 | G43: 8568 | H43: 11884 | J43: 2399 | L43: 6387 | N43: 6043 | P43: 2237
B44: staatl. Träger | C44: 46708 | E44: 20648 | G44: 6475 | H44: 6208 | J44: 2239 | L44: 6257 | N44: 3358 | P44: 1523
B45: freier Träger | C45: 12294 | E45: 836 | G45: 2093 | H45: 5676 | J45: 160 | L45: 130 | N45: 2685 | P45: 714
A47: 2021/22 | B47: Insgesamt | C47: 59472 | E47: 21643 | G47: 8663 | H47: 12264 | J47: 2292 | L47: 6353 | N47: 6079 | P47: 2178
B48: staatl. Träger | C48: 46134 | E48: 20773 | G48: 6384 | H48: 5892 | J48: 2147 | L48: 6216 | N48: 3303 | P48: 1419
B49: freier Träger | C49: 13338 | E49: 870 | G49: 2279 | H49: 6372 | J49: 145 | L49: 137 | N49: 2776 | P49: 759
A51: 2022/23 | B51: Insgesamt | C51: 58831 | E51: 21757 | G51: 8211 | H51: 12143 | J51: 2349 | L51: 6141 | N51: 6102 | P51: 2128
B52: staatl. Träger | C52: 45058 | E52: 20849 | G52: 5996 | H52: 5524 | J52: 2188 | L52: 6005 | N52: 3155 | P52: 1341
B53: freier Träger | C53: 13773 | E53: 908 | G53: 2215 | H53: 6619 | J53: 161 | L53: 136 | N53: 2947 | P53: 787
A55: 2023/24 | B55: Insgesamt | C55: 58662 | E55: 21937 | G55: 8072 | H55: 11840 | J55: 2292 | L55: 6051 | N55: 6322 | P55: 2148
B56: staatl. Träger | C56: 44895 | E56: 21014 | G56: 5880 | H56: 5405 | J56: 2130 | L56: 5910 | N56: 3256 | P56: 1300
B57: freier Träger | C57: 13767 | E57: 923 | G57: 2192 | H57: 6435 | J57: 162 | L57: 141 | N57: 3066 | P57: 848
A59: 2024/25 | B59: Insgesamt | C59: 57598 | E59: 21532 | G59: 8299 | H59: 11546 | J59: 2326 | L59: 5884 | N59: 5811 | P59: 2200
B60: staatl. Träger | C60: 44022 | E60: 20698 | G60: 5888 | H60: 5227 | J60: 2176 | L60: 5769 | N60: 2984 | P60: 1280
B61: freier Träger | C61: 13576 | E61: 834 | G61: 2411 | H61: 6319 | J61: 150 | L61: 115 | N61: 2827 | P61: 920
A63: 2025/26 | B63: Insgesamt | C63: 57020 | E63: 21910 | G63: 8227 | H63: 11239 | J63: 2235 | L63: 5890 | N63: 5420 | P63: 2099
...

Sheet TAB1.07+08
A2: 7. Wöchentlich erteilte Unterrichtsstunden je Klasse nach Schulformen
A4: Schuljahr | B4: Träger | C4: Berufs- bildende Schule | D4: Davon
D5: Berufs- schulen | E5: Berufs- fach- schulen | F5: höhere Berufs- fach- schulen | G5: Fach- ober- schule | I5: beruf- lichen Gymnasien | J5: Fach- schulen | K5: berufs- bildenden Einrichtungen für Behinderte
A10: 2020/21 | B10: Insgesamt | C10: 20.206164 | D10: 14.032658 | E10: 35.849372 | F10: 25.556989 | G10: 29.9875 | I10: 41.474026 | J10: 23.153257 | K10: 11.773684
B11: staatl. Träger | C11: 19.708017 | D11: 13.867025 | E11: 39.723926 | F11: 28.740741 | G11: 30.671233 | I11: 41.437086 | J11: 23.985714 | K11: 11.036232
B12: freier Träger | C12: 22.352727 | D12: 19.904762 | E12: 27.539474 | F12: 22.795181 | G12: 22.857143 | I12: 43.333333 | J12: 22.190083 | K12: 13.730769
A14: 2021/22 | B14: Insgesamt | C14: 20.153168 | D14: 14.220105 | E14: 35.215447 | F14: 25.710692 | G14: 29.012658 | I14: 40.208861 | J14: 21.866906 | K14: 11.403141
B15: staatl. Träger | C15: 19.506977 | D15: 14.054804 | E15: 39.165644 | F15: 27.404651 | G15: 29.819444 | I15: 40.103226 | J15: 22.623288 | K15: 10.433824
B16: freier Träger | C16: 22.761092 | D16: 19.772727 | E16: 27.457831 | F16: 24.320611 | G16: 20.714286 | I16: 45.666667 | J16: 21.030303 | K16: 13.8
A18: 2022/23 | B18: Insgesamt | C18: 20.120041 | D18: 14.304405 | E18: 33.929752 | F18: 25.618143 | G18: 29.734177 | I18: 40.401316 | J18: 22.270073 | K18: 11.692308
B19: staatl. Träger | C19: 19.329901 | D19: 14.115775 | E19: 37.242236 | F19: 27.078431 | G19: 30.388889 | I19: 40.302013 | J19: 22.535714 | K19: 10.476562
B20: freier Träger | C20: 23.22597 | D20: 20.636364 | E20: 27.345679 | F20: 24.514815 | G20: 23 | I20: 45.333333 | J20: 21.992537 | K20: 14.574074
A22: 2023/24 | B22: Insgesamt | C22: 19.939497 | D22: 14.30985 | E22: 33.355372 | F22: 24.36214 | G22: 28.65 | I22: 40.34 | J22: 23.677903 | K22: 11.673913
B23: staatl. Träger | C23: 19.185897 | D23: 14.103356 | E23: 37.21519 | F23: 25.738095 | G23: 29.178082 | I23: 40.204082 | J23: 23.941176 | K23: 10.31746
B24: freier Träger | C24: 22.868771 | D24: 21.465116 | E24: 26.095238 | F24: 23.315217 | G24: 23.142857 | I24: 47 | J24: 23.40458 | K24: 14.62069
A26: 2024/25 | B26: Insgesamt | C26: 19.564538 | D26: 13.811418 | E26: 32.673228 | F26: 23.855372 | G26: 29.443038 | I26: 41.146853 | J26: 24.2125 | K26: 11.891892
B27: staatl. Träger | C27: 18.716837 | D27: 13.653034 | E27: 35.047619 | F27: 25.129808 | G27: 30.647887 | I27: 41.207143 | J27: 24.064516 | K27: 10.24
B28: freier Träger | C28: 22.932432 | D28: 19.395349 | E28: 28.034884 | F28: 22.894928 | G28: 18.75 | I28: 38.333333 | J28: 24.37069 | K28: 15.333333
A30: 2025/26 | B30: Insgesamt | C30: 19.283057 | D30: 14 | E30: 31.162879 | F30: 22.843496 | G30: 28.653846 | I30: 39.530201 | J30: 24.414414 | K30: 11.224599
B31: staatl. Träger | C31: 18.734642 | D31: 13.872943 | E31: 34.415663 | F31: 24.446078 | G31: 30.128571 | I31: 39.458904 | J31: 26.043478 | K31: 10.290323
B32: freier Träger | C32: 21.380098 | D32: 18.195652 | E32: 25.653061 | F32: 21.708333 | G32: 15.75 | I32: 43 | J32: 22.663551 | K32: 13.063492
A35: 8. Wöchentlich erteilte Unterrichtsstunden je Schüler nach Schulformen
A37: Schuljahr | B37: Träger | C37: Berufs- bildende Schule | D37: Davon
D38: Berufs- schulen | E38: Berufs- fach- schulen | F38: höhere Berufs- fach- schulen | G38: Fach- ober- schule | I38: beruf- lichen Gymnasien | J38: Fach- schulen | K38: berufs- bildenden Einrichtungen für Behinderte
A43: 2020/21 | B43: Insgesamt | C43: 1.2037294 | D43: 0.82266896 | E43: 2.0487805 | F43: 1.4287088 | G43: 1.5069095 | I43: 2.0743748 | J43: 1.314839 | K43: 1.9726631
B44: staatl. Träger | C44: 1.1738333 | D44: 0.81205018 | E44: 2.3866568 | F44: 1.6049638 | G44: 1.5026846 | I44: 2.0568705 | J44: 1.3683782 | K44: 1.9109159
B45: freier Träger | C45: 1.3326829 | D45: 1.2151163 | E45: 1.4247788 | F45: 1.2755056 | G45: 1.5686275 | I45: 3.5135135 | J45: 1.2535014 | K45: 2.1186944
A47: 2021/22 | B47: Insgesamt | C47: 1.2107738 | D47: 0.82427543 | E47: 2.1517635 | F47: 1.4697987 | G47: 1.4692308 | I47: 2.0500161 | J47: 1.2803286 | K47: 2.0073733
B48: staatl. Träger | C48: 1.1650588 | D48: 0.812906 | E48: 2.4947245 | F48: 1.583871 | G48: 1.4756014 | I48: 2.0327011 | J48: 1.331318 | K48: 1.8404669
B49: freier Träger | C49: 1.4009033 | D49: 1.2375533 | E49: 1.5535106 | F49: 1.3780277 | G49: 1.3809524 | I49: 3.3414634 | J49: 1.2245258 | K49: 2.4171975
A51: 2022/23 | B51: Insgesamt | C51: 1.2148639 | D51: 0.82201149 | E51: 2.1607895 | F51: 1.5245449 | G51: 1.5691383 | I51: 2.0274018 | J51: 1.310567 | K51: 2.1048467
B52: staatl. Träger | C52: 1.1564008 | D52: 0.81102423 | E52: 2.5140461 | F52: 1.6137891 | G52: 1.5606277 | I52: 2.0110516 | J52: 1.3267452 | K52: 1.9633968
B53: freier Träger | C53: 1.4556119 | D53: 1.1931669 | E53: 1.565371 | F53: 1.4572875 | G53: 1.6947368 | I53: 3.1627907 | J53: 1.2936787 | K53: 2.3993902
A55: 2023/24 | B55: Insgesamt | C55: 1.2033478 | D55: 0.81142963 | E55: 2.041477 | F55: 1.4855709 | G55: 1.5602451 | I55: 2.0851137 | J55: 1.4463509 | K55: 2.0496183
B56: staatl. Träger | C56: 1.1395538 | D56: 0.79940655 | E56: 2.3767179 | F56: 1.5531609 | G56: 1.5390173 | I56: 2.0657113 | J56: 1.4719711 | K56: 1.8597997
B57: freier Träger | C57: 1.4720915 | D57: 1.2339572 | E57: 1.4810811 | F57: 1.4331849 | G57: 1.9058824 | I57: 3.4390244 | J57: 1.4201019 | K57: 2.4297994
A59: 2024/25 | B59: Insgesamt | C59: 1.1777046 | D59: 0.78655708 | E59: 1.9494949 | F59: 1.4279001 | G59: 1.5403974 | I59: 2.1218897 | J59: 1.5105277 | K59: 2.0774315
B60: staatl. Träger | C60: 1.1147915 | D60: 0.77724371 | E60: 2.212702 | F60: 1.5059061 | G60: 1.5443577 | I60: 2.1147361 | J60: 1.577167 | K60: 1.8338109
B61: freier Träger | C61: 1.441495 | D61: 1.1194631 | E61: 1.5106516 | F61: 1.3692308 | G61: 1.4851485 | I61: 2.5555556 | J61: 1.4460358 | K61: 2.5484765
A63: 2025/26 | B63: Insgesamt | C63: 1.1457852 | D63: 0.79108897 | E63: 1.774973 | F63: 1.3192863 | G63: 1.5121786 | I63: 2.0479833 | J63: 1.5406481 | K63: 2.012464
...

Sheet TAB1.09
A2: 9. Schulen, Klassen, Schüler, Lehrer (Vollzeitlehrereinheiten) und
A3: wöchentlich erteilte Unterrichtsstunden nach Schulformen
A5: Schuljahr | B5: Träger | C5: Schulen | D5: Klassen | E5: Schüler | F5: Schüler je Klasse | G5: Vollzeit- lehrer- einheiten | I5: Schüler je Vollzeit- lehrer- einheit | K5: Wöchentlich erteilte Unterrichtsstunden
K7: Stunden | M7: je Klasse | O7: je Schüler
A10: Berufsbildende Schulen insgesamt
A12: 2020/21 | B12: Insgesamt | C12: 98 | D12: 2920 | E12: 49016 | F12: 16.786301 | G12: 3076 | I12: 15.93498 | K12: 59002 | M12: 20.206164 | O12: 1.2037294
B13: staatl. Träger | C13: 37 | D13: 2370 | E13: 39791 | F13: 16.789451 | G13: 2495 | I13: 15.948297 | K13: 46708 | M13: 19.708017 | O13: 1.1738333
B14: freier Träger | C14: 61 | D14: 550 | E14: 9225 | F14: 16.772727 | G14: 581 | I14: 15.877797 | K14: 12294 | M14: 22.352727 | O14: 1.3326829
A16: 2021/22 | B16: Insgesamt | C16: 98 | D16: 2951 | E16: 49119 | F16: 16.644866 | G16: 3061 | I16: 16.046717 | K16: 59472 | M16: 20.153168 | O16: 1.2107738
B17: staatl. Träger | C17: 37 | D17: 2365 | E17: 39598 | F17: 16.74334 | G17: 2443 | I17: 16.20876 | K17: 46134 | M17: 19.506977 | O17: 1.1650588
B18: freier Träger | C18: 61 | D18: 586 | E18: 9521 | F18: 16.24744 | G18: 618 | I18: 15.406149 | K18: 13338 | M18: 22.761092 | O18: 1.4009033
A20: 2022/23 | B20: Insgesamt | C20: 96 | D20: 2924 | E20: 48426 | F20: 16.56156 | G20: 3046 | I20: 15.898227 | K20: 58831 | M20: 20.120041 | O20: 1.2148639
B21: staatl. Träger | C21: 37 | D21: 2331 | E21: 38964 | F21: 16.715573 | G21: 2415 | I21: 16.134161 | K21: 45058 | M21: 19.329901 | O21: 1.1564008
B22: freier Träger | C22: 59 | D22: 593 | E22: 9462 | F22: 15.956155 | G22: 631 | I22: 14.995246 | K22: 13773 | M22: 23.22597 | O22: 1.4556119
A24: 2023/24 | B24: Insgesamt | C24: 95 | D24: 2942 | E24: 48749 | F24: 16.57002 | G24: 3006 | I24: 16.217232 | K24: 58662 | M24: 19.939497 | O24: 1.2033478
B25: staatl. Träger | C25: 37 | D25: 2340 | E25: 39397 | F25: 16.836325 | G25: 2398 | I25: 16.429108 | K25: 44895 | M25: 19.185897 | O25: 1.1395538
B26: freier Träger | C26: 58 | D26: 602 | E26: 9352 | F26: 15.534884 | G26: 608 | I26: 15.381579 | K26: 13767 | M26: 22.868771 | O26: 1.4720915
A28: 2024/25 | B28: Insgesamt | C28: 95 | D28: 2944 | E28: 48907 | F28: 16.612432 | G28: 3023 | I28: 16.1783 | K28: 57598 | M28: 19.564538 | O28: 1.1777046
B29: staatl. Träger | C29: 37 | D29: 2352 | E29: 39489 | F29: 16.789541 | G29: 2393 | I29: 16.50188 | K29: 44022 | M29: 18.716837 | O29: 1.1147915
B30: freier Träger | C30: 58 | D30: 592 | E30: 9418 | F30: 15.908784 | G30: 630 | I30: 14.949206 | K30: 13576 | M30: 22.932432 | O30: 1.441495
A32: 2025/26 | B32: Insgesamt | C32: 96 | D32: 2957 | E32: 49765 | F32: 16.829557 | G32: 3044 | I32: 16.348555 | K32: 57020 | M32: 19.283057 | O32: 1.1457852
B33: staatl. Träger | C33: 37 | D33: 2344 | E33: 39940 | F33: 17.039249 | G33: 2392 | I33: 16.697324 | K33: 43914 | M33: 18.734642 | O33: 1.0994992
B34: freier Träger | C34: 59 | D34: 613 | E34: 9825 | F34: 16.027732 | G34: 652 | I34: 15.069018 | K34: 13106 | M34: 21.380098 | O34: 1.333944
A37: Berufsschule
A39: 2020/21 | B39: Insgesamt | C39: 46 | D39: 1531 | E39: 26115 | F39: 17.057479 | G39: 1142 | I39: 22.867776 | K39: 21484 | M39: 14.032658 | O39: 0.82266896
B40: staatl. Träger | C40: 35 | D40: 1489 | E40: 25427 | F40: 17.076561 | G40: 1100 | I40: 23.115455 | K40: 20648 | M40: 13.867025 | O40: 0.81205018
B41: freier Träger | C41: 11 | D41: 42 | E41: 688 | F41: 16.380952 | G41: 42 | I41: 16.380952 | K41: 836 | M41: 19.904762 | O41: 1.2151163
A43: 2021/22 | B43: Insgesamt | C43: 46 | D43: 1522 | E43: 26257 | F43: 17.251643 | G43: 1127 | I43: 23.298137 | K43: 21643 | M43: 14.220105 | O43: 0.82427543
B44: staatl. Träger | C44: 35 | D44: 1478 | E44: 25554 | F44: 17.289581 | G44: 1083 | I44: 23.595568 | K44: 20773 | M44: 14.054804 | O44: 0.812906
B45: freier Träger | C45: 11 | D45: 44 | E45: 703 | F45: 15.977273 | G45: 44 | I45: 15.977273 | K45: 870 | M45: 19.772727 | O45: 1.2375533
A47: 2022/23 | B47: Insgesamt | C47: 43 | D47: 1521 | E47: 26468 | F47: 17.401709 | G47: 1140 | I47: 23.217544 | K47: 21757 | M47: 14.304405 | O47: 0.82201149
B48: staatl. Träger | C48: 35 | D48: 1477 | E48: 25707 | F48: 17.404875 | G48: 1093 | I48: 23.519671 | K48: 20849 | M48: 14.115775 | O48: 0.81102423
B49: freier Träger | C49: 8 | D49: 44 | E49: 761 | F49: 17.295455 | G49: 47 | I49: 16.191489 | K49: 908 | M49: 20.636364 | O49: 1.1931669
A51: 2023/24 | B51: Insgesamt | C51: 43 | D51: 1533 | E51: 27035 | F51: 17.635356 | G51: 1134 | I51: 23.840388 | K51: 21937 | M51: 14.30985 | O51: 0.81142963
B52: staatl. Träger | C52: 36 | D52: 1490 | E52: 26287 | F52: 17.642282 | G52: 1096 | I52: 23.984489 | K52: 21014 | M52: 14.103356 | O52: 0.79940655
B53: freier Träger | C53: 7 | D53: 43 | E53: 748 | F53: 17.395349 | G53: 38 | I53: 19.684211 | K53: 923 | M53: 21.465116 | O53: 1.2339572
A55: 2024/25 | B55: Insgesamt | C55: 43 | D55: 1559 | E55: 27375 | F55: 17.559333 | G55: 1134 | I55: 24.140212 | K55: 21532 | M55: 13.811418 | O55: 0.78655708
B56: staatl. Träger | C56: 36 | D56: 1516 | E56: 26630 | F56: 17.565963 | G56: 1095 | I56: 24.319635 | K56: 20698 | M56: 13.653034 | O56: 0.77724371
B57: freier Träger | C57: 7 | D57: 43 | E57: 745 | F57: 17.325581 | G57: 39 | I57: 19.102564 | K57: 834 | M57: 19.395349 | O57: 1.1194631
A59: 2025/26 | B59: Insgesamt | C59: 44 | D59: 1565 | E59: 27696 | F59: 17.697125 | G59: 1155 | I59: 23.979221 | K59: 21910 | M59: 14 | O59: 0.79108897
...

Sheet TAB1.10
A2: 10. Ausländische Schüler an Schulen insgesamt nach Staatsangehörigkeit
A4: Land der Staatsangehörigkeit1) | B4: Schuljahr
B5: 2020/21 | C5: 2021/22 | D5: 2022/23 | E5: 2023/24 | F5: 2024/25 | G5: 2025/26
A7: Europa | B7: 984 | C7: 1015 | D7: 1167 | E7: 1356 | F7: 1585 | G7: 2081
A8: Albanien | B8: 79 | C8: 72 | D8: 69 | E8: 66 | F8: 65 | G8: 57
A9: Bosnien und Herzegowina | B9: 37 | C9: 33 | D9: 12 | E9: 15 | F9: 11 | G9: 18
A10: Bulgarien | B10: 36 | C10: 47 | D10: 66 | E10: 74 | F10: 63 | G10: 64
A11: Griechenland | B11: 14 | C11: 20 | D11: 26 | E11: 27 | F11: 23 | G11: 23
A12: Italien | B12: 18 | C12: 12 | D12: 13 | E12: 17 | F12: 23 | G12: 25
A13: Kosovo | B13: 57 | C13: 44 | D13: 47 | E13: 35 | F13: 37 | G13: 39
A14: Kroatien | B14: 10 | C14: 12 | D14: 13 | E14: 14 | F14: 18 | G14: 17
A15: Litauen | B15: 7 | C15: 6 | D15: 10 | E15: 6 | F15: 8 | G15: 13
A16: Nordmazedonien | B16: 26 | C16: 26 | D16: 25 | E16: 33 | F16: 35 | G16: 42
A17: Niederlande | B17: 11 | C17: 6 | D17: 5 | E17: 7 | F17: 8 | G17: 8
A18: Österreich | B18: 10 | C18: 6 | D18: 12 | E18: 11 | F18: 10 | G18: 11
... A53: Insgesamt | B53: 4046 | C53: 4271 | D53: 4693 | E53: 5305 | F53: 6158 | G53: 7377
A55: __________
A56: 1) amtliche Kurzform

Sheet TAB1.11
A2: 11. Ausländische Schüler an staatlichen Schulen nach Staatsangehörigkeit
A4: Land der Staatsangehörigkeit1) | B4: Schuljahr
B5: 2020/21 | C5: 2021/22 | D5: 2022/23 | E5: 2023/24 | F5: 2024/25 | G5: 2025/26
A7: Europa | B7: 789 | C7: 802 | D7: 979 | E7: 1185 | F7: 1376 | G7: 1773
A8: Albanien | B8: 61 | C8: 50 | D8: 51 | E8: 54 | F8: 51 | G8: 39
A9: Bosnien und Herzegowina | B9: 10 | C9: 10 | D9: 8 | E9: 9 | F9: 7 | G9: 14
A10: Bulgarien | B10: 32 | C10: 44 | D10: 63 | E10: 69 | F10: 55 | G10: 55
A11: Griechenland | B11: 9 | C11: 13 | D11: 22 | E11: 27 | F11: 18 | G11: 21
A12: Italien | B12: 18 | C12: 11 | D12: 12 | E12: 15 | F12: 21 | G12: 22
A13: Kosovo | B13: 35 | C13: 28 | D13: 28 | E13: 26 | F13: 29 | G13: 29
A14: Kroatien | B14: 8 | C14: 8 | D14: 11 | E14: 12 | F14: 14 | G14: 14
A15: Litauen | B15: 6 | C15: 5 | D15: 9 | E15: 6 | F15: 7 | G15: 12
A16: Nordmazedonien | B16: 23 | C16: 22 | D16: 21 | E16: 30 | F16: 32 | G16: 35
A17: Niederlande | B17: 8 | C17: 5 | D17: 4 | E17: 7 | F17: 8 | G17: 7
A18: Österreich | B18: 9 | C18: 5 | D18: 10 | E18: 10 | F18: 10 | G18: 8
... A53: Insgesamt | B53: 3107 | C53: 3220 | D53: 3527 | E53: 4070 | F53: 4634 | G53: 5392
A55: __________
A56: 1) amtliche Kurzform

Sheet TAB1.12+13
A2: 12. Absolventen/Abgänger*) nach Schulformen
A4: Schuljahr | B4: Träger | C4: Insgesamt | D4: Davon aus
D5: Berufs- schulen | E5: Berufs- fach- schulen | F5: Fach- ober- schulen | G5: beruf- lichen Gym- nasien | H5: Fach- schulen | I5: berufs- bildenden Einrichtungen für Behinderte
A10: 2019/20 | B10: Insgesamt | C10: 16046 | D10: 8539 | E10: 4227 | F10: 655 | G10: 953 | H10: 1326 | I10: 346
B11: staatl. Träger | C11: 13079 | D11: 8245 | E11: 2307 | F11: 612 | G11: 942 | H11: 719 | I11: 254
B12: freier Träger | C12: 2967 | D12: 294 | E12: 1920 | F12: 43 | G12: 11 | H12: 607 | I12: 92
A14: 2020/21 | B14: Insgesamt | C14: 16149 | D14: 8468 | E14: 4469 | F14: 692 | G14: 889 | H14: 1304 | I14: 327
B15: staatl. Träger | C15: 13141 | D15: 8157 | E15: 2490 | F15: 639 | G15: 880 | H15: 753 | I15: 222
B16: freier Träger | C16: 3008 | D16: 311 | E16: 1979 | F16: 53 | G16: 9 | H16: 551 | I16: 105
A18: 2021/22 | B18: Insgesamt | C18: 16192 | D18: 8633 | E18: 4347 | F18: 659 | G18: 893 | H18: 1332 | I18: 328
B19: staatl. Träger | C19: 13224 | D19: 8339 | E19: 2425 | F19: 620 | G19: 881 | H19: 732 | I19: 227
B20: freier Träger | C20: 2968 | D20: 294 | E20: 1922 | F20: 39 | G20: 12 | H20: 600 | I20: 101
A22: 2022/23 | B22: Insgesamt | C22: 16108 | D22: 8680 | E22: 4085 | F22: 711 | G22: 938 | H22: 1402 | I22: 292
B23: staatl. Träger | C23: 13028 | D23: 8377 | E23: 2126 | F23: 654 | G23: 924 | H23: 753 | I23: 194
B24: freier Träger | C24: 3080 | D24: 303 | E24: 1959 | F24: 57 | G24: 14 | H24: 649 | I24: 98
A26: 2023/24 | B26: Insgesamt | C26: 16006 | D26: 8824 | E26: 4063 | F26: 561 | G26: 931 | H26: 1352 | I26: 275
B27: staatl. Träger | C27: 12876 | D27: 8500 | E27: 2069 | F27: 527 | G27: 919 | H27: 679 | I27: 182
B28: freier Träger | C28: 3130 | D28: 324 | E28: 1994 | F28: 34 | G28: 12 | H28: 673 | I28: 93
A30: 2024/25 | B30: Insgesamt | C30: 16370 | D30: 9018 | E30: 4284 | F30: 668 | G30: 826 | H30: 1294 | I30: 280
B31: staatl. Träger | C31: 13057 | D31: 8681 | E31: 2129 | F31: 625 | G31: 808 | H31: 642 | I31: 172
B32: freier Träger | C32: 3313 | D32: 337 | E32: 2155 | F32: 43 | G32: 18 | H32: 652 | I32: 108
A34: 13. Absolventen/Abgänger*) aus berufsbildenden Schulen insgesamt nach Abschlussarten
A36: Schuljahr | B36: Träger | C36: Insgesamt | D36: Davon
D37: ohne Abschluss | E37: mit Abschluss | F37: darunter mit
F38: Hauptschul- abschluss | G38: Realschul- abschluss | H38: Fachhoch- schulreife | I38: allgemeiner Hochschul- reife
A42: 2019/20 | B42: Insgesamt | C42: 16046 | D42: 1939 | E42: 14107 | F42: 640 | G42: 815 | H42: 1314 | I42: 849
B43: staatl. Träger | C43: 13079 | D43: 1706 | E43: 11373 | F43: 549 | G43: 601 | H43: 859 | I43: 838
B44: freier Träger | C44: 2967 | D44: 233 | E44: 2734 | F44: 91 | G44: 214 | H44: 455 | I44: 11
A46: 2020/21 | B46: Insgesamt | C46: 16149 | D46: 1764 | E46: 14385 | F46: 467 | G46: 852 | H46: 1360 | I46: 802
B47: staatl. Träger | C47: 13141 | D47: 1453 | E47: 11688 | F47: 378 | G47: 627 | H47: 928 | I47: 793
B48: freier Träger | C48: 3008 | D48: 311 | E48: 2697 | F48: 89 | G48: 225 | H48: 432 | I48: 9
A50: 2021/22 | B50: Insgesamt | C50: 16192 | D50: 1951 | E50: 14241 | F50: 498 | G50: 1014 | H50: 1221 | I50: 782
B51: staatl. Träger | C51: 13224 | D51: 1654 | E51: 11570 | F51: 437 | G51: 797 | H51: 804 | I51: 770
B52: freier Träger | C52: 2968 | D52: 297 | E52: 2671 | F52: 61 | G52: 217 | H52: 417 | I52: 12
A54: 2022/23 | B54: Insgesamt | C54: 16108 | D54: 2261 | E54: 13847 | F54: 583 | G54: 775 | H54: 1311 | I54: 779
B55: staatl. Träger | C55: 13028 | D55: 1875 | E55: 1153 | F55: 512 | G55: 554 | H55: 865 | I55: 767
B56: freier Träger | C56: 3080 | D56: 386 | E56: 2694 | F56: 71 | G56: 221 | H56: 446 | I56: 12
A58: 2023/24 | B58: Insgesamt | C58: 16006 | D58: 2449 | E58: 10389 | F58: 473 | G58: 724 | H58: 1169 | I58: 802
B59: staatl. Träger | C59: 12876 | D59: 2071 | E59: 8319 | F59: 394 | G59: 551 | H59: 750 | I59: 791
B60: freier Träger | C60: 3130 | D60: 378 | E60: 2070 | F60: 79 | G60: 173 | H60: 419 | I60: 11
...

Sheet S18

Sheet S19
A28: Übersichten zum Schuljahr 2025/26
A29: Stichtag: 5. November 2025

Sheet TAB2.01
A2: 1. Klassen und Schüler an berufsbildenden Schulen insgesamt nach
A3: Jahrgangsstufen, Schul- und Ausbildungsformen
A5: Schulform | B5: Insgesamt | D5: Davon in der ... Jahrgangsstufe
A6: ______ | D6: 1. | F6: 2. | J6: 3. | N6: 4./5.
A7: Ausbildungsform | B7: Klassen | C7: Schüler | D7: Klassen | E7: Schüler | F7: Klassen | H7: Schüler | J7: Klassen | L7: Schüler | N7: Klassen | P7: Schüler
A9: Berufsschule | B9: 1565 | C9: 27696 | D9: 614 | E9: 11064 | F9: 454 | H9: 8234 | J9: 400 | L9: 6853 | N9: 97 | P9: 1545
A10: Berufsvorbereitungsjahr (BVJ) | B10: 155 | C10: 1877 | D10: 155 | E10: 1877 | F10: 0 | H10: 0 | J10: 0 | L10: 0 | N10: 0 | P10: 0
A11: BVJ-Vz | B11: 155 | C11: 1877 | D11: 155 | E11: 1877 | F11: 0 | H11: 0 | J11: 0 | L11: 0 | N11: 0 | P11: 0
A12: Berufsschule-dual | B12: 1410 | C12: 25819 | D12: 459 | E12: 9187 | F12: 454 | H12: 8234 | J12: 400 | L12: 6853 | N12: 97 | P12: 1545
A14: Berufsfachschule | B14: 264 | C14: 4635 | D14: 162 | E14: 3214 | F14: 98 | H14: 1390 | J14: 4 | L14: 31 | N14: 0 | P14: 0
A15: einjähriger Bildungsgang | B15: 56 | C15: 987 | D15: 54 | E15: 963 | F15: 2 | G15: 1) | H15: 24 | I15: 1) | J15: 0 | L15: 0 | N15: 0 | P15: 0
A16: berufsqualifizierend | B16: 56 | C16: 987 | D16: 54 | E16: 963 | F16: 2 | G16: 1) | H16: 24 | I16: 1) | J16: 0 | L16: 0 | N16: 0 | P16: 0
A17: ein-/zweijähriger Bildungsgang | B17: 196 | C17: 3545 | D17: 104 | E17: 2212 | F17: 92 | H17: 1333 | J17: 0 | L17: 0 | N17: 0 | P17: 0
A18: nicht berufsqualifizierend | B18: 96 | C18: 1642 | D18: 50 | E18: 1036 | F18: 46 | H18: 606 | J18: 0 | L18: 0 | N18: 0 | P18: 0
A19: berufsqualifizierend | B19: 100 | C19: 1903 | D19: 54 | E19: 1176 | F19: 46 | H19: 727 | J19: 0 | L19: 0 | N19: 0 | P19: 0
A20: dreijähriger Bildungsgang | B20: 12 | C20: 103 | D20: 4 | E20: 39 | F20: 4 | H20: 33 | J20: 4 | L20: 31 | N20: 0 | P20: 0
A21: Vollzeitunterricht | B21: 12 | C21: 103 | D21: 4 | E21: 39 | F21: 4 | H21: 33 | J21: 4 | L21: 31 | N21: 0 | P21: 0
A23: Höhere Berufsfachschule | B23: 492 | C23: 8519 | D23: 176 | E23: 3529 | F23: 184 | H23: 2959 | J23: 130 | L23: 2009 | N23: 2 | P23: 22
A24: zweijähriger Bildungsgang | B24: 100 | C24: 1591 | D24: 43 | E24: 798 | F24: 56 | H24: 789 | J24: 1 | K24: 2) | L24: 4 | M24: 2) | N24: 0 | P24: 0
A25: dreijähriger Bildungsgang | B25: 392 | C25: 6928 | D25: 133 | E25: 2731 | F25: 128 | H25: 2170 | J25: 129 | L25: 2005 | N25: 2 | O25: 3) | P25: 22 | Q25: 3)
A27: Fachoberschule | B27: 78 | C27: 1478 | D27: 39 | E27: 793 | F27: 39 | H27: 685 | J27: 0 | L27: 0 | N27: 0 | P27: 0
A28: Vollzeitunterricht | B28: 78 | C28: 1478 | D28: 39 | E28: 793 | F28: 39 | H28: 685 | J28: 0 | L28: 0 | N28: 0 | P28: 0
A30: Berufliches Gymnasium | B30: 149 | C30: 2876 | D30: 55 | E30: 1144 | F30: 48 | H30: 924 | J30: 46 | L30: 808 | N30: 0 | P30: 0
A31: nicht berufsqualifizierend | B31: 149 | C31: 2876 | D31: 55 | E31: 1144 | F31: 48 | H31: 924 | J31: 46 | L31: 808 | N31: 0 | P31: 0
A33: Fachschule | B33: 222 | C33: 3518 | D33: 72 | E33: 1256 | F33: 75 | H33: 1137 | J33: 61 | L33: 979 | N33: 14 | P33: 146
A34: Vollzeitunterricht | B34: 179 | C34: 2981 | D34: 60 | E34: 1070 | F34: 62 | H34: 990 | J34: 57 | L34: 921 | N34: 0 | P34: 0
A35: Teilzeitunterricht | B35: 43 | C35: 537 | D35: 12 | E35: 186 | F35: 13 | H35: 147 | J35: 4 | L35: 58 | N35: 14 | P35: 146
A37: Berufsbildende Einrichtung
A38: für Behinderte | B38: 187 | C38: 1043 | D38: 63 | E38: 384 | F38: 64 | H38: 355 | J38: 57 | L38: 296 | N38: 3 | P38: 8
A39: Berufsschule-dual | B39: 187 | C39: 1043 | D39: 63 | E39: 384 | F39: 64 | H39: 355 | J39: 57 | L39: 296 | N39: 3 | P39: 8
A41: Insgesamt | B41: 2957 | C41: 49765 | D41: 1181 | E41: 21384 | F41: 962 | H41: 15684 | J41: 698 | L41: 10976 | N41: 116 | P41: 1721
A42: Vollzeitunterricht | B42: 1286 | C42: 21855 | D42: 631 | E42: 11344 | F42: 424 | H42: 6846 | J42: 231 | L42: 3665 | N42: 0 | P42: 0
A43: Teilzeitunterricht | B43: 1671 | C43: 27910 | D43: 550 | E43: 10040 | F43: 538 | H43: 8838 | J43: 467 | L43: 7311 | N43: 116 | P43: 1721
A44: __________
A45: 1) Einjährige Ausbildung, welche in Teilzeit ausgeführt wird, erstreckt sich über 2 Jahre.
A46: 2) nach zweijähriger schulischer Ausbildung, anschließendes halbjähriges Praktikum zum Erwerb der Fachhochschulreife
A47: 3) Dreijährige Ausbildung, welche in Teilzeit ausgeführt wird, erstreckt sich über 5 Jahre.

Sheet TAB2.02
A2: 2. Klassen und Schüler an staatlichen berufsbildenden Schulen nach
A3: Jahrgangsstufen, Schul- und Ausbildungsformen
A5: Schulform | B5: Insgesamt | D5: Davon in der ... Jahrgangsstufe
A6: ______ | D6: 1. | F6: 2. | J6: 3. | N6: 4./5.
A7: Ausbildungsform | B7: Klassen | C7: Schüler | D7: Klassen | E7: Schüler | F7: Klassen | H7: Schüler | J7: Klassen | L7: Schüler | N7: Klassen | P7: Schüler
A9: Berufsschule | B9: 1519 | C9: 26917 | D9: 588 | E9: 10667 | F9: 444 | H9: 8034 | J9: 391 | L9: 6693 | N9: 96 | P9: 1523
A10: Berufsvorbereitungsjahr (BVJ) | B10: 138 | C10: 1665 | D10: 138 | E10: 1665 | F10: 0 | H10: 0 | J10: 0 | L10: 0 | N10: 0 | P10: 0
A11: BVJ-Vz | B11: 138 | C11: 1665 | D11: 138 | E11: 1665 | F11: 0 | H11: 0 | J11: 0 | L11: 0 | N11: 0 | P11: 0
A12: Berufsschule-dual | B12: 1381 | C12: 25252 | D12: 450 | E12: 9002 | F12: 444 | H12: 8034 | J12: 391 | L12: 6693 | N12: 96 | P12: 1523
A14: Berufsfachschule | B14: 166 | C14: 2830 | D14: 94 | E14: 1886 | F14: 68 | H14: 913 | J14: 4 | L14: 31 | N14: 0 | P14: 0
A15: einjähriger Bildungsgang | B15: 23 | C15: 408 | D15: 21 | E15: 384 | F15: 2 | G15: 1) | H15: 24 | I15: 1) | J15: 0 | L15: 0 | N15: 0 | P15: 0
A16: berufsqualifizierend | B16: 23 | C16: 408 | D16: 21 | E16: 384 | F16: 2 | G16: 1) | H16: 24 | I16: 1) | J16: 0 | L16: 0 | N16: 0 | P16: 0
A17: ein-/zweijähriger Bildungsgang | B17: 131 | C17: 2319 | D17: 69 | E17: 1463 | F17: 62 | H17: 856 | J17: 0 | L17: 0 | N17: 0 | P17: 0
A18: nicht berufsqualifizierend | B18: 89 | C18: 1505 | D18: 46 | E18: 955 | F18: 43 | H18: 550 | J18: 0 | L18: 0 | N18: 0 | P18: 0
A19: berufsqualifizierend | B19: 42 | C19: 814 | D19: 23 | E19: 508 | F19: 19 | H19: 306 | J19: 0 | L19: 0 | N19: 0 | P19: 0
A20: dreijähriger Bildungsgang | B20: 12 | C20: 103 | D20: 4 | E20: 39 | F20: 4 | H20: 33 | J20: 4 | L20: 31 | N20: 0 | P20: 0
A21: Vollzeitunterricht | B21: 12 | C21: 103 | D21: 4 | E21: 39 | F21: 4 | H21: 33 | J21: 4 | L21: 31 | N21: 0 | P21: 0
A23: Höhere Berufsfachschule | B23: 204 | C23: 3510 | D23: 70 | E23: 1406 | F23: 79 | H23: 1261 | J23: 55 | L23: 843 | N23: 0 | P23: 0
A24: zweijähriger Bildungsgang | B24: 53 | C24: 877 | D24: 23 | E24: 445 | F24: 30 | H24: 432 | J24: 0 | L24: 0 | N24: 0 | P24: 0
A25: dreijähriger Bildungsgang | B25: 151 | C25: 2633 | D25: 47 | E25: 961 | F25: 49 | H25: 829 | J25: 55 | L25: 843 | N25: 0 | P25: 0
A27: Fachoberschule | B27: 70 | C27: 1377 | D27: 35 | E27: 746 | F27: 35 | H27: 631 | J27: 0 | L27: 0 | N27: 0 | P27: 0
A28: Vollzeitunterricht | B28: 70 | C28: 1377 | D28: 35 | E28: 746 | F28: 35 | H28: 631 | J28: 0 | L28: 0 | N28: 0 | P28: 0
A30: Berufliches Gymnasium | B30: 146 | C30: 2839 | D30: 54 | E30: 1128 | F30: 47 | H30: 915 | J30: 45 | L30: 796 | N30: 0 | P30: 0
A31: nicht berufsqualifizierend | B31: 146 | C31: 2839 | D31: 54 | E31: 1128 | F31: 47 | H31: 915 | J31: 45 | L31: 796 | N31: 0 | P31: 0
... A35: Teilzeitunterricht | B35: 32 | C35: 463 | D35: 9 | E35: 171 | F35: 11 | H35: 134 | J35: 4 | L35: 58 | N35: 8 | P35: 100
A37: Berufsbildende Einrichtung
A38: für Behinderte | B38: 124 | C38: 699 | D38: 42 | E38: 259 | F38: 43 | H38: 242 | J38: 38 | L38: 195 | N38: 1 | P38: 3
A39: Berufsschule-dual | B39: 124 | C39: 699 | D39: 42 | E39: 259 | F39: 43 | H39: 242 | J39: 38 | L39: 195 | N39: 1 | P39: 3
A41: Insgesamt | B41: 2344 | C41: 39940 | D41: 921 | E41: 16766 | F41: 758 | H41: 12581 | J41: 560 | L41: 8967 | N41: 105 | P41: 1626
A42: Vollzeitunterricht | B42: 791 | C42: 13221 | D42: 411 | E42: 7165 | F42: 256 | H42: 4104 | J42: 124 | L42: 1952 | N42: 0 | P42: 0
A43: Teilzeitunterricht | B43: 1553 | C43: 26719 | D43: 510 | E43: 9601 | F43: 502 | H43: 8477 | J43: 436 | L43: 7015 | N43: 105 | P43: 1626
A44: __________
A45: 1) Einjährige Ausbildung, welche in Teilzeit ausgeführt wird, erstreckt sich über 2 Jahre.

Sheet TAB2.03
A2: 3. Schüler an Berufsschulen insgesamt nach Jahrgangsstufen,
A3: Ausbildungsformen und Berufsfeldern
A5: Ausbildungsform | B5: Männlich | C5: Weiblich | D5: Insgesamt | E5: Davon in der ... Jahrgangsstufe
A6: ______ | E6: 1. | F6: 2. | G6: 3. | H6: 4.
A7: Berufsfeld
A10: Berufsvorbereitungsjahr (BVJ) | B10: 1242 | C10: 635 | D10: 1877 | E10: 1877 | F10: 0 | G10: 0 | H10: 0
A11: BVJ-Vz | B11: 1242 | C11: 635 | D11: 1877 | E11: 1877 | F11: 0 | G11: 0 | H11: 0
A13: Berufsschule - dual | B13: 17649 | C13: 8170 | D13: 25819 | E13: 9187 | F13: 8234 | G13: 6853 | H13: 1545
A14: Agrarwirtschaft | B14: 643 | C14: 225 | D14: 868 | E14: 289 | F14: 292 | G14: 287 | H14: 0
A15: Bautechnik | B15: 1380 | C15: 92 | D15: 1472 | E15: 556 | F15: 510 | G15: 406 | H15: 0
A16: Chemie, Physik, Biologie | B16: 151 | C16: 37 | D16: 188 | E16: 63 | F16: 55 | G16: 60 | H16: 10
A17: Drucktechnik/Medientechnik | B17: 63 | C17: 87 | D17: 150 | E17: 68 | F17: 39 | G17: 43 | H17: 0
A18: Elektrotechnik | B18: 1577 | C18: 85 | D18: 1662 | E18: 541 | F18: 455 | G18: 399 | H18: 267
A19: Ernährung und Hauswirtschaft | B19: 989 | C19: 1022 | D19: 2011 | E19: 744 | F19: 731 | G19: 536 | H19: 0
A20: Fahrzeugtechnik | B20: 2150 | C20: 128 | D20: 2278 | E20: 683 | F20: 606 | G20: 538 | H20: 451
A21: Farbtechnik und Raumgestaltung | B21: 251 | C21: 133 | D21: 384 | E21: 148 | F21: 127 | G21: 109 | H21: 0
A22: Holztechnik | B22: 381 | C22: 70 | D22: 451 | E22: 150 | F22: 161 | G22: 140 | H22: 0
... A29: Insgesamt | B29: 18891 | C29: 8805 | D29: 27696 | E29: 11064 | F29: 8234 | G29: 6853 | H29: 1545

Sheet TAB2.04
A2: 4. Schüler an staatlichen Berufsschulen nach Jahrgangsstufen,
A3: Ausbildungsformen und Berufsfeldern
A5: Ausbildungsform | B5: Männlich | C5: Weiblich | D5: Insgesamt | E5: Davon in der ... Jahrgangsstufe
A6: ______ | E6: 1. | F6: 2. | G6: 3. | H6: 4.
A7: Berufsfeld
A10: Berufsvorbereitungsjahr (BVJ) | B10: 1107 | C10: 558 | D10: 1665 | E10: 1665 | F10: 0 | G10: 0 | H10: 0
A11: BVJ-Vz | B11: 1107 | C11: 558 | D11: 1665 | E11: 1665 | F11: 0 | G11: 0 | H11: 0
A13: Berufsschule - dual | B13: 17315 | C13: 7937 | D13: 25252 | E13: 9002 | F13: 8034 | G13: 6693 | H13: 1523
A14: Agrarwirtschaft | B14: 643 | C14: 225 | D14: 868 | E14: 289 | F14: 292 | G14: 287 | H14: 0
A15: Bautechnik | B15: 1380 | C15: 92 | D15: 1472 | E15: 556 | F15: 510 | G15: 406 | H15: 0
A16: Chemie, Physik, Biologie | B16: 151 | C16: 37 | D16: 188 | E16: 63 | F16: 55 | G16: 60 | H16: 10
A17: Drucktechnik/Medientechnik | B17: 63 | C17: 87 | D17: 150 | E17: 68 | F17: 39 | G17: 43 | H17: 0
A18: Elektrotechnik | B18: 1577 | C18: 85 | D18: 1662 | E18: 541 | F18: 455 | G18: 399 | H18: 267
A19: Ernährung und Hauswirtschaft | B19: 786 | C19: 802 | D19: 1588 | E19: 618 | F19: 569 | G19: 401 | H19: 0
A20: Fahrzeugtechnik | B20: 2150 | C20: 128 | D20: 2278 | E20: 683 | F20: 606 | G20: 538 | H20: 451
A21: Farbtechnik und Raumgestaltung | B21: 251 | C21: 133 | D21: 384 | E21: 148 | F21: 127 | G21: 109 | H21: 0
A22: Holztechnik | B22: 381 | C22: 70 | D22: 451 | E22: 150 | F22: 161 | G22: 140 | H22: 0
... A29: Insgesamt | B29: 18422 | C29: 8495 | D29: 26917 | E29: 10667 | F29: 8034 | G29: 6693 | H29: 1523

Sheet TAB2.05
A2: 5. Schüler an Berufsfachschulen insgesamt nach
A3: Jahrgangsstufen und Bildungsgängen
A5: Bildungsgang | B5: Männlich | C5: Weiblich | D5: Insgesamt | E5: Davon in der ... Jahrgangsstufe
E6: 1. | F6: 2. | G6: 3.
A9: Einjähriger Bildungsgang | B9: 257 | C9: 730 | D9: 987 | E9: 963 | F9: 24 | G9: 1) | H9: 0
A10: berufsqualifizierend | B10: 161 | C10: 454 | D10: 615 | E10: 597 | F10: 18 | G10: 1) | H10: 0
A11: Altenpflegehelfer | B11: 12 | C11: 86 | D11: 98 | E11: 98 | F11: 0 | H11: 0
A12: Gesundheits- und Krankenpflegehelfer | B12: 84 | C12: 190 | D12: 274 | E12: 268 | F12: 6 | G12: 1) | H12: 0
A14: Ein-/Zweijähriger Bildungsgang | B14: 1282 | C14: 2263 | D14: 3545 | E14: 2212 | F14: 1333 | H14: 0
A15: nicht berufsqualifizierend | B15: 923 | C15: 719 | D15: 1642 | E15: 1036 | F15: 606 | H15: 0
A16: Ernährung und Hauswirtschaft | B16: 164 | C16: 203 | D16: 367 | E16: 229 | F16: 138 | H16: 0
A17: Gesundheit und Soziales | B17: 81 | C17: 141 | D17: 222 | E17: 139 | F17: 83 | H17: 0
A18: Technik | B18: 467 | C18: 120 | D18: 587 | E18: 394 | F18: 193 | H18: 0
A19: Wirtschaft | B19: 10 | C19: 37 | D19: 47 | E19: 21 | F19: 26 | H19: 0
A20: Wirtschaft und Verwaltung | B20: 201 | C20: 218 | D20: 419 | E20: 253 | F20: 166 | H20: 0
A21: berufsqualifizierend | B21: 359 | C21: 1544 | D21: 1903 | E21: 1176 | F21: 727 | H21: 0
A22: Kinderpflege | B22: 253 | C22: 1196 | D22: 1449 | E22: 886 | F22: 563 | H22: 0
A23: Kosmetik | B23: 13 | C23: 148 | D23: 161 | E23: 105 | F23: 56 | H23: 0
A24: Masseur und med. Bademeister | B24: 21 | C24: 17 | D24: 38 | E24: 22 | F24: 16 | H24: 0
A25: Sozialbetreuer | B25: 72 | C25: 183 | D25: 255 | E25: 163 | F25: 92 | H25: 0
... A33: Insgesamt | B33: 1585 | C33: 3050 | D33: 4635 | E33: 3214 | F33: 1390 | H33: 31
A35: 1) Einjährige Ausbildung, welche in Teilzeit ausgeführt wird, erstreckt sich über 2 Jahre.

Sheet TAB2.06
A2: 6. Schüler an staatlichen Berufsfachschulen nach
A3: Jahrgangsstufen und Bildungsgängen
A5: Bildungsgang | B5: Männlich | C5: Weiblich | D5: Insgesamt | E5: Davon in der ... Jahrgangsstufe
E6: 1. | F6: 2. | G6: 3.
A9: Einjähriger Bildungsgang | B9: 106 | C9: 302 | D9: 408 | E9: 384 | F9: 24 | G9: 1) | H9: 0
A10: berufsqualifizierend | B10: 48 | C10: 160 | D10: 208 | E10: 190 | F10: 18 | G10: 1) | H10: 0
A11: Altenpflegehelfer | B11: 3 | C11: 28 | D11: 31 | E11: 31 | F11: 0 | H11: 0
A12: Gesundheits- und Krankenpflegehelfer | B12: 55 | C12: 114 | D12: 169 | E12: 163 | F12: 6 | G12: 1) | H12: 0
A14: Ein-/Zweijähriger Bildungsgang | B14: 991 | C14: 1328 | D14: 2319 | E14: 1463 | F14: 856 | H14: 0
A15: nicht berufsqualifizierend | B15: 852 | C15: 653 | D15: 1505 | E15: 955 | F15: 550 | H15: 0
A16: Ernährung und Hauswirtschaft | B16: 143 | C16: 177 | D16: 320 | E16: 190 | F16: 130 | H16: 0
A17: Gesundheit und Soziales | B17: 38 | C17: 103 | D17: 141 | E17: 97 | F17: 44 | H17: 0
A18: Technik | B18: 467 | C18: 120 | D18: 587 | E18: 394 | F18: 193 | H18: 0
A19: Wirtschaft | B19: 10 | C19: 37 | D19: 47 | E19: 21 | F19: 26 | H19: 0
A20: Wirtschaft und Verwaltung | B20: 194 | C20: 216 | D20: 410 | E20: 253 | F20: 157 | H20: 0
A21: berufsqualifizierend | B21: 139 | C21: 675 | D21: 814 | E21: 508 | F21: 306 | H21: 0
A22: Kinderpflege | B22: 101 | C22: 518 | D22: 619 | E22: 390 | F22: 229 | H22: 0
A23: Kosmetik | B23: 0 | C23: 70 | D23: 70 | E23: 45 | F23: 25 | H23: 0
A24: Masseur und med. Bademeister | B24: 0 | C24: 0 | D24: 0 | E24: 0 | F24: 0 | H24: 0
A25: Sozialbetreuer | B25: 38 | C25: 87 | D25: 125 | E25: 73 | F25: 52 | H25: 0
... A33: Insgesamt | B33: 1143 | C33: 1687 | D33: 2830 | E33: 1886 | F33: 913 | H33: 31
A35: 1) Einjährige Ausbildung, welche in Teilzeit ausgeführt wird, erstreckt sich über 2 Jahre.

Sheet TAB2.07
A2: 7. Schüler an höheren Berufsfachschulen insgesamt nach
A3: Jahrgangsstufen und Bildungsgängen
A5: Bildungsgang | B5: Männlich | C5: Weiblich | D5: Insgesamt | E5: Davon in der ... Jahrgangsstufe
E6: 1. | F6: 2. | G6: 3. | I6: 4.
A9: Zweijähriger Bildungsgang | B9: 442 | C9: 1149 | D9: 1591 | E9: 798 | F9: 789 | G9: 4 | I9: 0
A10: Biologisch-technischer Assistent | B10: 15 | C10: 30 | D10: 45 | E10: 30 | F10: 15 | G10: 0 | I10: 0
A11: Chemisch-technischer Assistent | B11: 17 | C11: 1 | D11: 18 | E11: 8 | F11: 10 | G11: 0 | I11: 0
A12: Gestaltungstechnischer Assistent | B12: 28 | C12: 98 | D12: 126 | E12: 57 | F12: 69 | G12: 0 | I12: 0
