Workbook
Name OLE_LINK1: VORBEMERK!#REF!

Sheet IMPRESSUM
A1: Impressum
A3: Berufsbildendende Schulen in Thüringen 2025
A5: • Die Datei ist gespeichert im Format EXCEL 2016
A8: Herausgeber
A9: Thüringer Landesamt für Statistik
A10: Europaplatz 3, 99091 Erfurt
A11: Postfach 90 01 63, 99104 Erfurt
A12: Telefon: +49 361 57331-9642
A13: Telefax: +49 361 57331-9699
A14: E-Mail: auskunft@statistik.thueringen.de
A15: Internet: www.statistik.thueringen.de
A17: Auskunft erteilt
... A30: Vervielfältigung und Verbreitung, auch auszugsweise, mit Quellenangabe gestattet

Sheet ZEICHENERKL
A1: Zeichenerklärung
A5: - | B5: nichts vorhanden (genau Null)
A6: 0 | B6: weniger als die Hälfte von 1 in der letzten besetzten Stelle,
B7: jedoch mehr als nichts
A8: . | B8: Zahlenwert unbekannt oder geheim zu halten
A9: … | B9: Zahlenwert lag bei Redaktionsschluss noch nicht vor
A10: x | B10: Tabellenfach gesperrt, weil Aussage nicht sinnvoll
A11: p | B11: vorläufige Zahl
A12: r | B12: berichtigte Zahl
A13: / | B13: Zahlenwert nicht sicher genug
A14: ( ) | B14: Aussagewert eingeschränkt
A16: Anmerkung: | B16: Abweichungen in den Summen, auch im Vergleich zu anderen Veröffentlichungen, erklären sich aus dem Runden von Einzelwerten

Sheet INHALSVERZ
A2: Inhaltsverzeichnis
C4: Seite
A6: Vorbemerkungen | C6: 3
A10: Tabellen
A12: Themenbezogene Übersichten nach Trägern und Schuljahren | C12: 5
A14: 1. | B14: Schulen, Klassen und Schüler nach Schulformen | C14: 6
A15: 2. | B15: Schüler je Klasse nach Schulformen | C15: 7
A16: 3. | B16: Lehrer an berufsbildenden Schulen insgesamt | C16: 8
A17: 4. | B17: Vollzeitlehrereinheiten nach Schulformen | C17: 8
A18: 5. | B18: Schüler je Vollzeitlehrereinheiten nach Schulformen | C18: 9
A19: 6. | B19: Wöchentlich erteilte Unterrichtsstunden nach Schulformen | C19: 9
A20: 7. | B20: Wöchentlich erteilte Unterrichtsstunden je Klasse nach Schulformen | C20: 10
A21: 8. | B21: Wöchentlich erteilte Unterrichtsstunden je Schüler nach Schulformen | C21: 10
A22: 9. | B22: Schulen, Klassen, Schüler und Lehrer (Vollzeitlehrereinheiten) und
B23: wöchentlich erteilte Unterrichtsstunden nach Schulformen | C23: 11
A24: 10. | B24: Ausländische Schüler an Schulen insgesamt nach Staatsangehörigkeit | C24: 15
A25: 11. | B25: Ausländische Schüler an staatlichen Schulen nach Staatsangehörigkeit | C25: 16
A26: 12. | B26: Absolventen/Abgänger nach Schulformen | C26: 17
A27: 13. | B27: Absolventen/Abgänger aus berufsbildenden Schulen insgesamt nach Abschlussarten | C27: 17
A30: Übersichten zum Schuljahr 2025/26
A31: Stichtag: 5. November 2025 | C31: 19
A33: 1. | B33: Klassen und Schüler an berufsbildenden Schulen insgesamt nach Jahrgangsstufen,
B34: Schul- und Ausbildungsformen | C34: 20
A35: 2. | B35: Klassen und Schüler an staatlichen berufsbildenden Schulen nach Jahrgangsstufen,
B36: Schul- und Ausbildungsformen | C36: 21
A37: 3. | B37: Schüler an Berufsschulen insgesamt nach Jahrgangsstufen, Ausbildungsformen und
B38: Berufsfeldern | C38: 22
A39: 4. | B39: Schüler an staatlichen Berufsschulen nach Jahrgangsstufen, Ausbildungsformen und
B40: Berufsfeldern | C40: 23
A41: 5. | B41: Schüler an Berufsfachschulen insgesamt nach Jahrgangsstufen und Bildungsgängen | C41: 24
A42: 6. | B42: Schüler an staatlichen Berufsfachschulen nach Jahrgangsstufen und Bildungsgängen | C42: 25
A43: 7. | B43: Schüler an höheren Berufsfachschulen insgesamt nach Jahrgangsstufen und
B44: Bildungsgängen | C44: 26
A45: 8. | B45: Schüler an staatlichen höheren Berufsfachschulen nach Jahrgangsstufen und
B46: Bildungsgängen | C46: 27
A47: 9. | B47: Schüler an Fachoberschulen insgesamt nach Jahrgangsstufen und Bildungsgängen | C47: 28
A48: 10. | B48: Schüler an staatlichen Fachoberschulen nach Jahrgangsstufen und Bildungsgängen | C48: 28
A49: 11. | B49: Schüler an beruflichen Gymnasien nach Jahrgangsstufen und Bildungsgängen | C49: 29
A50: 12. | B50: Schüler an staatlichen beruflichen Gymnasien nach Jahrgangsstufen und Bildungsgängen | C50: 29
A53: 13. | B53: Schüler an Fachschulen insgesamt nach Jahrgangsstufen und Fachbereichen | C53: 30
A54: 14. | B54: Schüler an staatlichen Fachschulen nach Jahrgangsstufen und Fachbereichen | C54: 31
A55: 15. | B55: Schüler an berufsbildenden Einrichtungen für Behinderte insgesamt nach
B56: Jahrgangsstufen, Ausbildungsformen und Berufsfeldern | C56: 32
A57: 16. | B57: Schüler an staatlichen berufsbildenden Einrichtungen für Behinderte nach
B58: Jahrgangsstufen, Ausbildungsformen und Berufsfeldern | C58: 32
A59: 17. | B59: Schüler mit sonderpädagogischem Förderbedarf an berufsbildenden Einrichtungen
B60: für Behinderte insgesamt nach Förderschwerpunkten, Ausbildungsformen
B61: und Jahrgangsstufen | C61: 33
A62: 18. | B62: Schüler mit sonderpädagogischem Förderbedarf an staatlichen berufsbildenden
B63: Einrichtungen für Behinderte nach Förderschwerpunkten, Ausbildungsformen
B64: und Jahrgangsstufen | C64: 33
A65: 19. | B65: Schüler mit sonderpädagogischem Förderbedarf im Gemeinsamen Unterricht an
B66: Schulen insgesamt nach Schulformen und Förderschwerpunkten | C66: 34
A67: 20. | B67: Schüler mit sonderpädagogischem Förderbedarf im Gemeinsamen Unterricht an
B68: staatlichen Schulen nach Schulformen und Förderschwerpunkten | C68: 34
A69: 21. | B69: Schüler an Schulen insgesamt nach Schulformen und schulischer Vorbildung | C69: 35
A70: 22. | B70: Schüler an staatlichen Schulen nach Schulformen und schulischer Vorbildung | C70: 36
A73: Übersichten nach Schulämtern und Kreisen
A74: Stichtag: 5. November 2025 | C74: 37
A76: 1. | B76: Schulen, Klassen und Schüler an Schulen insgesamt nach Schulformen | C76: 38
A77: 2. | B77: Absolventen/Abgänger aus Schulen insgesamt des Schuljahres 2024/25
B78: nach Schulformen | C78: 47
A79: 3. | B79: Schulen, Klassen und Schüler an staatlichen Schulen nach Schulformen | C79: 48
A80: 4. | B80: Absolventen/Abgänger aus staatlichen Schulen des Schuljahres 2024/25
B81: nach Schulformen | C81: 57

Sheet VORBEMERK
A1: Vorbemerkungen
A3: Der vorliegende Bericht enthält die Ergebnisse der statistischen Erhebungen der Schuljahre 2020/21 bis 2025/26. Es handelt sich um Angaben zum Stichtag, der je nach Schuljahresbeginn im Oktober, November oder Dezember lag.
A5: Bei der Bezeichnung von Personengruppen kommt in der Regel die sprachlich maskuline Form zur Anwendung. Wenn nicht ausdrücklich anders vermerkt, sind darunter stets beide Geschlechter zu verstehen.
A7: Rechtsgrundlage für die Erhebungen bildet § 58 Abs. 1 bis 3 des Thüringer Schulgesetzes (ThürSchulG) in der Fassung der Bekanntmachung vom 30. April 2003 (GVBl. S. 238), zuletzt geändert durch Artikel 2 des Gesetzes vom 2. Juli 2024 (GVBl. S. 204, 209) in Verbindung mit der Thüringer Verordnung über die statistische Erhebung von personenbezogenen Daten im Kultusbereich vom 5. August 1994 (GVBl. S. 954), zuletzt geändert durch Verordnung vom 28. April 2025 (GVBl. S. 139, 173), dem Thüringer Gesetz über Schulen in freier Trägerschaft (ThürSchfTG) vom 20. Dezember 2010 (GVBl. S. 522), zuletzt geändert durch Gesetz vom 15. Dezember 2025 (GVBl. S. 283) sowie dem § 6 Abs. 1 des Thüringer Statistikgesetzes (ThürStatG) vom 21. Juli 1992 (GVBl. S. 368), zuletzt geändert durch Artikel 17 des Gesetzes vom 6. Juni 2018 (GVBl. S. 229, 264).
A9: Der Bericht wurde gemeinsam mit dem Thüringer Ministerium für Bildung, Wissenschaft und Kultur erarbeitet.
A12: Begriffliche Erläuterungen
A15: Berufsbildende Schule
A16: Die berufsbildende Schule ist in Schulformen gegliedert. An einer Schule (Verwaltungs-, Organisationseinheit) können mehrere Schulformen bestehen. Deshalb ergibt die Addition der Zahl der Schulen aller Schulformen nicht die Zahl der berufsbildenden Schulen insgesamt.
A18: Die Formen der berufsbildenden Schulen sind:
A20: Berufsschule
A21: Die Berufsschule führt die Schüler in Teilzeitunterricht im Rahmen der dualen Berufsausbildung gemeinsam mit der betrieblichen oder der außerbetrieblichen Ausbildung zu beruflichen Qualifikationen. Die Schüler erwerben mit dem Berufsschulabschluss einen dem Hauptschulabschluss gleichwertigen Abschluss. Eine abgeschlossene Berufsausbildung in einem anerkannten Ausbildungsberuf, die Erfüllung bestimmter Leistungsvoraussetzungen im Berufsschulabschluss sowie ausreichende Fremdsprachenkenntnisse führen zum Erwerb eines dem Realschulabschluss gleichwertigen Abschlusses. Schüler mit Realschulabschluss können mit dem Besuch der Berufsschule neben der beruflichen Qualifikation zusätzlich die Fachhochschulreife erwerben.
A23: Das Berufsvorbereitungsjahr in schulischer oder kooperativer Form ermöglicht jungen Menschen ohne Hauptschulabschluss bei Erfüllung bestimmter Leistungsvoraussetzungen den Erwerb eines dem Hauptschulabschluss gleichwertigen Abschlusses.
... A56: Abkürzungen
A58: B | B58: Behinderte
A59: BVJ | B59: Berufsvorbereitungsjahr
A60: Tz | B60: Teilzeitunterricht
A61: Vz | B61: Vollzeitunterricht

Sheet S5
A28: Themenbezogene Übersichten nach Trägern und Schuljahren

Sheet TAB1.01
A2: 1. Schulen, Klassen und Schüler nach Schulformen
A4: Schuljahr | B4: Träger | C4: Berufs- bildende Schule | D4: Davon an
D5: Berufs- schulen | E5: Berufs- fach- schulen | F5: höhere Berufs- fach- schulen | G5: Fach- ober- schulen | H5: beruflichen Gymnasien | I5: Fach- schulen | J5: berufs- bildenden Einrichtungen für Behinderte
A10: Schulen
A12: 2020/21 | B12: Insgesamt | C12: 98 | D12: 46 | E12: 62 | F12: 61 | G12: 21 | H12: 22 | I12: 39 | J12: 20
B13: staatl. Träger | C13: 37 | D13: 35 | E13: 34 | F13: 17 | G13: 19 | H13: 21 | I13: 16 | J13: 18
B14: freier Träger | C14: 61 | D14: 11 | E14: 28 | F14: 44 | G14: 2 | H14: 1 | I14: 23 | J14: 2
A16: 2021/22 | B16: Insgesamt | C16: 98 | D16: 46 | E16: 62 | F16: 62 | G16: 21 | H16: 22 | I16: 39 | J16: 19
B17: staatl. Träger | C17: 37 | D17: 35 | E17: 34 | F17: 17 | G17: 19 | H17: 21 | I17: 16 | J17: 17
B18: freier Träger | C18: 61 | D18: 11 | E18: 28 | F18: 45 | G18: 2 | H18: 1 | I18: 23 | J18: 2
A20: 2022/23 | B20: Insgesamt | C20: 96 | D20: 43 | E20: 61 | F20: 61 | G20: 21 | H20: 22 | I20: 39 | J20: 19
B21: staatl. Träger | C21: 37 | D21: 35 | E21: 34 | F21: 17 | G21: 19 | H21: 21 | I21: 16 | J21: 17
B22: freier Träger | C22: 59 | D22: 8 | E22: 27 | F22: 44 | G22: 2 | H22: 1 | I22: 23 | J22: 2
A24: 2023/24 | B24: Insgesamt | C24: 95 | D24: 43 | E24: 61 | F24: 61 | G24: 21 | H24: 22 | I24: 39 | J24: 19
B25: staatl. Träger | C25: 37 | D25: 36 | E25: 34 | F25: 17 | G25: 19 | H25: 21 | I25: 16 | J25: 17
B26: freier Träger | C26: 58 | D26: 7 | E26: 27 | F26: 44 | G26: 2 | H26: 1 | I26: 23 | J26: 2
A28: 2024/25 | B28: Insgesamt | C28: 95 | D28: 43 | E28: 66 | F28: 61 | G28: 21 | H28: 22 | I28: 39 | J28: 18
B29: staatl. Träger | C29: 37 | D29: 36 | E29: 34 | F29: 17 | G29: 19 | H29: 21 | I29: 16 | J29: 16
B30: freier Träger | C30: 58 | D30: 7 | E30: 32 | F30: 44 | G30: 2 | H30: 1 | I30: 23 | J30: 2
A32: 2025/26 | B32: Insgesamt | C32: 96 | D32: 44 | E32: 70 | F32: 62 | G32: 21 | H32: 22 | I32: 38 | J32: 18
B33: staatl. Träger | C33: 37 | D33: 36 | E33: 34 | F33: 17 | G33: 19 | H33: 21 | I33: 16 | J33: 15
B34: freier Träger | C34: 59 | D34: 8 | E34: 36 | F34: 45 | G34: 2 | H34: 1 | I34: 22 | J34: 3
A37: Klassen
A39: 2020/21 | B39: Insgesamt | C39: 2920 | D39: 1531 | E39: 239 | F39: 465 | G39: 80 | H39: 154 | I39: 261 | J39: 190
B40: staatl. Träger | C40: 2370 | D40: 1489 | E40: 163 | F40: 216 | G40: 73 | H40: 151 | I40: 140 | J40: 138
B41: freier Träger | C41: 550 | D41: 42 | E41: 76 | F41: 249 | G41: 7 | H41: 3 | I41: 121 | J41: 52
A43: 2021/22 | B43: Insgesamt | C43: 2951 | D43: 1522 | E43: 246 | F43: 477 | G43: 79 | H43: 158 | I43: 278 | J43: 191
B44: staatl. Träger | C44: 2365 | D44: 1478 | E44: 163 | F44: 215 | G44: 72 | H44: 155 | I44: 146 | J44: 136
B45: freier Träger | C45: 586 | D45: 44 | E45: 83 | F45: 262 | G45: 7 | H45: 3 | I45: 132 | J45: 55
A47: 2022/23 | B47: Insgesamt | C47: 2924 | D47: 1521 | E47: 242 | F47: 474 | G47: 79 | H47: 152 | I47: 274 | J47: 182
B48: staatl. Träger | C48: 2331 | D48: 1477 | E48: 161 | F48: 204 | G48: 72 | H48: 149 | I48: 140 | J48: 128
B49: freier Träger | C49: 593 | D49: 44 | E49: 81 | F49: 270 | G49: 7 | H49: 3 | I49: 134 | J49: 54
A51: 2023/24 | B51: Insgesamt | C51: 2942 | D51: 1533 | E51: 242 | F51: 486 | G51: 80 | H51: 150 | I51: 267 | J51: 184
B52: staatl. Träger | C52: 2340 | D52: 1490 | E52: 158 | F52: 210 | G52: 73 | H52: 147 | I52: 136 | J52: 126
B53: freier Träger | C53: 602 | D53: 43 | E53: 84 | F53: 276 | G53: 7 | H53: 3 | I53: 131 | J53: 58
A55: 2024/25 | B55: Insgesamt | C55: 2944 | D55: 1559 | E55: 254 | F55: 484 | G55: 79 | H55: 143 | I55: 240 | J55: 185
B56: staatl. Träger | C56: 2352 | D56: 1516 | E56: 168 | F56: 208 | G56: 71 | H56: 140 | I56: 124 | J56: 125
B57: freier Träger | C57: 592 | D57: 43 | E57: 86 | F57: 276 | G57: 8 | H57: 3 | I57: 116 | J57: 60
A59: 2025/26 | B59: Insgesamt | C59: 2957 | D59: 1565 | E59: 264 | F59: 492 | G59: 78 | H59: 149 | I59: 222 | J59: 187
B60: staatl. Träger | C60: 2344 | D60: 1519 | E60: 166 | F60: 204 | G60: 70 | H60: 146 | I60: 115 | J60: 124
B61: freier Träger | C61: 613 | D61: 46 | E61: 98 | F61: 288 | G61: 8 | H61: 3 | I61: 107 | J61: 63

Sheet TAB1.01n+02
A2: Noch: 1. Schulen, Klassen und Schüler nach Schulformen
A4: Schuljahr | B4: Träger | C4: Berufs- bildende Schule | D4: Davon an
D5: Berufs- schulen | E5: Berufs- fach- schulen | F5: höhere Berufs- fach- schulen | G5: Fach- ober- schulen | H5: beruflichen Gymnasien | I5: Fach- schulen | J5: berufs- bildenden Einrichtungen für Behinderte
A10: Schüler
A12: 2020/21 | B12: Insgesamt | C12: 49016 | D12: 26115 | E12: 4182 | F12: 8318 | G12: 1592 | H12: 3079 | I12: 4596 | J12: 1134
B13: staatl. Träger | C13: 39791 | D13: 25427 | E13: 2713 | F13: 3868 | G13: 1490 | H13: 3042 | I13: 2454 | J13: 797
B14: freier Träger | C14: 9225 | D14: 688 | E14: 1469 | F14: 4450 | G14: 102 | H14: 37 | I14: 2142 | J14: 337
A16: 2021/22 | B16: Insgesamt | C16: 49119 | D16: 26257 | E16: 4026 | F16: 8344 | G16: 1560 | H16: 3099 | I16: 4748 | J16: 1085
B17: staatl. Träger | C17: 39598 | D17: 25554 | E17: 2559 | F17: 3720 | G17: 1455 | H17: 3058 | I17: 2481 | J17: 771
B18: freier Träger | C18: 9521 | D18: 703 | E18: 1467 | F18: 4624 | G18: 105 | H18: 41 | I18: 2267 | J18: 314
A20: 2022/23 | B20: Insgesamt | C20: 48426 | D20: 26468 | E20: 3800 | F20: 7965 | G20: 1497 | H20: 3029 | I20: 4656 | J20: 1011
B21: staatl. Träger | C21: 38964 | D21: 25707 | E21: 2385 | F21: 3423 | G21: 1402 | H21: 2986 | I21: 2378 | J21: 683
B22: freier Träger | C22: 9462 | D22: 761 | E22: 1415 | F22: 4542 | G22: 95 | H22: 43 | I22: 2278 | J22: 328
A24: 2023/24 | B24: Insgesamt | C24: 48749 | D24: 27035 | E24: 3954 | F24: 7970 | G24: 1469 | H24: 2902 | I24: 4371 | J24: 1048
B25: staatl. Träger | C25: 39397 | D25: 26287 | E25: 2474 | F25: 3480 | G25: 1384 | H25: 2861 | I25: 2212 | J25: 699
B26: freier Träger | C26: 9352 | D26: 748 | E26: 1480 | F26: 4490 | G26: 85 | H26: 41 | I26: 2159 | J26: 349
A28: 2024/25 | B28: Insgesamt | C28: 48907 | D28: 27375 | E28: 4257 | F28: 8086 | G28: 1510 | H28: 2773 | I28: 3847 | J28: 1059
B29: staatl. Träger | C29: 39489 | D29: 26630 | E29: 2661 | F29: 3471 | G29: 1409 | H29: 2728 | I29: 1892 | J29: 698
B30: freier Träger | C30: 9418 | D30: 745 | E30: 1596 | F30: 4615 | G30: 101 | H30: 45 | I30: 1955 | J30: 361
A32: 2025/26 | B32: Insgesamt | C32: 49765 | D32: 27696 | E32: 4635 | F32: 8519 | G32: 1478 | H32: 2876 | I32: 3518 | J32: 1043
B33: staatl. Träger | C33: 39940 | D33: 26917 | E33: 2830 | F33: 3510 | G33: 1377 | H33: 2839 | I33: 1768 | J33: 699
B34: freier Träger | C34: 9825 | D34: 779 | E34: 1805 | F34: 5009 | G34: 101 | H34: 37 | I34: 1750 | J34: 344
A37: 2. Schüler je Klasse nach Schulformen
A39: Schuljahr | B39: Träger | C39: Berufs- bildende Schule | D39: Davon an
D40: Berufs- schulen | E40: Berufs- fach- schulen | F40: höhere Berufs- fach- schulen | G40: Fach- ober- schulen | H40: beruflichen Gymnasien | I40: Fach- schulen | J40: berufs- bildenden Einrichtungen für Behinderte
A45: 2020/21 | B45: Insgesamt | C45: 16.786301 | D45: 17.057479 | E45: 17.497908 | F45: 17.888172 | G45: 19.9 | H45: 19.993506 | I45: 17.609195 | J45: 5.9684211
B46: staatl. Träger | C46: 16.789451 | D46: 17.076561 | E46: 16.644172 | F46: 17.907407 | G46: 20.410959 | H46: 20.145695 | I46: 17.528571 | J46: 5.7753623
B47: freier Träger | C47: 16.772727 | D47: 16.380952 | E47: 19.328947 | F47: 17.871486 | G47: 14.571429 | H47: 12.333333 | I47: 17.702479 | J47: 6.4807692
A49: 2021/22 | B49: Insgesamt | C49: 16.644866 | D49: 17.251643 | E49: 16.365854 | F49: 17.492662 | G49: 19.746835 | H49: 19.613924 | I49: 17.079137 | J49: 5.6806283
B50: staatl. Träger | C50: 16.74334 | D50: 17.289581 | E50: 15.699387 | F50: 17.302326 | G50: 20.208333 | H50: 19.729032 | I50: 16.993151 | J50: 5.6691176
B51: freier Träger | C51: 16.24744 | D51: 15.977273 | E51: 17.674699 | F51: 17.648855 | G51: 15 | H51: 13.666667 | I51: 17.174242 | J51: 5.7090909
A53: 2022/23 | B53: Insgesamt | C53: 16.56156 | D53: 17.401709 | E53: 15.702479 | F53: 16.803797 | G53: 18.949367 | H53: 19.927632 | I53: 16.992701 | J53: 5.5549451
B54: staatl. Träger | C54: 16.715573 | D54: 17.404875 | E54: 14.813665 | F54: 16.779412 | G54: 19.472222 | H54: 20.040268 | I54: 16.985714 | J54: 5.3359375
B55: freier Träger | C55: 15.956155 | D55: 17.295455 | E55: 17.469136 | F55: 16.822222 | G55: 13.571429 | H55: 14.333333 | I55: 17 | J55: 6.0740741
A57: 2023/24 | B57: Insgesamt | C57: 16.57002 | D57: 17.635356 | E57: 16.338843 | F57: 16.399177 | G57: 18.3625 | H57: 19.346667 | I57: 16.370787 | J57: 5.6956522
B58: staatl. Träger | C58: 16.836325 | D58: 17.642282 | E58: 15.658228 | F58: 16.571429 | G58: 18.958904 | H58: 19.462585 | I58: 16.264706 | J58: 5.547619
B59: freier Träger | C59: 15.534884 | D59: 17.395349 | E59: 17.619048 | F59: 16.268116 | G59: 12.142857 | H59: 13.666667 | I59: 16.480916 | J59: 6.0172414
A61: 2024/25 | B61: Insgesamt | C61: =C28/'TAB1.01'!C55 -> 16.612432 | D61: =D28/'TAB1.01'!D55 -> 17.559333 | E61: =E28/'TAB1.01'!E55 -> 16.759843 | F61: =F28/'TAB1.01'!F55 -> 16.706612 | G61: =G28/'TAB1.01'!G55 -> 19.113924 | H61: =H28/'TAB1.01'!H55 -> 19.391608 | I61: =I28/'TAB1.01'!I55 -> 16.029167 | J61: =J28/'TAB1.01'!J55 -> 5.7243243
B62: staatl. Träger | C62: =C29/'TAB1.01'!C56 -> 16.789541 | D62: =D29/'TAB1.01'!D56 -> 17.565963 | E62: =E29/'TAB1.01'!E56 -> 15.839286 | F62: =F29/'TAB1.01'!F56 -> 16.6875 | G62: =G29/'TAB1.01'!G56 -> 19.84507 | H62: =H29/'TAB1.01'!H56 -> 19.485714 | I62: =I29/'TAB1.01'!I56 -> 15.258065 | J62: =J29/'TAB1.01'!J56 -> 5.584
B63: freier Träger | C63: =C30/'TAB1.01'!C57 -> 15.908784 | D63: =D30/'TAB1.01'!D57 -> 17.325581 | E63: =E30/'TAB1.01'!E57 -> 18.55814 | F63: =F30/'TAB1.01'!F57 -> 16.721014 | G63: =G30/'TAB1.01'!G57 -> 12.625 | H63: =H30/'TAB1.01'!H57 -> 15 | I63: =I30/'TAB1.01'!I57 -> 16.853448 | J63: =J30/'TAB1.01'!J57 -> 6.0166667
A65: 2025/26 | B65: Insgesamt | C65: 16.829557 | D65: 17.697125 | E65: 17.556818 | F65: 17.315041 | G65: 18.948718 | H65: 19.302013 | I65: 15.846847 | J65: 5.5775401
B66: staatl. Träger | C66: 17.039249 | D66: 17.720211 | E66: 17.048193 | F66: 17.205882 | G66: 19.671429 | H66: 19.445205 | I66: 15.373913 | J66: 5.6370968
B67: freier Träger | C67: 16.027732 | D67: 16.934783 | E67: 18.418367 | F67: 17.392361 | G67: 12.625 | H67: 12.333333 | I67: 16.35514 | J67: 5.4603175

Sheet TAB1.03+04
A2: 3. Lehrer an berufsbildenden Schulen insgesamt
A4: Schuljahr | B4: Träger | C4: Vollzeitbeschäftigte in Personen | H4: Teilzeitbeschäftigte in Personen | M4: Vollzeitbeschäftigte und in Vollzeit umgerechnete Teilzeitbeschäftigte
A9: 2020/21 | B9: Insgesamt | E9: 2342 | I9: 862 | M9: 2962 | N9: 2962
B10: staatl. Träger | E10: 2056 | I10: 527 | M10: 2482 | N10: 2482
B11: freier Träger | E11: 286 | I11: 335 | M11: 480 | N11: 480
A13: 2021/22 | B13: Insgesamt | E13: 2465 | I13: 742 | M13: 2969 | N13: 2969
B14: staatl. Träger | E14: 2146 | I14: 387 | M14: 2438 | N14: 2438
B15: freier Träger | E15: 319 | I15: 355 | M15: 531 | N15: 531
A17: 2022/23 | B17: Insgesamt | E17: 2368 | I17: 839 | M17: 2972 | N17: 2972
B18: staatl. Träger | E18: 2032 | I18: 473 | M18: 2408 | N18: 2408
B19: freier Träger | E19: 336 | I19: 366 | M19: 564 | N19: 564
A21: 2023/24 | B21: Insgesamt | E21: 2399 | I21: 842 | M21: 2923
B22: staatl. Träger | E22: 2086 | I22: 468 | M22: 2382
B23: freier Träger | E23: 313 | I23: 374 | M23: 541
A25: 2024/25 | B25: Insgesamt | E25: 2419 | I25: 843 | M25: 2954
B26: staatl. Träger | E26: 2084 | I26: 469 | M26: 2379
B27: freier Träger | E27: 335 | I27: 374 | M27: 575
A29: 2025/26 | B29: Insgesamt | E29: 2423 | I29: 829 | M29: 2958
B30: staatl. Träger | E30: 2054 | I30: 479 | M30: 2361
B31: freier Träger | E31: 369 | I31: 350 | M31: 597
A34: 4. Vollzeitlehrereinheiten nach Schulformen
A36: Schuljahr | B36: Träger | C36: Berufs- bildende Schule | E36: Davon
E37: Berufs- schulen | G37: Berufs- fach- schule | H37: höhere Berufs- fach- schulen | I37: Fach- ober- schule | K37: beruf- lichen Gymnasien | M37: Fach- schulen | O37: berufs- bildenden Einrichtungen für Behinderte
A42: 2020/21 | B42: Insgesamt | C42: 3076 | E42: 1142 | G42: 424 | H42: 610 | I42: 131 | K42: 351 | M42: 306 | O42: 112
B43: staatl. Träger | C43: 2495 | E43: 1100 | G43: 329 | H43: 339 | I43: 123 | K43: 344 | M43: 181 | O43: 79
B44: freier Träger | C44: 581 | E44: 42 | G44: 95 | H44: 271 | I44: 8 | K44: 7 | M44: 125 | O44: 33
A46: 2021/22 | B46: Insgesamt | C46: 3061 | E46: 1127 | G46: 420 | H46: 629 | I46: 123 | K46: 345 | M46: 307 | O46: 110
B47: staatl. Träger | C47: 2443 | E47: 1083 | G47: 320 | H47: 331 | I47: 116 | K47: 338 | M47: 181 | O47: 74
B48: freier Träger | C48: 618 | E48: 44 | G48: 100 | H48: 298 | I48: 7 | K48: 7 | M48: 126 | O48: 36
A50: 2022/23 | B50: Insgesamt | C50: 3046 | E50: 1140 | G50: 407 | H50: 617 | I50: 131 | K50: 336 | M50: 308 | O50: 107
B51: staatl. Träger | C51: 2415 | E51: 1093 | G51: 307 | H51: 317 | I51: 123 | K51: 329 | M51: 176 | O51: 70
B52: freier Träger | C52: 631 | E52: 47 | G52: 100 | H52: 300 | I52: 8 | K52: 7 | M52: 132 | O52: 37
A54: 2023/24 | B54: Insgesamt | C54: 3006 | E54: 1134 | G54: 398 | H54: 593 | I54: 125 | K54: 332 | M54: 317 | O54: 107
B55: staatl. Träger | C55: 2398 | E55: 1096 | G55: 299 | H55: 310 | I55: 118 | K55: 325 | M55: 183 | O55: 67
B56: freier Träger | C56: 608 | E56: 38 | G56: 99 | H56: 283 | I56: 7 | K56: 7 | M56: 134 | O56: 40
A58: 2024/25 | B58: Insgesamt | C58: 3023 | E58: 1134 | G58: 425 | H58: 602 | I58: 126 | K58: 325 | M58: 299 | O58: 112
B59: staatl. Träger | C59: 2393 | E59: 1095 | G59: 313 | H59: 308 | I59: 119 | K59: 319 | M59: 172 | O59: 67
B60: freier Träger | C60: 630 | E60: 39 | G60: 112 | H60: 294 | I60: 7 | K60: 6 | M60: 127 | O60: 45
A62: 2025/26 | B62: Insgesamt | C62: 3044 | E62: 1155 | G62: 430 | H62: 611 | I62: 121 | K62: 332 | M62: 286 | O62: =SUM(O63:O64) -> 109
B63: staatl. Träger | C63: 2392 | E63: 1114 | G63: 305 | H63: 294 | I63: 115 | K63: 326 | M63: 170 | O63: 68
B64: freier Träger | C64: 652 | E64: 41 | G64: 125 | H64: 317 | I64: 6 | K64: 6 | M64: 116 | O64: 41

Sheet TAB1.05+06
A2: 5. Schüler je Vollzeitlehrereinheiten nach Schulformen
A4: Schuljahr | B4: Träger | C4: Berufs- bildende Schule | E4: Davon
E5: Berufs- schulen | G5: Berufs- fach- schule | H5: höhere Berufs- fach- schulen | J5: Fach- ober- schule | L5: beruf- lichen Gymnasien | N5: Fach- schulen | P5: berufs- bildenden Einrichtungen für Behinderte
A10: 2020/21 | B10: Insgesamt | C10: 15.93498 | E10: 22.867776 | G10: 9.8632075 | H10: 13.636066 | J10: 12.152672 | L10: 8.7720798 | N10: 15.019608 | P10: 10.125
B11: staatl. Träger | C11: 15.948297 | E11: 23.115455 | G11: 8.2462006 | H11: 11.410029 | J11: 12.113821 | L11: 8.8430233 | N11: 13.558011 | P11: 10.088608
B12: freier Träger | C12: 15.877797 | E12: 16.380952 | G12: 15.463158 | H12: 16.420664 | J12: 12.75 | L12: 5.2857143 | N12: 17.136 | P12: 10.212121
A14: 2021/22 | B14: Insgesamt | C14: 16.046717 | E14: 23.298137 | G14: 9.5857143 | H14: 13.265501 | J14: 12.682927 | L14: 8.9826087 | N14: 15.465798 | P14: 9.8636364
B15: staatl. Träger | C15: 16.20876 | E15: 23.595568 | G15: 7.996875 | H15: 11.238671 | J15: 12.543103 | L15: 9.0473373 | N15: 13.707182 | P15: 10.418919
B16: freier Träger | C16: 15.406149 | E16: 15.977273 | G16: 14.67 | H16: 15.516779 | J16: 15 | L16: 5.8571429 | N16: 17.992063 | P16: 8.7222222
A18: 2022/23 | B18: Insgesamt | C18: 15.898227 | E18: 23.217544 | G18: 9.3366093 | H18: 12.909238 | J18: 11.427481 | L18: 9.014881 | N18: 15.116883 | P18: 9.4485981
B19: staatl. Träger | C19: 16.134161 | E19: 23.519671 | G19: 7.7687296 | H19: 10.798107 | J19: 11.398374 | L19: 9.0759878 | N19: 13.511364 | P19: 9.7571429
B20: freier Träger | C20: 14.995246 | E20: 16.191489 | G20: 14.15 | H20: 15.14 | J20: 11.875 | L20: 6.1428571 | N20: 17.257576 | P20: 8.8648649
A22: 2023/24 | B22: Insgesamt | C22: 16.217232 | E22: 23.840388 | G22: 9.9346734 | H22: 13.440135 | J22: 11.752 | L22: 8.7409639 | N22: 13.788644 | P22: 9.7943925
B23: staatl. Träger | C23: 16.429108 | E23: 23.984489 | G23: 8.2742475 | H23: 11.225806 | J23: 11.728814 | L23: 8.8030769 | N23: 12.087432 | P23: 10.432836
B24: freier Träger | C24: 15.381579 | E24: 19.684211 | G24: 14.949495 | H24: 15.865724 | J24: 12.142857 | L24: 5.8571429 | N24: 16.11194 | P24: 8.725
A26: 2024/25 | B26: Insgesamt | C26: 16.1783 | E26: 24.140212 | G26: 10.016471 | H26: 13.431894 | J26: 11.984127 | L26: 8.5323077 | N26: 12.866221 | P26: 9.4553571
B27: staatl. Träger | C27: 16.50188 | E27: 24.319635 | G27: 8.5015974 | H27: 11.269481 | J27: 11.840336 | L27: 8.5517241 | N27: 11 | P27: 10.41791
B28: freier Träger | C28: 14.949206 | E28: 19.102564 | G28: 14.25 | H28: 15.697279 | J28: 14.428571 | L28: 7.5 | N28: 15.393701 | P28: 8.0222222
A30: 2025/26 | B30: Insgesamt | C30: 16.348555 | E30: 23.979221 | G30: 10.77907 | H30: 13.942717 | J30: 12.214876 | L30: 8.6626506 | N30: 12.300699 | P30: 9.5688073
B31: staatl. Träger | C31: 16.697324 | E31: 24.162478 | G31: 9.2786885 | H31: 11.938776 | J31: 11.973913 | L31: 8.708589 | N31: 10.4 | P31: 10.279412
B32: freier Träger | C32: 15.069018 | E32: 19 | G32: 14.44 | H32: 15.801262 | J32: 16.833333 | L32: 6.1666667 | N32: 15.086207 | P32: 8.3902439
A35: 6. Wöchentlich erteilte Unterrichtsstunden nach Schulformen
A37: Schuljahr | B37: Träger | C37: Berufs- bildende Schule | E37: Davon
E38: Berufs- schulen | G38: Berufs- fach- schule | H38: höhere Berufs- fach- schulen | J38: Fach- ober- schule | L38: beruf- lichen Gymnasien | N38: Fach- schulen | P38: berufs- bildenden Einrichtungen für Behinderte
A43: 2020/21 | B43: Insgesamt | C43: 59002 | E43: 21484 | G43: 8568 | H43: 11884 | J43: 2399 | L43: 6387 | N43: 6043 | P43: 2237
B44: staatl. Träger | C44: 46708 | E44: 20648 | G44: 6475 | H44: 6208 | J44: 2239 | L44: 6257 | N44: 3358 | P44: 1523
B45: freier Träger | C45: 12294 | E45: 836 | G45: 2093 | H45: 5676 | J45: 160 | L45: 130 | N45: 2685 | P45: 714
A47: 2021/22 | B47: Insgesamt | C47: 59472 | E47: 21643 | G47: 8663 | H47: 12264 | J47: 2292 | L47: 6353 | N47: 6079 | P47: 2178
B48: staatl. Träger | C48: 46134 | E48: 20773 | G48: 6384 | H48: 5892 | J48: 2147 | L48: 6216 | N48: 3303 | P48: 1419
B49: freier Träger | C49: 13338 | E49: 870 | G49: 2279 | H49: 6372 | J49: 145 | L49: 137 | N49: 2776 | P49: 759
A51: 2022/23 | B51: Insgesamt | C51: 58831 | E51: 21757 | G51: 8211 | H51: 12143 | J51: 2349 | L51: 6141 | N51: 6102 | P51: 2128
B52: staatl. Träger | C52: 45058 | E52: 20849 | G52: 5996 | H52: 5524 | J52: 2188 | L52: 6005 | N52: 3155 | P52: 1341
B53: freier Träger | C53: 13773 | E53: 908 | G53: 2215 | H53: 6619 | J53: 161 | L53: 136 | N53: 2947 | P53: 787
A55: 2023/24 | B55: Insgesamt | C55: 58662 | E55: 21937 | G55: 8072 | H55: 11840 | J55: 2292 | L55: 6051 | N55: 6322 | P55: 2148
B56: staatl. Träger | C56: 44895 | E56: 21014 | G56: 5880 | H56: 5405 | J56: 2130 | L56: 5910 | N56: 3256 | P56: 1300
B57: freier Träger | C57: 13767 | E57: 923 | G57: 2192 | H57: 6435 | J57: 162 | L57: 141 | N57: 3066 | P57: 848
A59: 2024/25 | B59: Insgesamt | C59: 57598 | E59: 21532 | G59: 8299 | H59: 11546 | J59: 2326 | L59: 5884 | N59: 5811 | P59: 2200
B60: staatl. Träger | C60: 44022 | E60: 20698 | G60: 5888 | H60: 5227 | J60: 2176 | L60: 5769 | N60: 2984 | P60: 1280
B61: freier Träger | C61: 13576 | E61: 834 | G61: 2411 | H61: 6319 | J61: 150 | L61: 115 | N61: 2827 | P61: 920
A63: 2025/26 | B63: Insgesamt | C63: 57020 | E63: 21910 | G63: 8227 | H63: 11239 | J63: 2235 | L63: 5890 | N63: 5420 | P63: 2099
B64: staatl. Träger | C64: 43914 | E64: 21073 | G64: 5713 | H64: 4987 | J64: 2109 | L64: 5761 | N64: 2995 | P64: 1276
B65: freier Träger | C65: 13106 | E65: 837 | G65: 2514 | H65: 6252 | J65: 126 | L65: 129 | N65: 2425 | P65: 823

Sheet TAB1.07+08
A2: 7. Wöchentlich erteilte Unterrichtsstunden je Klasse nach Schulformen
A4: Schuljahr | B4: Träger | C4: Berufs- bildende Schule | D4: Davon
D5: Berufs- schulen | E5: Berufs- fach- schulen | F5: höhere Berufs- fach- schulen | G5: Fach- ober- schule | I5: beruf- lichen Gymnasien | J5: Fach- schulen | K5: berufs- bildenden Einrichtungen für Behinderte
A10: 2020/21 | B10: Insgesamt | C10: 20.206164 | D10: 14.032658 | E10: 35.849372 | F10: 25.556989 | G10: 29.9875 | I10: 41.474026 | J10: 23.153257 | K10: 11.773684
B11: staatl. Träger | C11: 19.708017 | D11: 13.867025 | E11: 39.723926 | F11: 28.740741 | G11: 30.671233 | I11: 41.437086 | J11: 23.985714 | K11: 11.036232
B12: freier Träger | C12: 22.352727 | D12: 19.904762 | E12: 27.539474 | F12: 22.795181 | G12: 22.857143 | I12: 43.333333 | J12: 22.190083 | K12: 13.730769
A14: 2021/22 | B14: Insgesamt | C14: 20.153168 | D14: 14.220105 | E14: 35.215447 | F14: 25.710692 | G14: 29.012658 | I14: 40.208861 | J14: 21.866906 | K14: 11.403141
B15: staatl. Träger | C15: 19.506977 | D15: 14.054804 | E15: 39.165644 | F15: 27.404651 | G15: 29.819444 | I15: 40.103226 | J15: 22.623288 | K15: 10.433824
B16: freier Träger | C16: 22.761092 | D16: 19.772727 | E16: 27.457831 | F16: 24.320611 | G16: 20.714286 | I16: 45.666667 | J16: 21.030303 | K16: 13.8
A18: 2022/23 | B18: Insgesamt | C18: 20.120041 | D18: 14.304405 | E18: 33.929752 | F18: 25.618143 | G18: 29.734177 | I18: 40.401316 | J18: 22.270073 | K18: 11.692308
B19: staatl. Träger | C19: 19.329901 | D19: 14.115775 | E19: 37.242236 | F19: 27.078431 | G19: 30.388889 | I19: 40.302013 | J19: 22.535714 | K19: 10.476562
B20: freier Träger | C20: 23.22597 | D20: 20.636364 | E20: 27.345679 | F20: 24.514815 | G20: 23 | I20: 45.333333 | J20: 21.992537 | K20: 14.574074
A22: 2023/24 | B22: Insgesamt | C22: 19.939497 | D22: 14.30985 | E22: 33.355372 | F22: 24.36214 | G22: 28.65 | I22: 40.34 | J22: 23.677903 | K22: 11.673913
B23: staatl. Träger | C23: 19.185897 | D23: 14.103356 | E23: 37.21519 | F23: 25.738095 | G23: 29.178082 | I23: 40.204082 | J23: 23.941176 | K23: 10.31746
B24: freier Träger | C24: 22.868771 | D24: 21.465116 | E24: 26.095238 | F24: 23.315217 | G24: 23.142857 | I24: 47 | J24: 23.40458 | K24: 14.62069
A26: 2024/25 | B26: Insgesamt | C26: 19.564538 | D26: 13.811418 | E26: 32.673228 | F26: 23.855372 | G26: 29.443038 | I26: 41.146853 | J26: 24.2125 | K26: 11.891892
B27: staatl. Träger | C27: 18.716837 | D27: 13.653034 | E27: 35.047619 | F27: 25.129808 | G27: 30.647887 | I27: 41.207143 | J27: 24.064516 | K27: 10.24
B28: freier Träger | C28: 22.932432 | D28: 19.395349 | E28: 28.034884 | F28: 22.894928 | G28: 18.75 | I28: 38.333333 | J28: 24.37069 | K28: 15.333333
A30: 2025/26 | B30: Insgesamt | C30: 19.283057 | D30: 14 | E30: 31.162879 | F30: 22.843496 | G30: 28.653846 | I30: 39.530201 | J30: 24.414414 | K30: 11.224599
B31: staatl. Träger | C31: 18.734642 | D31: 13.872943 | E31: 34.415663 | F31: 24.446078 | G31: 30.128571 | I31: 39.458904 | J31: 26.043478 | K31: 10.290323
B32: freier Träger | C32: 21.380098 | D32: 18.195652 | E32: 25.653061 | F32: 21.708333 | G32: 15.75 | I32: 43 | J32: 22.663551 | K32: 13.063492
A35: 8. Wöchentlich erteilte Unterrichtsstunden je Schüler nach Schulformen
A37: Schuljahr | B37: Träger | C37: Berufs- bildende Schule | D37: Davon
D38: Berufs- schulen | E38: Berufs- fach- schulen | F38: höhere Berufs- fach- schulen | G38: Fach- ober- schule | I38: beruf- lichen Gymnasien | J38: Fach- schulen | K38: berufs- bildenden Einrichtungen für Behinderte
A43: 2020/21 | B43: Insgesamt | C43: 1.2037294 | D43: 0.82266896 | E43: 2.0487805 | F43: 1.4287088 | G43: 1.5069095 | I43: 2.0743748 | J43: 1.314839 | K43: 1.9726631
B44: staatl. Träger | C44: 1.1738333 | D44: 0.81205018 | E44: 2.3866568 | F44: 1.6049638 | G44: 1.5026846 | I44: 2.0568705 | J44: 1.3683782 | K44: 1.9109159
B45: freier Träger | C45: 1.3326829 | D45: 1.2151163 | E45: 1.4247788 | F45: 1.2755056 | G45: 1.5686275 | I45: 3.5135135 | J45: 1.2535014 | K45: 2.1186944
A47: 2021/22 | B47: Insgesamt | C47: 1.2107738 | D47: 0.82427543 | E47: 2.1517635 | F47: 1.4697987 | G47: 1.4692308 | I47: 2.0500161 | J47: 1.2803286 | K47: 2.0073733
B48: staatl. Träger | C48: 1.1650588 | D48: 0.812906 | E48: 2.4947245 | F48: 1.583871 | G48: 1.4756014 | I48: 2.0327011 | J48: 1.331318 | K48: 1.8404669
B49: freier Träger | C49: 1.4009033 | D49: 1.2375533 | E49: 1.5535106 | F49: 1.3780277 | G49: 1.3809524 | I49: 3.3414634 | J49: 1.2245258 | K49: 2.4171975
A51: 2022/23 | B51: Insgesamt | C51: 1.2148639 | D51: 0.82201149 | E51: 2.1607895 | F51: 1.5245449 | G51: 1.5691383 | I51: 2.0274018 | J51: 1.310567 | K51: 2.1048467
B52: staatl. Träger | C52: 1.1564008 | D52: 0.81102423 | E52: 2.5140461 | F52: 1.6137891 | G52: 1.5606277 | I52: 2.0110516 | J52: 1.3267452 | K52: 1.9633968
B53: freier Träger | C53: 1.4556119 | D53: 1.1931669 | E53: 1.565371 | F53: 1.4572875 | G53: 1.6947368 | I53: 3.1627907 | J53: 1.2936787 | K53: 2.3993902
A55: 2023/24 | B55: Insgesamt | C55: 1.2033478 | D55: 0.81142963 | E55: 2.041477 | F55: 1.4855709 | G55: 1.5602451 | I55: 2.0851137 | J55: 1.4463509 | K55: 2.0496183
B56: staatl. Träger | C56: 1.1395538 | D56: 0.79940655 | E56: 2.3767179 | F56: 1.5531609 | G56: 1.5390173 | I56: 2.0657113 | J56: 1.4719711 | K56: 1.8597997
B57: freier Träger | C57: 1.4720915 | D57: 1.2339572 | E57: 1.4810811 | F57: 1.4331849 | G57: 1.9058824 | I57: 3.4390244 | J57: 1.4201019 | K57: 2.4297994
A59: 2024/25 | B59: Insgesamt | C59: 1.1777046 | D59: 0.78655708 | E59: 1.9494949 | F59: 1.4279001 | G59: 1.5403974 | I59: 2.1218897 | J59: 1.5105277 | K59: 2.0774315
B60: staatl. Träger | C60: 1.1147915 | D60: 0.77724371 | E60: 2.212702 | F60: 1.5059061 | G60: 1.5443577 | I60: 2.1147361 | J60: 1.577167 | K60: 1.8338109
B61: freier Träger | C61: 1.441495 | D61: 1.1194631 | E61: 1.5106516 | F61: 1.3692308 | G61: 1.4851485 | I61: 2.5555556 | J61: 1.4460358 | K61: 2.5484765
A63: 2025/26 | B63: Insgesamt | C63: 1.1457852 | D63: 0.79108897 | E63: 1.774973 | F63: 1.3192863 | G63: 1.5121786 | I63: 2.0479833 | J63: 1.5406481 | K63: 2.012464
B64: staatl. Träger | C64: 1.0994992 | D64: 0.78288814 | E64: 2.0187279 | F64: 1.4207977 | G64: 1.5315904 | I64: 2.0292356 | J64: 1.6940045 | K64: 1.8254649
B65: freier Träger | C65: 1.333944 | D65: 1.0744544 | E65: 1.3927978 | F65: 1.2481533 | G65: 1.2475248 | I65: 3.4864865 | J65: 1.3857143 | K65: 2.3924419

Sheet TAB1.09
A2: 9. Schulen, Klassen, Schüler, Lehrer (Vollzeitlehrereinheiten) und
A3: wöchentlich erteilte Unterrichtsstunden nach Schulformen
A5: Schuljahr | B5: Träger | C5: Schulen | D5: Klassen | E5: Schüler | F5: Schüler je Klasse | G5: Vollzeit- lehrer- einheiten | I5: Schüler je Vollzeit- lehrer- einheit | K5: Wöchentlich erteilte Unterrichtsstunden
K7: Stunden | M7: je Klasse | O7: je Schüler
A10: Berufsbildende Schulen insgesamt
A12: 2020/21 | B12: Insgesamt | C12: 98 | D12: 2920 | E12: 49016 | F12: 16.786301 | G12: 3076 | I12: 15.93498 | K12: 59002 | M12: 20.206164 | O12: 1.2037294
B13: staatl. Träger | C13: 37 | D13: 2370 | E13: 39791 | F13: 16.789451 | G13: 2495 | I13: 15.948297 | K13: 46708 | M13: 19.708017 | O13: 1.1738333
B14: freier Träger | C14: 61 | D14: 550 | E14: 9225 | F14: 16.772727 | G14: 581 | I14: 15.877797 | K14: 12294 | M14: 22.352727 | O14: 1.3326829
A16: 2021/22 | B16: Insgesamt | C16: 98 | D16: 2951 | E16: 49119 | F16: 16.644866 | G16: 3061 | I16: 16.046717 | K16: 59472 | M16: 20.153168 | O16: 1.2107738
B17: staatl. Träger | C17: 37 | D17: 2365 | E17: 39598 | F17: 16.74334 | G17: 2443 | I17: 16.20876 | K17: 46134 | M17: 19.506977 | O17: 1.1650588
B18: freier Träger | C18: 61 | D18: 586 | E18: 9521 | F18: 16.24744 | G18: 618 | I18: 15.406149 | K18: 13338 | M18: 22.761092 | O18: 1.4009033
A20: 2022/23 | B20: Insgesamt | C20: 96 | D20: 2924 | E20: 48426 | F20: 16.56156 | G20: 3046 | I20: 15.898227 | K20: 58831 | M20: 20.120041 | O20: 1.2148639
B21: staatl. Träger | C21: 37 | D21: 2331 | E21: 38964 | F21: 16.715573 | G21: 2415 | I21: 16.134161 | K21: 45058 | M21: 19.329901 | O21: 1.1564008
B22: freier Träger | C22: 59 | D22: 593 | E22: 9462 | F22: 15.956155 | G22: 631 | I22: 14.995246 | K22: 13773 | M22: 23.22597 | O22: 1.4556119
A24: 2023/24 | B24: Insgesamt | C24: 95 | D24: 2942 | E24: 48749 | F24: 16.57002 | G24: 3006 | I24: 16.217232 | K24: 58662 | M24: 19.939497 | O24: 1.2033478
B25: staatl. Träger | C25: 37 | D25: 2340 | E25: 39397 | F25: 16.836325 | G25: 2398 | I25: 16.429108 | K25: 44895 | M25: 19.185897 | O25: 1.1395538
B26: freier Träger | C26: 58 | D26: 602 | E26: 9352 | F26: 15.534884 | G26: 608 | I26: 15.381579 | K26: 13767 | M26: 22.868771 | O26: 1.4720915
A28: 2024/25 | B28: Insgesamt | C28: 95 | D28: 2944 | E28: 48907 | F28: 16.612432 | G28: 3023 | I28: 16.1783 | K28: 57598 | M28: 19.564538 | O28: 1.1777046
B29: staatl. Träger | C29: 37 | D29: 2352 | E29: 39489 | F29: 16.789541 | G29: 2393 | I29: 16.50188 | K29: 44022 | M29: 18.716837 | O29: 1.1147915
B30: freier Träger | C30: 58 | D30: 592 | E30: 9418 | F30: 15.908784 | G30: 630 | I30: 14.949206 | K30: 13576 | M30: 22.932432 | O30: 1.441495
A32: 2025/26 | B32: Insgesamt | C32: 96 | D32: 2957 | E32: 49765 | F32: 16.829557 | G32: 3044 | I32: 16.348555 | K32: 57020 | M32: 19.283057 | O32: 1.1457852
B33: staatl. Träger | C33: 37 | D33: 2344 | E33: 39940 | F33: 17.039249 | G33: 2392 | I33: 16.697324 | K33: 43914 | M33: 18.734642 | O33: 1.0994992
B34: freier Träger | C34: 59 | D34: 613 | E34: 9825 | F34: 16.027732 | G34: 652 | I34: 15.069018 | K34: 13106 | M34: 21.380098 | O34: 1.333944
A37: Berufsschule
A39: 2020/21 | B39: Insgesamt | C39: 46 | D39: 1531 | E39: 26115 | F39: 17.057479 | G39: 1142 | I39: 22.867776 | K39: 21484 | M39: 14.032658 | O39: 0.82266896
B40: staatl. Träger | C40: 35 | D40: 1489 | E40: 25427 | F40: 17.076561 | G40: 1100 | I40: 23.115455 | K40: 20648 | M40: 13.867025 | O40: 0.81205018
B41: freier Träger | C41: 11 | D41: 42 | E41: 688 | F41: 16.380952 | G41: 42 | I41: 16.380952 | K41: 836 | M41: 19.904762 | O41: 1.2151163
A43: 2021/22 | B43: Insgesamt | C43: 46 | D43: 1522 | E43: 26257 | F43: 17.251643 | G43: 1127 | I43: 23.298137 | K43: 21643 | M43: 14.220105 | O43: 0.82427543
B44: staatl. Träger | C44: 35 | D44: 1478 | E44: 25554 | F44: 17.289581 | G44: 1083 | I44: 23.595568 | K44: 20773 | M44: 14.054804 | O44: 0.812906
B45: freier Träger | C45: 11 | D45: 44 | E45: 703 | F45: 15.977273 | G45: 44 | I45: 15.977273 | K45: 870 | M45: 19.772727 | O45: 1.2375533
A47: 2022/23 | B47: Insgesamt | C47: 43 | D47: 1521 | E47: 26468 | F47: 17.401709 | G47: 1140 | I47: 23.217544 | K47: 21757 | M47: 14.304405 | O47: 0.82201149
B48: staatl. Träger | C48: 35 | D48: 1477 | E48: 25707 | F48: 17.404875 | G48: 1093 | I48: 23.519671 | K48: 20849 | M48: 14.115775 | O48: 0.81102423
B49: freier Träger | C49: 8 | D49: 44 | E49: 761 | F49: 17.295455 | G49: 47 | I49: 16.191489 | K49: 908 | M49: 20.636364 | O49: 1.1931669
A51: 2023/24 | B51: Insgesamt | C51: 43 | D51: 1533 | E51: 27035 | F51: 17.635356 | G51: 1134 | I51: 23.840388 | K51: 21937 | M51: 14.30985 | O51: 0.81142963
B52: staatl. Träger | C52: 36 | D52: 1490 | E52: 26287 | F52: 17.642282 | G52: 1096 | I52: 23.984489 | K52: 21014 | M52: 14.103356 | O52: 0.79940655
B53: freier Träger | C53: 7 | D53: 43 | E53: 748 | F53: 17.395349 | G53: 38 | I53: 19.684211 | K53: 923 | M53: 21.465116 | O53: 1.2339572
A55: 2024/25 | B55: Insgesamt | C55: 43 | D55: 1559 | E55: 27375 | F55: 17.559333 | G55: 1134 | I55: 24.140212 | K55: 21532 | M55: 13.811418 | O55: 0.78655708
B56: staatl. Träger | C56: 36 | D56: 1516 | E56: 26630 | F56: 17.565963 | G56: 1095 | I56: 24.319635 | K56: 20698 | M56: 13.653034 | O56: 0.77724371
B57: freier Träger | C57: 7 | D57: 43 | E57: 745 | F57: 17.325581 | G57: 39 | I57: 19.102564 | K57: 834 | M57: 19.395349 | O57: 1.1194631
A59: 2025/26 | B59: Insgesamt | C59: 44 | D59: 1565 | E59: 27696 | F59: 17.697125 | G59: 1155 | I59: 23.979221 | K59: 21910 | M59: 14 | O59: 0.79108897
B60: staatl. Träger | C60: 36 | D60: 1519 | E60: 26917 | F60: 17.720211 | G60: 1114 | I60: 24.162478 | K60: 21073 | M60: 13.872943 | O60: 0.78288814
B61: freier Träger | C61: 8 | D61: 46 | E61: 779 | F61: 16.934783 | G61: 41 | I61: 19 | K61: 837 | M61: 18.195652 | O61: 1.0744544
A68: Noch: 9. Schulen, Klassen, Schüler, Lehrer (Vollzeitlehrereinheiten) und
A69: wöchentlich erteilte Unterrichtsstunden nach Schulformen
A71: Schuljahr | B71: Träger | C71: Schulen | D71: Klassen | E71: Schüler | F71: Schüler je Klasse | G71: Vollzeit- lehrer- einheiten | I71: Schüler je Vollzeit- lehrer- einheit | K71: Wöchentlich erteilte Unterrichtsstunden
K73: Stunden | M73: je Klasse | O73: je Schüler
A76: Berufsfachschule
A78: 2020/21 | B78: Insgesamt | C78: 62 | D78: 239 | E78: 4182 | F78: 17.497908 | G78: 424 | I78: 9.8632075 | K78: 8568 | M78: 35.849372 | O78: 2.0487805
B79: staatl. Träger | C79: 34 | D79: 163 | E79: 2713 | F79: 16.644172 | G79: 329 | I79: 8.2462006 | K79: 6475 | M79: 39.723926 | O79: 2.3866568
B80: freier Träger | C80: 28 | D80: 76 | E80: 1469 | F80: 19.328947 | G80: 95 | I80: 15.463158 | K80: 2093 | M80: 27.539474 | O80: 1.4247788
A82: 2021/22 | B82: Insgesamt | C82: 62 | D82: 246 | E82: 4026 | F82: 16.365854 | G82: 420 | I82: 9.5857143 | K82: 8663 | M82: 35.215447 | O82: 2.1517635
B83: staatl. Träger | C83: 34 | D83: 163 | E83: 2559 | F83: 15.699387 | G83: 320 | I83: 7.996875 | K83: 6384 | M83: 39.165644 | O83: 2.4947245
B84: freier Träger | C84: 28 | D84: 83 | E84: 1467 | F84: 17.674699 | G84: 100 | I84: 14.67 | K84: 2279 | M84: 27.457831 | O84: 1.5535106
A86: 2022/23 | B86: Insgesamt | C86: 61 | D86: 242 | E86: 3800 | F86: 15.702479 | G86: 407 | I86: 9.3366093 | K86: 8211 | M86: 33.929752 | O86: 2.1607895
B87: staatl. Träger | C87: 34 | D87: 161 | E87: 2385 | F87: 14.813665 | G87: 307 | I87: 7.7687296 | K87: 5996 | M87: 37.242236 | O87: 2.5140461
B88: freier Träger | C88: 27 | D88: 81 | E88: 1415 | F88: 17.469136 | G88: 100 | I88: 14.15 | K88: 2215 | M88: 27.345679 | O88: 1.565371
A90: 2023/24 | B90: Insgesamt | C90: 61 | D90: 242 | E90: 3954 | F90: 16.338843 | G90: 398 | I90: 9.9346734 | K90: 8072 | M90: 33.355372 | O90: 2.041477
B91: staatl. Träger | C91: 34 | D91: 158 | E91: 2474 | F91: 15.658228 | G91: 299 | I91: 8.2742475 | K91: 5880 | M91: 37.21519 | O91: 2.3767179
B92: freier Träger | C92: 27 | D92: 84 | E92: 1480 | F92: 17.619048 | G92: 99 | I92: 14.949495 | K92: 2192 | M92: 26.095238 | O92: 1.4810811
A94: 2024/25 | B94: Insgesamt | C94: 66 | D94: 254 | E94: 4257 | F94: 16.759843 | G94: 425 | I94: 10.016471 | K94: 8299 | M94: 32.673228 | O94: 1.9494949
B95: staatl. Träger | C95: 34 | D95: 168 | E95: 2661 | F95: 15.839286 | G95: 313 | I95: 8.5015974 | K95: 5888 | M95: 35.047619 | O95: 2.212702
B96: freier Träger | C96: 32 | D96: 86 | E96: 1596 | F96: 18.55814 | G96: 112 | I96: 14.25 | K96: 2411 | M96: 28.034884 | O96: 1.5106516
A98: 2025/26 | B98: Insgesamt | C98: 70 | D98: 264 | E98: 4635 | F98: 17.556818 | G98: 430 | I98: 10.77907 | K98: 8227 | M98: 31.162879 | O98: 1.774973
B99: staatl. Träger | C99: 34 | D99: 166 | E99: 2830 | F99: 17.048193 | G99: 305 | I99: 9.2786885 | K99: 5713 | M99: 34.415663 | O99: 2.0187279
B100: freier Träger | C100: 36 | D100: 98 | E100: 1805 | F100: 18.418367 | G100: 125 | I100: 14.44 | K100: 2514 | M100: 25.653061 | O100: 1.3927978
A103: höhere Berufsfachschule
A105: 2020/21 | B105: Insgesamt | C105: 61 | D105: 465 | E105: 8318 | F105: 17.888172 | G105: 610 | I105: 13.636066 | K105: 11884 | M105: 25.556989 | O105: 1.4287088
B106: staatl. Träger | C106: 17 | D106: 216 | E106: 3868 | F106: 17.907407 | G106: 339 | I106: 11.410029 | K106: 6208 | M106: 28.740741 | O106: 1.6049638
B107: freier Träger | C107: 44 | D107: 249 | E107: 4450 | F107: 17.871486 | G107: 271 | I107: 16.420664 | K107: 5676 | M107: 22.795181 | O107: 1.2755056
A109: 2021/22 | B109: Insgesamt | C109: 62 | D109: 477 | E109: 8344 | F109: 17.492662 | G109: 629 | I109: 13.265501 | K109: 12264 | M109: 25.710692 | O109: 1.4697987
B110: staatl. Träger | C110: 17 | D110: 215 | E110: 3720 | F110: 17.302326 | G110: 331 | I110: 11.238671 | K110: 5892 | M110: 27.404651 | O110: 1.583871
B111: freier Träger | C111: 45 | D111: 262 | E111: 4624 | F111: 17.648855 | G111: 298 | I111: 15.516779 | K111: 6372 | M111: 24.320611 | O111: 1.3780277
A113: 2022/23 | B113: Insgesamt | C113: 61 | D113: 474 | E113: 7965 | F113: 16.803797 | G113: 617 | I113: 12.909238 | K113: 12143 | M113: 25.618143 | O113: 1.5245449
B114: staatl. Träger | C114: 17 | D114: 204 | E114: 3423 | F114: 16.779412 | G114: 317 | I114: 10.798107 | K114: 5524 | M114: 27.078431 | O114: 1.6137891
B115: freier Träger | C115: 44 | D115: 270 | E115: 4542 | F115: 16.822222 | G115: 300 | I115: 15.14 | K115: 6619 | M115: 24.514815 | O115: 1.4572875
A117: 2023/24 | B117: Insgesamt | C117: 61 | D117: 486 | E117: 7970 | F117: 16.399177 | G117: 593 | I117: 13.440135 | K117: 11840 | M117: 24.36214 | O117: 1.4855709
B118: staatl. Träger | C118: 17 | D118: 210 | E118: 3480 | F118: 16.571429 | G118: 310 | I118: 11.225806 | K118: 5405 | M118: 25.738095 | O118: 1.5531609
B119: freier Träger | C119: 44 | D119: 276 | E119: 4490 | F119: 16.268116 | G119: 283 | I119: 15.865724 | K119: 6435 | M119: 23.315217 | O119: 1.4331849
A121: 2024/25 | B121: Insgesamt | C121: 61 | D121: 484 | E121: 8086 | F121: 16.706612 | G121: 602 | I121: 13.431894 | K121: 11546 | M121: 23.855372 | O121: 1.4279001
B122: staatl. Träger | C122: 17 | D122: 208 | E122: 3471 | F122: 16.6875 | G122: 308 | I122: 11.269481 | K122: 5227 | M122: 25.129808 | O122: 1.5059061
B123: freier Träger | C123: 44 | D123: 276 | E123: 4615 | F123: 16.721014 | G123: 294 | I123: 15.697279 | K123: 6319 | M123: 22.894928 | O123: 1.3692308
A125: 2025/26 | B125: Insgesamt | C125: 62 | D125: 492 | E125: 8519 | F125: 17.315041 | G125: 611 | I125: 13.942717 | K125: 11239 | M125: 22.843496 | O125: 1.3192863
B126: staatl. Träger | C126: 17 | D126: 204 | E126: 3510 | F126: 17.205882 | G126: 294 | I126: 11.938776 | K126: 4987 | M126: 24.446078 | O126: 1.4207977
B127: freier Träger | C127: 45 | D127: 288 | E127: 5009 | F127: 17.392361 | G127: 317 | I127: 15.801262 | K127: 6252 | M127: 21.708333 | O127: 1.2481533
A134: Noch: 9. Schulen, Klassen, Schüler, Lehrer (Vollzeitlehrereinheiten) und
A135: wöchentlich erteilte Unterrichtsstunden nach Schulformen
A137: Schuljahr | B137: Träger | C137: Schulen | D137: Klassen | E137: Schüler | F137: Schüler je Klasse | G137: Vollzeit- lehrer- einheiten | I137: Schüler je Vollzeit- lehrer- einheit | K137: Wöchentlich erteilte Unterrichtsstunden
K139: Stunden | M139: je Klasse | O139: je Schüler
A142: Fachoberschule
A144: 2020/21 | B144: Insgesamt | C144: 21 | D144: 80 | E144: 1592 | F144: 19.9 | G144: 131 | I144: 12.152672 | K144: 2399 | M144: 29.9875 | O144: 1.5069095
B145: staatl. Träger | C145: 19 | D145: 73 | E145: 1490 | F145: 20.410959 | G145: 123 | I145: 12.113821 | K145: 2239 | M145: 30.671233 | O145: 1.5026846
B146: freier Träger | C146: 2 | D146: 7 | E146: 102 | F146: 14.571429 | G146: 8 | I146: 12.75 | K146: 160 | M146: 22.857143 | O146: 1.5686275
A148: 2021/22 | B148: Insgesamt | C148: 21 | D148: 79 | E148: 1560 | F148: 19.746835 | G148: 123 | I148: 12.682927 | K148: 2292 | M148: 29.012658 | O148: 1.4692308
B149: staatl. Träger | C149: 19 | D149: 72 | E149: 1455 | F149: 20.208333 | G149: 116 | I149: 12.543103 | K149: 2147 | M149: 29.819444 | O149: 1.4756014
B150: freier Träger | C150: 2 | D150: 7 | E150: 105 | F150: 15 | G150: 7 | I150: 15 | K150: 145 | M150: 20.714286 | O150: 1.3809524
A152: 2022/23 | B152: Insgesamt | C152: 21 | D152: 79 | E152: 1497 | F152: 18.949367 | G152: 131 | I152: 11.427481 | K152: 2349 | M152: 29.734177 | O152: 1.5691383
B153: staatl. Träger | C153: 19 | D153: 72 | E153: 1402 | F153: 19.472222 | G153: 123 | I153: 11.398374 | K153: 2188 | M153: 30.388889 | O153: 1.5606277
B154: freier Träger | C154: 2 | D154: 7 | E154: 95 | F154: 13.571429 | G154: 8 | I154: 11.875 | K154: 161 | M154: 23 | O154: 1.6947368
A156: 2023/24 | B156: Insgesamt | C156: 22 | D156: 80 | E156: 1469 | F156: 18.3625 | G156: 125 | I156: 11.752 | K156: 2292 | M156: 28.65 | O156: 1.5602451
B157: staatl. Träger | C157: 19 | D157: 73 | E157: 1384 | F157: 18.958904 | G157: 118 | I157: 11.728814 | K157: 2130 | M157: 29.178082 | O157: 1.5390173
...

Sheet TAB1.10
A2: 10. Ausländische Schüler an Schulen insgesamt nach Staatsangehörigkeit
A4: Land der Staatsangehörigkeit1) | B4: Schuljahr
B5: 2020/21 | C5: 2021/22 | D5: 2022/23 | E5: 2023/24 | F5: 2024/25 | G5: 2025/26
A7: Europa | B7: 984 | C7: 1015 | D7: 1167 | E7: 1356 | F7: 1585 | G7: 2081
A8: Albanien | B8: 79 | C8: 72 | D8: 69 | E8: 66 | F8: 65 | G8: 57
A9: Bosnien und Herzegowina | B9: 37 | C9: 33 | D9: 12 | E9: 15 | F9: 11 | G9: 18
A10: Bulgarien | B10: 36 | C10: 47 | D10: 66 | E10: 74 | F10: 63 | G10: 64
A11: Griechenland | B11: 14 | C11: 20 | D11: 26 | E11: 27 | F11: 23 | G11: 23
A12: Italien | B12: 18 | C12: 12 | D12: 13 | E12: 17 | F12: 23 | G12: 25
A13: Kosovo | B13: 57 | C13: 44 | D13: 47 | E13: 35 | F13: 37 | G13: 39
A14: Kroatien | B14: 10 | C14: 12 | D14: 13 | E14: 14 | F14: 18 | G14: 17
A15: Litauen | B15: 7 | C15: 6 | D15: 10 | E15: 6 | F15: 8 | G15: 13
A16: Nordmazedonien | B16: 26 | C16: 26 | D16: 25 | E16: 33 | F16: 35 | G16: 42
A17: Niederlande | B17: 11 | C17: 6 | D17: 5 | E17: 7 | F17: 8 | G17: 8
A18: Österreich | B18: 10 | C18: 6 | D18: 12 | E18: 11 | F18: 10 | G18: 11
... A53: Insgesamt | B53: 4046 | C53: 4271 | D53: 4693 | E53: 5305 | F53: 6158 | G53: 7377
A55: __________
A56: 1) amtliche Kurzform

Sheet TAB1.11
A2: 11. Ausländische Schüler an staatlichen Schulen nach Staatsangehörigkeit
A4: Land der Staatsangehörigkeit1) | B4: Schuljahr
B5: 2020/21 | C5: 2021/22 | D5: 2022/23 | E5: 2023/24 | F5: 2024/25 | G5: 2025/26
A7: Europa | B7: 789 | C7: 802 | D7: 979 | E7: 1185 | F7: 1376 | G7: 1773
A8: Albanien | B8: 61 | C8: 50 | D8: 51 | E8: 54 | F8: 51 | G8: 39
A9: Bosnien und Herzegowina | B9: 10 | C9: 10 | D9: 8 | E9: 9 | F9: 7 | G9: 14
A10: Bulgarien | B10: 32 | C10: 44 | D10: 63 | E10: 69 | F10: 55 | G10: 55
A11: Griechenland | B11: 9 | C11: 13 | D11: 22 | E11: 27 | F11: 18 | G11: 21
A12: Italien | B12: 18 | C12: 11 | D12: 12 | E12: 15 | F12: 21 | G12: 22
A13: Kosovo | B13: 35 | C13: 28 | D13: 28 | E13: 26 | F13: 29 | G13: 29
A14: Kroatien | B14: 8 | C14: 8 | D14: 11 | E14: 12 | F14: 14 | G14: 14
A15: Litauen | B15: 6 | C15: 5 | D15: 9 | E15: 6 | F15: 7 | G15: 12
A16: Nordmazedonien | B16: 23 | C16: 22 | D16: 21 | E16: 30 | F16: 32 | G16: 35
A17: Niederlande | B17: 8 | C17: 5 | D17: 4 | E17: 7 | F17: 8 | G17: 7
A18: Österreich | B18: 9 | C18: 5 | D18: 10 | E18: 10 | F18: 10 | G18: 8
... A53: Insgesamt | B53: 3107 | C53: 3220 | D53: 3527 | E53: 4070 | F53: 4634 | G53: 5392
A55: __________
A56: 1) amtliche Kurzform

Sheet TAB1.12+13
A2: 12. Absolventen/Abgänger*) nach Schulformen
A4: Schuljahr | B4: Träger | C4: Insgesamt | D4: Davon aus
D5: Berufs- schulen | E5: Berufs- fach- schulen | F5: Fach- ober- schulen | G5: beruf- lichen Gym- nasien | H5: Fach- schulen | I5: berufs- bildenden Einrichtungen für Behinderte
A10: 2019/20 | B10: Insgesamt | C10: 16046 | D10: 8539 | E10: 4227 | F10: 655 | G10: 953 | H10: 1326 | I10: 346
B11: staatl. Träger | C11: 13079 | D11: 8245 | E11: 2307 | F11: 612 | G11: 942 | H11: 719 | I11: 254
B12: freier Träger | C12: 2967 | D12: 294 | E12: 1920 | F12: 43 | G12: 11 | H12: 607 | I12: 92
A14: 2020/21 | B14: Insgesamt | C14: 16149 | D14: 8468 | E14: 4469 | F14: 692 | G14: 889 | H14: 1304 | I14: 327
B15: staatl. Träger | C15: 13141 | D15: 8157 | E15: 2490 | F15: 639 | G15: 880 | H15: 753 | I15: 222
B16: freier Träger | C16: 3008 | D16: 311 | E16: 1979 | F16: 53 | G16: 9 | H16: 551 | I16: 105
A18: 2021/22 | B18: Insgesamt | C18: 16192 | D18: 8633 | E18: 4347 | F18: 659 | G18: 893 | H18: 1332 | I18: 328
B19: staatl. Träger | C19: 13224 | D19: 8339 | E19: 2425 | F19: 620 | G19: 881 | H19: 732 | I19: 227
B20: freier Träger | C20: 2968 | D20: 294 | E20: 1922 | F20: 39 | G20: 12 | H20: 600 | I20: 101
A22: 2022/23 | B22: Insgesamt | C22: 16108 | D22: 8680 | E22: 4085 | F22: 711 | G22: 938 | H22: 1402 | I22: 292
B23: staatl. Träger | C23: 13028 | D23: 8377 | E23: 2126 | F23: 654 | G23: 924 | H23: 753 | I23: 194
B24: freier Träger | C24: 3080 | D24: 303 | E24: 1959 | F24: 57 | G24: 14 | H24: 649 | I24: 98
A26: 2023/24 | B26: Insgesamt | C26: 16006 | D26: 8824 | E26: 4063 | F26: 561 | G26: 931 | H26: 1352 | I26: 275
B27: staatl. Träger | C27: 12876 | D27: 8500 | E27: 2069 | F27: 527 | G27: 919 | H27: 679 | I27: 182
B28: freier Träger | C28: 3130 | D28: 324 | E28: 1994 | F28: 34 | G28: 12 | H28: 673 | I28: 93
A30: 2024/25 | B30: Insgesamt | C30: 16370 | D30: 9018 | E30: 4284 | F30: 668 | G30: 826 | H30: 1294 | I30: 280
B31: staatl. Träger | C31: 13057 | D31: 8681 | E31: 2129 | F31: 625 | G31: 808 | H31: 642 | I31: 172
B32: freier Träger | C32: 3313 | D32: 337 | E32: 2155 | F32: 43 | G32: 18 | H32: 652 | I32: 108
A34: 13. Absolventen/Abgänger*) aus berufsbildenden Schulen insgesamt nach Abschlussarten
A36: Schuljahr | B36: Träger | C36: Insgesamt | D36: Davon
D37: ohne Abschluss | E37: mit Abschluss | F37: darunter mit
F38: Hauptschul- abschluss | G38: Realschul- abschluss | H38: Fachhoch- schulreife | I38: allgemeiner Hochschul- reife
A42: 2019/20 | B42: Insgesamt | C42: 16046 | D42: 1939 | E42: 14107 | F42: 640 | G42: 815 | H42: 1314 | I42: 849
B43: staatl. Träger | C43: 13079 | D43: 1706 | E43: 11373 | F43: 549 | G43: 601 | H43: 859 | I43: 838
B44: freier Träger | C44: 2967 | D44: 233 | E44: 2734 | F44: 91 | G44: 214 | H44: 455 | I44: 11
A46: 2020/21 | B46: Insgesamt | C46: 16149 | D46: 1764 | E46: 14385 | F46: 467 | G46: 852 | H46: 1360 | I46: 802
B47: staatl. Träger | C47: 13141 | D47: 1453 | E47: 11688 | F47: 378 | G47: 627 | H47: 928 | I47: 793
B48: freier Träger | C48: 3008 | D48: 311 | E48: 2697 | F48: 89 | G48: 225 | H48: 432 | I48: 9
A50: 2021/22 | B50: Insgesamt | C50: 16192 | D50: 1951 | E50: 14241 | F50: 498 | G50: 1014 | H50: 1221 | I50: 782
B51: staatl. Träger | C51: 13224 | D51: 1654 | E51: 11570 | F51: 437 | G51: 797 | H51: 804 | I51: 770
B52: freier Träger | C52: 2968 | D52: 297 | E52: 2671 | F52: 61 | G52: 217 | H52: 417 | I52: 12
A54: 2022/23 | B54: Insgesamt | C54: 16108 | D54: 2261 | E54: 13847 | F54: 583 | G54: 775 | H54: 1311 | I54: 779
B55: staatl. Träger | C55: 13028 | D55: 1875 | E55: 1153 | F55: 512 | G55: 554 | H55: 865 | I55: 767
B56: freier Träger | C56: 3080 | D56: 386 | E56: 2694 | F56: 71 | G56: 221 | H56: 446 | I56: 12
A58: 2023/24 | B58: Insgesamt | C58: 16006 | D58: 2449 | E58: 10389 | F58: 473 | G58: 724 | H58: 1169 | I58: 802
B59: staatl. Träger | C59: 12876 | D59: 2071 | E59: 8319 | F59: 394 | G59: 551 | H59: 750 | I59: 791
B60: freier Träger | C60: 3130 | D60: 378 | E60: 2070 | F60: 79 | G60: 173 | H60: 419 | I60: 11
A62: 2024/25 | B62: Insgesamt | C62: 16370 | D62: 2353 | E62: 10750 | F62: 543 | G62: 705 | H62: 1304 | I62: 715
B63: staatl. Träger | C63: 13057 | D63: 2010 | E63: 8459 | F63: 446 | G63: 542 | H63: 902 | I63: 698
B64: freier Träger | C64: 3313 | D64: 343 | E64: 2291 | F64: 97 | G64: 163 | H64: 402 | I64: 17
A65: __________
A66: *) ab Schuljahr 2024/25: Änderung der Zählweise bei Absolventen, die eine weiterführende Berufsbildung in der dualen Ausbildung
A67: durchführen.

Sheet S18

Sheet S19
A28: Übersichten zum Schuljahr 2025/26
A29: Stichtag: 5. November 2025

Sheet TAB2.01
A2: 1. Klassen und Schüler an berufsbildenden Schulen insgesamt nach
A3: Jahrgangsstufen, Schul- und Ausbildungsformen
A5: Schulform | B5: Insgesamt | D5: Davon in der ... Jahrgangsstufe
A6: ______ | D6: 1. | F6: 2. | J6: 3. | N6: 4./5.
A7: Ausbildungsform | B7: Klassen | C7: Schüler | D7: Klassen | E7: Schüler | F7: Klassen | H7: Schüler | J7: Klassen | L7: Schüler | N7: Klassen | P7: Schüler
A9: Berufsschule | B9: 1565 | C9: 27696 | D9: 614 | E9: 11064 | F9: 454 | H9: 8234 | J9: 400 | L9: 6853 | N9: 97 | P9: 1545
A10: Berufsvorbereitungsjahr (BVJ) | B10: 155 | C10: 1877 | D10: 155 | E10: 1877 | F10: 0 | H10: 0 | J10: 0 | L10: 0 | N10: 0 | P10: 0
A11: BVJ-Vz | B11: 155 | C11: 1877 | D11: 155 | E11: 1877 | F11: 0 | H11: 0 | J11: 0 | L11: 0 | N11: 0 | P11: 0
A12: Berufsschule-dual | B12: 1410 | C12: 25819 | D12: 459 | E12: 9187 | F12: 454 | H12: 8234 | J12: 400 | L12: 6853 | N12: 97 | P12: 1545
A14: Berufsfachschule | B14: 264 | C14: 4635 | D14: 162 | E14: 3214 | F14: 98 | H14: 1390 | J14: 4 | L14: 31 | N14: 0 | P14: 0
A15: einjähriger Bildungsgang | B15: 56 | C15: 987 | D15: 54 | E15: 963 | F15: 2 | G15: 1) | H15: 24 | I15: 1) | J15: 0 | L15: 0 | N15: 0 | P15: 0
A16: berufsqualifizierend | B16: 56 | C16: 987 | D16: 54 | E16: 963 | F16: 2 | G16: 1) | H16: 24 | I16: 1) | J16: 0 | L16: 0 | N16: 0 | P16: 0
A17: ein-/zweijähriger Bildungsgang | B17: 196 | C17: 3545 | D17: 104 | E17: 2212 | F17: 92 | H17: 1333 | J17: 0 | L17: 0 | N17: 0 | P17: 0
A18: nicht berufsqualifizierend | B18: 96 | C18: 1642 | D18: 50 | E18: 1036 | F18: 46 | H18: 606 | J18: 0 | L18: 0 | N18: 0 | P18: 0
A19: berufsqualifizierend | B19: 100 | C19: 1903 | D19: 54 | E19: 1176 | F19: 46 | H19: 727 | J19: 0 | L19: 0 | N19: 0 | P19: 0
A20: dreijähriger Bildungsgang | B20: 12 | C20: 103 | D20: 4 | E20: 39 | F20: 4 | H20: 33 | J20: 4 | L20: 31 | N20: 0 | P20: 0
A21: Vollzeitunterricht | B21: 12 | C21: 103 | D21: 4 | E21: 39 | F21: 4 | H21: 33 | J21: 4 | L21: 31 | N21: 0 | P21: 0
A23: Höhere Berufsfachschule | B23: 492 | C23: 8519 | D23: 176 | E23: 3529 | F23: 184 | H23: 2959 | J23: 130 | L23: 2009 | N23: 2 | P23: 22
A24: zweijähriger Bildungsgang | B24: 100 | C24: 1591 | D24: 43 | E24: 798 | F24: 56 | H24: 789 | J24: 1 | K24: 2) | L24: 4 | M24: 2) | N24: 0 | P24: 0
A25: dreijähriger Bildungsgang | B25: 392 | C25: 6928 | D25: 133 | E25: 2731 | F25: 128 | H25: 2170 | J25: 129 | L25: 2005 | N25: 2 | O25: 3) | P25: 22 | Q25: 3)
A27: Fachoberschule | B27: 78 | C27: 1478 | D27: 39 | E27: 793 | F27: 39 | H27: 685 | J27: 0 | L27: 0 | N27: 0 | P27: 0
A28: Vollzeitunterricht | B28: 78 | C28: 1478 | D28: 39 | E28: 793 | F28: 39 | H28: 685 | J28: 0 | L28: 0 | N28: 0 | P28: 0
A30: Berufliches Gymnasium | B30: 149 | C30: 2876 | D30: 55 | E30: 1144 | F30: 48 | H30: 924 | J30: 46 | L30: 808 | N30: 0 | P30: 0
A31: nicht berufsqualifizierend | B31: 149 | C31: 2876 | D31: 55 | E31: 1144 | F31: 48 | H31: 924 | J31: 46 | L31: 808 | N31: 0 | P31: 0
A33: Fachschule | B33: 222 | C33: 3518 | D33: 72 | E33: 1256 | F33: 75 | H33: 1137 | J33: 61 | L33: 979 | N33: 14 | P33: 146
A34: Vollzeitunterricht | B34: 179 | C34: 2981 | D34: 60 | E34: 1070 | F34: 62 | H34: 990 | J34: 57 | L34: 921 | N34: 0 | P34: 0
A35: Teilzeitunterricht | B35: 43 | C35: 537 | D35: 12 | E35: 186 | F35: 13 | H35: 147 | J35: 4 | L35: 58 | N35: 14 | P35: 146
A37: Berufsbildende Einrichtung
A38: für Behinderte | B38: 187 | C38: 1043 | D38: 63 | E38: 384 | F38: 64 | H38: 355 | J38: 57 | L38: 296 | N38: 3 | P38: 8
A39: Berufsschule-dual | B39: 187 | C39: 1043 | D39: 63 | E39: 384 | F39: 64 | H39: 355 | J39: 57 | L39: 296 | N39: 3 | P39: 8
A41: Insgesamt | B41: 2957 | C41: 49765 | D41: 1181 | E41: 21384 | F41: 962 | H41: 15684 | J41: 698 | L41: 10976 | N41: 116 | P41: 1721
A42: Vollzeitunterricht | B42: 1286 | C42: 21855 | D42: 631 | E42: 11344 | F42: 424 | H42: 6846 | J42: 231 | L42: 3665 | N42: 0 | P42: 0
A43: Teilzeitunterricht | B43: 1671 | C43: 27910 | D43: 550 | E43: 10040 | F43: 538 | H43: 8838 | J43: 467 | L43: 7311 | N43: 116 | P43: 1721
A44: __________
A45: 1) Einjährige Ausbildung, welche in Teilzeit ausgeführt wird, erstreckt sich über 2 Jahre.
A46: 2) nach zweijähriger schulischer Ausbildung, anschließendes halbjähriges Praktikum zum Erwerb der Fachhochschulreife
A47: 3) Dreijährige Ausbildung, welche in Teilzeit ausgeführt wird, erstreckt sich über 5 Jahre.

Sheet TAB2.02
A2: 2. Klassen und Schüler an staatlichen berufsbildenden Schulen nach
A3: Jahrgangsstufen, Schul- und Ausbildungsformen
A5: Schulform | B5: Insgesamt | D5: Davon in der ... Jahrgangsstufe
A6: ______ | D6: 1. | F6: 2. | J6: 3. | N6: 4./5.
A7: Ausbildungsform | B7: Klassen | C7: Schüler | D7: Klassen | E7: Schüler | F7: Klassen | H7: Schüler | J7: Klassen | L7: Schüler | N7: Klassen | P7: Schüler
A9: Berufsschule | B9: 1519 | C9: 26917 | D9: 588 | E9: 10667 | F9: 444 | H9: 8034 | J9: 391 | L9: 6693 | N9: 96 | P9: 1523
A10: Berufsvorbereitungsjahr (BVJ) | B10: 138 | C10: 1665 | D10: 138 | E10: 1665 | F10: 0 | H10: 0 | J10: 0 | L10: 0 | N10: 0 | P10: 0
A11: BVJ-Vz | B11: 138 | C11: 1665 | D11: 138 | E11: 1665 | F11: 0 | H11: 0 | J11: 0 | L11: 0 | N11: 0 | P11: 0
A12: Berufsschule-dual | B12: 1381 | C12: 25252 | D12: 450 | E12: 9002 | F12: 444 | H12: 8034 | J12: 391 | L12: 6693 | N12: 96 | P12: 1523
A14: Berufsfachschule | B14: 166 | C14: 2830 | D14: 94 | E14: 1886 | F14: 68 | H14: 913 | J14: 4 | L14: 31 | N14: 0 | P14: 0
A15: einjähriger Bildungsgang | B15: 23 | C15: 408 | D15: 21 | E15: 384 | F15: 2 | G15: 1) | H15: 24 | I15: 1) | J15: 0 | L15: 0 | N15: 0 | P15: 0
A16: berufsqualifizierend | B16: 23 | C16: 408 | D16: 21 | E16: 384 | F16: 2 | G16: 1) | H16: 24 | I16: 1) | J16: 0 | L16: 0 | N16: 0 | P16: 0
A17: ein-/zweijähriger Bildungsgang | B17: 131 | C17: 2319 | D17: 69 | E17: 1463 | F17: 62 | H17: 856 | J17: 0 | L17: 0 | N17: 0 | P17: 0
A18: nicht berufsqualifizierend | B18: 89 | C18: 1505 | D18: 46 | E18: 955 | F18: 43 | H18: 550 | J18: 0 | L18: 0 | N18: 0 | P18: 0
A19: berufsqualifizierend | B19: 42 | C19: 814 | D19: 23 | E19: 508 | F19: 19 | H19: 306 | J19: 0 | L19: 0 | N19: 0 | P19: 0
A20: dreijähriger Bildungsgang | B20: 12 | C20: 103 | D20: 4 | E20: 39 | F20: 4 | H20: 33 | J20: 4 | L20: 31 | N20: 0 | P20: 0
A21: Vollzeitunterricht | B21: 12 | C21: 103 | D21: 4 | E21: 39 | F21: 4 | H21: 33 | J21: 4 | L21: 31 | N21: 0 | P21: 0
A23: Höhere Berufsfachschule | B23: 204 | C23: 3510 | D23: 70 | E23: 1406 | F23: 79 | H23: 1261 | J23: 55 | L23: 843 | N23: 0 | P23: 0
A24: zweijähriger Bildungsgang | B24: 53 | C24: 877 | D24: 23 | E24: 445 | F24: 30 | H24: 432 | J24: 0 | L24: 0 | N24: 0 | P24: 0
A25: dreijähriger Bildungsgang | B25: 151 | C25: 2633 | D25: 47 | E25: 961 | F25: 49 | H25: 829 | J25: 55 | L25: 843 | N25: 0 | P25: 0
A27: Fachoberschule | B27: 70 | C27: 1377 | D27: 35 | E27: 746 | F27: 35 | H27: 631 | J27: 0 | L27: 0 | N27: 0 | P27: 0
A28: Vollzeitunterricht | B28: 70 | C28: 1377 | D28: 35 | E28: 746 | F28: 35 | H28: 631 | J28: 0 | L28: 0 | N28: 0 | P28: 0
A30: Berufliches Gymnasium | B30: 146 | C30: 2839 | D30: 54 | E30: 1128 | F30: 47 | H30: 915 | J30: 45 | L30: 796 | N30: 0 | P30: 0
A31: nicht berufsqualifizierend | B31: 146 | C31: 2839 | D31: 54 | E31: 1128 | F31: 47 | H31: 915 | J31: 45 | L31: 796 | N31: 0 | P31: 0
... A35: Teilzeitunterricht | B35: 32 | C35: 463 | D35: 9 | E35: 171 | F35: 11 | H35: 134 | J35: 4 | L35: 58 | N35: 8 | P35: 100
A37: Berufsbildende Einrichtung
A38: für Behinderte | B38: 124 | C38: 699 | D38: 42 | E38: 259 | F38: 43 | H38: 242 | J38: 38 | L38: 195 | N38: 1 | P38: 3
A39: Berufsschule-dual | B39: 124 | C39: 699 | D39: 42 | E39: 259 | F39: 43 | H39: 242 | J39: 38 | L39: 195 | N39: 1 | P39: 3
A41: Insgesamt | B41: 2344 | C41: 39940 | D41: 921 | E41: 16766 | F41: 758 | H41: 12581 | J41: 560 | L41: 8967 | N41: 105 | P41: 1626
A42: Vollzeitunterricht | B42: 791 | C42: 13221 | D42: 411 | E42: 7165 | F42: 256 | H42: 4104 | J42: 124 | L42: 1952 | N42: 0 | P42: 0
A43: Teilzeitunterricht | B43: 1553 | C43: 26719 | D43: 510 | E43: 9601 | F43: 502 | H43: 8477 | J43: 436 | L43: 7015 | N43: 105 | P43: 1626
A44: __________
A45: 1) Einjährige Ausbildung, welche in Teilzeit ausgeführt wird, erstreckt sich über 2 Jahre.

Sheet TAB2.03
A2: 3. Schüler an Berufsschulen insgesamt nach Jahrgangsstufen,
A3: Ausbildungsformen und Berufsfeldern
A5: Ausbildungsform | B5: Männlich | C5: Weiblich | D5: Insgesamt | E5: Davon in der ... Jahrgangsstufe
A6: ______ | E6: 1. | F6: 2. | G6: 3. | H6: 4.
A7: Berufsfeld
A10: Berufsvorbereitungsjahr (BVJ) | B10: 1242 | C10: 635 | D10: 1877 | E10: 1877 | F10: 0 | G10: 0 | H10: 0
A11: BVJ-Vz | B11: 1242 | C11: 635 | D11: 1877 | E11: 1877 | F11: 0 | G11: 0 | H11: 0
A13: Berufsschule - dual | B13: 17649 | C13: 8170 | D13: 25819 | E13: 9187 | F13: 8234 | G13: 6853 | H13: 1545
A14: Agrarwirtschaft | B14: 643 | C14: 225 | D14: 868 | E14: 289 | F14: 292 | G14: 287 | H14: 0
A15: Bautechnik | B15: 1380 | C15: 92 | D15: 1472 | E15: 556 | F15: 510 | G15: 406 | H15: 0
A16: Chemie, Physik, Biologie | B16: 151 | C16: 37 | D16: 188 | E16: 63 | F16: 55 | G16: 60 | H16: 10
A17: Drucktechnik/Medientechnik | B17: 63 | C17: 87 | D17: 150 | E17: 68 | F17: 39 | G17: 43 | H17: 0
A18: Elektrotechnik | B18: 1577 | C18: 85 | D18: 1662 | E18: 541 | F18: 455 | G18: 399 | H18: 267
A19: Ernährung und Hauswirtschaft | B19: 989 | C19: 1022 | D19: 2011 | E19: 744 | F19: 731 | G19: 536 | H19: 0
A20: Fahrzeugtechnik | B20: 2150 | C20: 128 | D20: 2278 | E20: 683 | F20: 606 | G20: 538 | H20: 451
A21: Farbtechnik und Raumgestaltung | B21: 251 | C21: 133 | D21: 384 | E21: 148 | F21: 127 | G21: 109 | H21: 0
A22: Holztechnik | B22: 381 | C22: 70 | D22: 451 | E22: 150 | F22: 161 | G22: 140 | H22: 0
... A29: Insgesamt | B29: 18891 | C29: 8805 | D29: 27696 | E29: 11064 | F29: 8234 | G29: 6853 | H29: 1545

Sheet TAB2.04
A2: 4. Schüler an staatlichen Berufsschulen nach Jahrgangsstufen,
A3: Ausbildungsformen und Berufsfeldern
A5: Ausbildungsform | B5: Männlich | C5: Weiblich | D5: Insgesamt | E5: Davon in der ... Jahrgangsstufe
A6: ______ | E6: 1. | F6: 2. | G6: 3. | H6: 4.
A7: Berufsfeld
A10: Berufsvorbereitungsjahr (BVJ) | B10: 1107 | C10: 558 | D10: 1665 | E10: 1665 | F10: 0 | G10: 0 | H10: 0
A11: BVJ-Vz | B11: 1107 | C11: 558 | D11: 1665 | E11: 1665 | F11: 0 | G11: 0 | H11: 0
A13: Berufsschule - dual | B13: 17315 | C13: 7937 | D13: 25252 | E13: 9002 | F13: 8034 | G13: 6693 | H13: 1523
A14: Agrarwirtschaft | B14: 643 | C14: 225 | D14: 868 | E14: 289 | F14: 292 | G14: 287 | H14: 0
A15: Bautechnik | B15: 1380 | C15: 92 | D15: 1472 | E15: 556 | F15: 510 | G15: 406 | H15: 0
A16: Chemie, Physik, Biologie | B16: 151 | C16: 37 | D16: 188 | E16: 63 | F16: 55 | G16: 60 | H16: 10
A17: Drucktechnik/Medientechnik | B17: 63 | C17: 87 | D17: 150 | E17: 68 | F17: 39 | G17: 43 | H17: 0
A18: Elektrotechnik | B18: 1577 | C18: 85 | D18: 1662 | E18: 541 | F18: 455 | G18: 399 | H18: 267
A19: Ernährung und Hauswirtschaft | B19: 786 | C19: 802 | D19: 1588 | E19: 618 | F19: 569 | G19: 401 | H19: 0
A20: Fahrzeugtechnik | B20: 2150 | C20: 128 | D20: 2278 | E20: 683 | F20: 606 | G20: 538 | H20: 451
A21: Farbtechnik und Raumgestaltung | B21: 251 | C21: 133 | D21: 384 | E21: 148 | F21: 127 | G21: 109 | H21: 0
A22: Holztechnik | B22: 381 | C22: 70 | D22: 451 | E22: 150 | F22: 161 | G22: 140 | H22: 0
... A29: Insgesamt | B29: 18422 | C29: 8495 | D29: 26917 | E29: 10667 | F29: 8034 | G29: 6693 | H29: 1523

Sheet TAB2.05
A2: 5. Schüler an Berufsfachschulen insgesamt nach
A3: Jahrgangsstufen und Bildungsgängen
A5: Bildungsgang | B5: Männlich | C5: Weiblich | D5: Insgesamt | E5: Davon in der ... Jahrgangsstufe
E6: 1. | F6: 2. | G6: 3.
A9: Einjähriger Bildungsgang | B9: 257 | C9: 730 | D9: 987 | E9: 963 | F9: 24 | G9: 1) | H9: 0
A10: berufsqualifizierend | B10: 161 | C10: 454 | D10: 615 | E10: 597 | F10: 18 | G10: 1) | H10: 0
A11: Altenpflegehelfer | B11: 12 | C11: 86 | D11: 98 | E11: 98 | F11: 0 | H11: 0
A12: Gesundheits- und Krankenpflegehelfer | B12: 84 | C12: 190 | D12: 274 | E12: 268 | F12: 6 | G12: 1) | H12: 0
A14: Ein-/Zweijähriger Bildungsgang | B14: 1282 | C14: 2263 | D14: 3545 | E14: 2212 | F14: 1333 | H14: 0
A15: nicht berufsqualifizierend | B15: 923 | C15: 719 | D15: 1642 | E15: 1036 | F15: 606 | H15: 0
A16: Ernährung und Hauswirtschaft | B16: 164 | C16: 203 | D16: 367 | E16: 229 | F16: 138 | H16: 0
A17: Gesundheit und Soziales | B17: 81 | C17: 141 | D17: 222 | E17: 139 | F17: 83 | H17: 0
A18: Technik | B18: 467 | C18: 120 | D18: 587 | E18: 394 | F18: 193 | H18: 0
A19: Wirtschaft | B19: 10 | C19: 37 | D19: 47 | E19: 21 | F19: 26 | H19: 0
A20: Wirtschaft und Verwaltung | B20: 201 | C20: 218 | D20: 419 | E20: 253 | F20: 166 | H20: 0
A21: berufsqualifizierend | B21: 359 | C21: 1544 | D21: 1903 | E21: 1176 | F21: 727 | H21: 0
A22: Kinderpflege | B22: 253 | C22: 1196 | D22: 1449 | E22: 886 | F22: 563 | H22: 0
A23: Kosmetik | B23: 13 | C23: 148 | D23: 161 | E23: 105 | F23: 56 | H23: 0
A24: Masseur und med. Bademeister | B24: 21 | C24: 17 | D24: 38 | E24: 22 | F24: 16 | H24: 0
A25: Sozialbetreuer | B25: 72 | C25: 183 | D25: 255 | E25: 163 | F25: 92 | H25: 0
... A33: Insgesamt | B33: 1585 | C33: 3050 | D33: 4635 | E33: 3214 | F33: 1390 | H33: 31
A35: 1) Einjährige Ausbildung, welche in Teilzeit ausgeführt wird, erstreckt sich über 2 Jahre.

Sheet TAB2.06
A2: 6. Schüler an staatlichen Berufsfachschulen nach
A3: Jahrgangsstufen und Bildungsgängen
A5: Bildungsgang | B5: Männlich | C5: Weiblich | D5: Insgesamt | E5: Davon in der ... Jahrgangsstufe
E6: 1. | F6: 2. | G6: 3.
A9: Einjähriger Bildungsgang | B9: 106 | C9: 302 | D9: 408 | E9: 384 | F9: 24 | G9: 1) | H9: 0
A10: berufsqualifizierend | B10: 48 | C10: 160 | D10: 208 | E10: 190 | F10: 18 | G10: 1) | H10: 0
A11: Altenpflegehelfer | B11: 3 | C11: 28 | D11: 31 | E11: 31 | F11: 0 | H11: 0
A12: Gesundheits- und Krankenpflegehelfer | B12: 55 | C12: 114 | D12: 169 | E12: 163 | F12: 6 | G12: 1) | H12: 0
A14: Ein-/Zweijähriger Bildungsgang | B14: 991 | C14: 1328 | D14: 2319 | E14: 1463 | F14: 856 | H14: 0
A15: nicht berufsqualifizierend | B15: 852 | C15: 653 | D15: 1505 | E15: 955 | F15: 550 | H15: 0
A16: Ernährung und Hauswirtschaft | B16: 143 | C16: 177 | D16: 320 | E16: 190 | F16: 130 | H16: 0
A17: Gesundheit und Soziales | B17: 38 | C17: 103 | D17: 141 | E17: 97 | F17: 44 | H17: 0
A18: Technik | B18: 467 | C18: 120 | D18: 587 | E18: 394 | F18: 193 | H18: 0
A19: Wirtschaft | B19: 10 | C19: 37 | D19: 47 | E19: 21 | F19: 26 | H19: 0
A20: Wirtschaft und Verwaltung | B20: 194 | C20: 216 | D20: 410 | E20: 253 | F20: 157 | H20: 0
A21: berufsqualifizierend | B21: 139 | C21: 675 | D21: 814 | E21: 508 | F21: 306 | H21: 0
A22: Kinderpflege | B22: 101 | C22: 518 | D22: 619 | E22: 390 | F22: 229 | H22: 0
A23: Kosmetik | B23: 0 | C23: 70 | D23: 70 | E23: 45 | F23: 25 | H23: 0
A24: Masseur und med. Bademeister | B24: 0 | C24: 0 | D24: 0 | E24: 0 | F24: 0 | H24: 0
A25: Sozialbetreuer | B25: 38 | C25: 87 | D25: 125 | E25: 73 | F25: 52 | H25: 0
... A33: Insgesamt | B33: 1143 | C33: 1687 | D33: 2830 | E33: 1886 | F33: 913 | H33: 31
A35: 1) Einjährige Ausbildung, welche in Teilzeit ausgeführt wird, erstreckt sich über 2 Jahre.

Sheet TAB2.07
A2: 7. Schüler an höheren Berufsfachschulen insgesamt nach
A3: Jahrgangsstufen und Bildungsgängen
A5: Bildungsgang | B5: Männlich | C5: Weiblich | D5: Insgesamt | E5: Davon in der ... Jahrgangsstufe
E6: 1. | F6: 2. | G6: 3. | I6: 4.
A9: Zweijähriger Bildungsgang | B9: 442 | C9: 1149 | D9: 1591 | E9: 798 | F9: 789 | G9: 4 | I9: 0
A10: Biologisch-technischer Assistent | B10: 15 | C10: 30 | D10: 45 | E10: 30 | F10: 15 | G10: 0 | I10: 0
A11: Chemisch-technischer Assistent | B11: 17 | C11: 1 | D11: 18 | E11: 8 | F11: 10 | G11: 0 | I11: 0
A12: Gestaltungstechnischer Assistent | B12: 28 | C12: 98 | D12: 126 | E12: 57 | F12: 69 | G12: 0 | I12: 0
A13: Kaufmännischer Assistent | B13: 6 | C13: 4 | D13: 10 | E13: 0 | F13: 10 | G13: 0 | I13: 0
A14: -Betriebswirtschaft | B14: 6 | C14: 4 | D14: 10 | E14: 0 | F14: 10 | G14: 0 | I14: 0
A15: -Fremdsprachen | B15: 0 | C15: 0 | D15: 0 | E15: 0 | F15: 0 | G15: 0 | I15: 0
A16: -Informationsverarbeitung | B16: 0 | C16: 0 | D16: 0 | E16: 0 | F16: 0 | G16: 0 | I16: 0
A17: Podologe | B17: 9 | C17: 49 | D17: 58 | E17: 27 | F17: 27 | G17: 4 | H17: 1) | I17: 0
A18: Sozialassistent | B18: 266 | C18: 955 | D18: 1221 | E18: 630 | F18: 591 | G18: 0 | I18: 0
A19: Technischer Assistent für Informatik | B19: 101 | C19: 12 | D19: 113 | E19: 46 | F19: 67 | G19: 0 | I19: 0
A21: Dreijähriger Bildungsgang | B21: 1888 | C21: 5040 | D21: 6928 | E21: 2731 | F21: 2170 | G21: 2005 | I21: 22
A22: Anästhesietechnischer Assistent | B22: 16 | C22: 51 | D22: 67 | E22: 26 | F22: 21 | G22: 20 | I22: 0
A23: Diätassistent | B23: 0 | C23: 17 | D23: 17 | E23: 10 | F23: 0 | G23: 7 | I23: 0
A24: Ergotherapie | B24: 54 | C24: 437 | D24: 491 | E24: 230 | F24: 152 | G24: 109 | I24: 0
A25: Fachkraft für die Hygieneüberwachung | B25: 6 | C25: 21 | D25: 27 | E25: 8 | F25: 12 | G25: 7 | I25: 0
A26: Gesundheits- und Kinderkrankenpflege | B26: 1 | C26: 14 | D26: 15 | E26: 0 | F26: 0 | G26: 15 | I26: 0
A27: Logopädie | B27: 8 | C27: 71 | D27: 79 | E27: 36 | F27: 29 | G27: 14 | I27: 0
A28: Medizinischer Technologe für Funktionsdiagnostik | B28: 8 | C28: 18 | D28: 26 | E28: 7 | F28: 11 | G28: 8 | I28: 0
A29: Medizinischer Technologe für Laboratoriumsanalytik | B29: 36 | C29: 68 | D29: 104 | E29: 35 | F29: 34 | G29: 35 | I29: 0
A30: Medizinischer Technologe für Radiologie | B30: 63 | C30: 140 | D30: 203 | E30: 77 | F30: 61 | G30: 65 | I30: 0
... A33: Orthoptist | B33: 1 | C33: 5 | D33: 6 | E33: 0 | F33: 6 | G33: 0 | I33: 0
A34: Pflegefachmann | B34: 1123 | C34: 3295 | D34: 4418 | E34: 1731 | F34: 1370 | G34: 1295 | I34: 22 | J34: 2)
A35: Pharmaz.-techn. Assistent | B35: 59 | C35: 199 | D35: 258 | E35: 113 | F35: 89 | G35: 56 | I35: 0
A36: Physiotherapie | B36: 311 | C36: 364 | D36: 675 | E36: 261 | F36: 219 | G36: 195 | I36: 0
A38: Insgesamt | B38: 2330 | C38: 6189 | D38: 8519 | E38: 3529 | F38: 2959 | G38: 2009 | I38: 22
A40: 1) nach zweijähriger schulischer Ausbildung, anschließendes halbjähriges Praktikum zum Erwerb der Fachhochschulreife
A41: 2) Teilzeitausbildung ist auf 4 Jahre verteilt.

Sheet TAB2.08
A2: 8. Schüler an staatlichen höheren Berufsfachschulen nach
A3: Jahrgangsstufen und Bildungsgängen
A5: Bildungsgang | B5: Männlich | C5: Weiblich | D5: Insgesamt | E5: Davon in der ... Jahrgangsstufe
E6: 1. | F6: 2. | G6: 3. | I6: 4.
A9: Zweijähriger Bildungsgang | B9: 252 | C9: 625 | D9: 877 | E9: 445 | F9: 432 | G9: 0 | I9: 0
A10: Biologisch-technischer Assistent | B10: 9 | C10: 18 | D10: 27 | E10: 18 | F10: 9 | G10: 0 | I10: 0
A11: Chemisch-technischer Assistent | B11: 17 | C11: 1 | D11: 18 | E11: 8 | F11: 10 | G11: 0 | I11: 0
A12: Gestaltungstechnischer Assistent | B12: 19 | C12: 51 | D12: 70 | E12: 37 | F12: 33 | G12: 0 | I12: 0
A13: Kaufmännischer Assistent | B13: 6 | C13: 4 | D13: 10 | E13: 0 | F13: 10 | G13: 0 | I13: 0
A14: -Betriebswirtschaft | B14: 6 | C14: 4 | D14: 10 | E14: 0 | F14: 10 | G14: 0 | I14: 0
A15: -Fremdsprachen | B15: 0 | C15: 0 | D15: 0 | E15: 0 | F15: 0 | G15: 0 | I15: 0
A16: -Informationsverarbeitung | B16: 0 | C16: 0 | D16: 0 | E16: 0 | F16: 0 | G16: 0 | I16: 0
A17: Podologe | B17: 2 | C17: 3 | D17: 5 | E17: 0 | F17: 5 | G17: 0 | I17: 0
A18: Sozialassistent | B18: 145 | C18: 542 | D18: 687 | E18: 357 | F18: 330 | G18: 0 | I18: 0
A19: Technischer Assistent für Informatik | B19: 54 | C19: 6 | D19: 60 | E19: 25 | F19: 35 | G19: 0 | I19: 0
A21: Dreijähriger Bildungsgang | B21: 687 | C21: 1946 | D21: 2633 | E21: 961 | F21: 829 | G21: 843 | I21: 0
... A38: Insgesamt | B38: 939 | C38: 2571 | D38: 3510 | E38: 1406 | F38: 1261 | G38: 843 | I38: 0

Sheet TAB2.09+10
A2: 9. Schüler an Fachoberschulen insgesamt nach Jahrgangsstufen
A3: und Bildungsgängen
A5: Bildungsgang | B5: Männlich | C5: Weiblich | D5: Insgesamt | E5: Davon in der ... Jahrgangsstufe
E6: 11. | F6: 12.
A9: Ernährung/Hauswirtschaft | B9: 16 | C9: 33 | D9: 49 | E9: 12 | F9: 37
A10: Gestaltung | B10: 13 | C10: 72 | D10: 85 | E10: 38 | F10: 47
A11: Gesundheit/Soziales | B11: 119 | C11: 311 | D11: 430 | E11: 221 | F11: 209
A12: Technik | B12: 198 | C12: 33 | D12: 231 | E12: 111 | F12: 120
A13: Wirtschaft und Verwaltung | B13: 375 | C13: 308 | D13: 683 | E13: 411 | F13: 272
A15: Insgesamt | B15: 721 | C15: 757 | D15: 1478 | E15: 793 | F15: 685
A24: 10. Schüler an staatlichen Fachoberschulen nach Jahrgangsstufen
A25: und Bildungsgängen
A27: Bildungsgang | B27: Männlich | C27: Weiblich | D27: Insgesamt | E27: Davon in der ... Jahrgangsstufe
E28: 11. | F28: 12.
A31: Ernährung/Hauswirtschaft | B31: 16 | C31: 33 | D31: 49 | E31: 12 | F31: 37
A32: Gestaltung | B32: 13 | C32: 72 | D32: 85 | E32: 38 | F32: 47
A33: Gesundheit/Soziales | B33: 101 | C33: 258 | D33: 359 | E33: 186 | F33: 173
A34: Technik | B34: 191 | C34: 32 | D34: 223 | E34: 108 | F34: 115
A35: Wirtschaft und Verwaltung | B35: 367 | C35: 294 | D35: 661 | E35: 402 | F35: 259
A37: Insgesamt | B37: 688 | C37: 689 | D37: 1377 | E37: 746 | F37: 631

Sheet TAB2.11+12
A2: 11. Schüler an beruflichen Gymnasien nach
A3: Jahrgangsstufen und Bildungsgängen
A5: Bildungsgang | B5: Männlich | C5: Weiblich | D5: Insgesamt | E5: Davon in der ... Jahrgangsstufe
E6: 11. | F6: 12. | G6: 13.
A9: Gesundheit und Soziales | B9: 142 | C9: 525 | D9: 667 | E9: 281 | F9: 212 | G9: 174
A10: Technik | B10: 468 | C10: 442 | D10: 910 | E10: 362 | F10: 273 | G10: 275
A11: Wirtschaft | B11: 567 | C11: 732 | D11: 1299 | E11: 501 | F11: 439 | G11: 359
A13: Insgesamt | B13: 1177 | C13: 1699 | D13: 2876 | E13: 1144 | F13: 924 | G13: 808
A24: 12. Schüler an staatlichen beruflichen Gymnasien nach
A25: Jahrgangsstufen und Bildungsgängen
A27: Bildungsgang | B27: Männlich | C27: Weiblich | D27: Insgesamt | E27: Davon in der ... Jahrgangsstufe
E28: 11. | F28: 12. | G28: 13.
A31: Gesundheit und Soziales | B31: 142 | C31: 525 | D31: 667 | E31: 281 | F31: 212 | G31: 174
A32: Technik | B32: 468 | C32: 442 | D32: 910 | E32: 362 | F32: 273 | G32: 275
A33: Wirtschaft | B33: 554 | C33: 708 | D33: 1262 | E33: 485 | F33: 430 | G33: 347
A35: Insgesamt | B35: 1164 | C35: 1675 | D35: 2839 | E35: 1128 | F35: 915 | G35: 796

Sheet TAB2.13
A2: 13. Schüler an Fachschulen insgesamt nach
A3: Jahrgangsstufen und Fachbereichen
A5: Fachbereich Fachrichtung | B5: Männlich | C5: Weiblich | D5: Insgesamt | E5: Davon in der ... Jahrgangsstufe
E6: 1. | F6: 2. | G6: 3. | H6: 4./5.
A9: Technik | B9: 481 | C9: 46 | D9: 527 | E9: 204 | F9: 163 | G9: 98 | H9: 62
A10: Baudenkmalpflege und
A11: Altbauerneuerung | B11: 0 | C11: 0 | D11: 0 | E11: 0 | F11: 0 | G11: 0 | H11: 0
A12: Bautechnik | B12: 41 | C12: 19 | D12: 60 | E12: 47 | F12: 13 | G12: 0 | H12: 0
A13: Elektrotechnik | B13: 64 | C13: 1 | D13: 65 | E13: 28 | F13: 22 | G13: 0 | H13: 15
A14: Informatik | B14: 0 | C14: 0 | D14: 0 | E14: 0 | F14: 0 | G14: 0 | H14: 0
A15: Kraftfahrzeugtechnik | B15: 0 | C15: 0 | D15: 0 | E15: 0 | F15: 0 | G15: 0 | H15: 0
A16: Maschinentechnik/Maschinen- | B16: 136 | C16: 10 | D16: 146 | E16: 36 | F16: 68 | G16: 11 | H16: 31
A17: bautechnik
A18: Mechatronik | B18: 17 | C18: 1 | D18: 18 | E18: 0 | F18: 18 | G18: 0 | H18: 0
A19: Papiertechnik | B19: 18 | C19: 0 | D19: 18 | E19: 0 | F19: 11 | G19: 0 | H19: 7
A20: Verkehrstechnik | B20: 173 | C20: 26 | D20: 199 | E20: 98 | F20: 39 | G20: 34 | H20: 28
A21: Versorgungstechnik | B21: 12 | C21: 4 | D21: 16 | E21: 16 | F21: 0 | G21: 0 | H21: 0
A23: Wirtschaft | B23: 16 | C23: 5 | D23: 21 | E23: 15 | F23: 6 | G23: 0 | H23: 0
A24: Betriebswirtschaft | B24: 2 | C24: 4 | D24: 6 | E24: 0 | F24: 6 | G24: 0 | H24: 0
A25: Technischer Betriebswirt | B25: 14 | C25: 1 | D25: 15 | E25: 15 | F25: 0 | G25: 0 | H25: 0
A27: Gesundheit und Soziales | B27: 578 | C27: 2397 | D27: 2975 | E27: 1016 | F27: 960 | G27: 934 | H27: 65
A28: Augenoptik | B28: 27 | C28: 24 | D28: 51 | E28: 25 | F28: 26 | G28: 0 | H28: 0
A29: Heilerziehungspflege | B29: 90 | C29: 417 | D29: 507 | E29: 195 | F29: 153 | G29: 133 | H29: 26
A30: Heilpädagoge | B30: 11 | C30: 53 | D30: 64 | E30: 33 | F30: 31 | G30: 0 | H30: 0
A31: Sozialpädagogik | B31: 450 | C31: 1903 | D31: 2353 | E31: 763 | F31: 750 | G31: 801 | H31: 39
A34: Insgesamt | B34: 1055 | C34: 2463 | D34: 3518 | E34: 1256 | F34: 1137 | G34: 979 | H34: 146

Sheet TAB2.14
A2: 14. Schüler an staatlichen Fachschulen nach
A3: Jahrgangstufen und Fachbereichen
A5: Fachbereich Fachrichtung | B5: Männlich | C5: Weiblich | D5: Insgesamt | E5: Davon in der ... Jahrgangsstufe
E6: 1. | F6: 2. | G6: 3. | H6: 4./5.
A9: Technik | B9: 446 | C9: 61 | D9: 507 | E9: 225 | F9: 171 | G9: 45 | H9: 66
A10: Baudenkmalpflege und
A11: Altbauerneuerung | B11: 0 | C11: 0 | D11: 0 | E11: 0 | F11: 0 | G11: 0 | H11: 0
A12: Bautechnik | B12: 41 | C12: 19 | D12: 60 | E12: 47 | F12: 13 | G12: 0 | H12: 0
A13: Elektrotechnik | B13: 64 | C13: 1 | D13: 65 | E13: 28 | F13: 22 | G13: 0 | H13: 15
A14: Informatik | B14: 0 | C14: 0 | D14: 0 | E14: 0 | F14: 0 | G14: 0 | H14: 0
A15: Kraftfahrzeugtechnik | B15: 0 | C15: 0 | D15: 0 | E15: 0 | F15: 0 | G15: 0 | H15: 0
A16: Maschinentechnik/Maschinen- | B16: 121 | C16: 10 | D16: 131 | E16: 36 | F16: 68 | G16: 11 | H16: 16
A17: bautechnik
A18: Mechatronik | B18: 17 | C18: 1 | D18: 18 | E18: 0 | F18: 18 | G18: 0 | H18: 0
A19: Papiertechnik | B19: 18 | C19: 0 | D19: 18 | E19: 0 | F19: 11 | G19: 0 | H19: 7
A20: Verkehrstechnik | B20: 173 | C20: 26 | D20: 199 | E20: 98 | F20: 39 | G20: 34 | H20: 28
A21: Versorgungstechnik | B21: 12 | C21: 4 | D21: 16 | E21: 16 | F21: 0 | G21: 0 | H21: 0
A23: Wirtschaft | B23: 16 | C23: 5 | D23: 21 | E23: 15 | F23: 6 | G23: 0 | H23: 0
A24: Betriebswirtschaft | B24: 2 | C24: 4 | D24: 6 | E24: 0 | F24: 6 | G24: 0 | H24: 0
A25: Technischer Betriebswirt | B25: 14 | C25: 1 | D25: 15 | E25: 15 | F25: 0 | G25: 0 | H25: 0
A27: Gesundheit und Soziales | B27: 249 | C27: 991 | D27: 1240 | E27: 434 | F27: 408 | G27: 364 | H27: 34
A28: Augenoptik | B28: 27 | C28: 24 | D28: 51 | E28: 25 | F28: 26 | G28: 0 | H28: 0
A29: Heilerziehungspflege | B29: 49 | C29: 216 | D29: 265 | E29: 108 | F29: 87 | G29: 66 | H29: 4
A30: Heilpädagoge | B30: 10 | C30: 46 | D30: 56 | E30: 25 | F30: 31 | G30: 0 | H30: 0
A31: Sozialpädagogik | B31: 163 | C31: 705 | D31: 868 | E31: 276 | F31: 264 | G31: 298 | H31: 30
A34: Insgesamt | B34: 711 | C34: 1057 | D34: 1768 | E34: 674 | F34: 585 | G34: 409 | H34: 100

Sheet TAB2.15+16
A2: 15. Schüler an berufsbildenden Einrichtungen für Behinderte insgesamt nach
A3: Jahrgangsstufen, Ausbildungsformen und Berufsfeldern
A5: Ausbildungsform | E5: Davon in der ... Jahrgangsstufe
A6: ______ | B6: Männlich | C6: Weiblich | D6: Insgesamt | E6: 1. | F6: 2. | G6: 3. | H6: 4.
A7: Berufsfeld
A9: Berufsschule - dual
A10: Agrarwirtschaft | B10: 88 | C10: 28 | D10: 116 | E10: 38 | F10: 35 | G10: 43 | H10: 0
A11: Bautechnik | B11: 12 | C11: 0 | D11: 12 | E11: 4 | F11: 4 | G11: 4 | H11: 0
A12: Elektrotechnik | B12: 29 | C12: 5 | D12: 34 | E12: 9 | F12: 13 | G12: 11 | H12: 1
A13: Ernährung und Hauswirtschaft | B13: 86 | C13: 196 | D13: 282 | E13: 108 | F13: 93 | G13: 81 | H13: 0
A14: Farbtechnik und Raumgestaltung | B14: 52 | C14: 26 | D14: 78 | E14: 28 | F14: 27 | G14: 23 | H14: 0
A15: Holztechnik | B15: 84 | C15: 13 | D15: 97 | E15: 40 | F15: 25 | G15: 32 | H15: 0
A16: Metalltechnik | B16: 113 | C16: 8 | D16: 121 | E16: 48 | F16: 36 | G16: 30 | H16: 7
A17: Wirtschaft und Verwaltung | B17: 180 | C17: 95 | D17: 275 | E17: 101 | F17: 111 | G17: 63 | H17: 0
A18: Einzelberufe | B18: 2 | C18: 26 | D18: 28 | E18: 8 | F18: 11 | G18: 9 | H18: 0
A20: Insgesamt | B20: 646 | C20: 397 | D20: 1043 | E20: 384 | F20: 355 | G20: 296 | H20: 8
A25: 16. Schüler an staatlichen berufsbildenden Einrichtungen für Behinderte nach
A26: Jahrgangsstufen, Ausbildungsformen und Berufsfeldern
A28: Ausbildungsform | B28: Männlich | C28: Weiblich | D28: Insgesamt | E28: Davon in der ... Jahrgangsstufe
A29: ______ | E29: 1. | F29: 2. | G29: 3. | H29: 4.
A30: Berufsfeld
A32: Berufsschule - dual
A33: Agrarwirtschaft | B33: 56 | C33: 18 | D33: 74 | E33: 23 | F33: 23 | G33: 28 | H33: 0
A34: Bautechnik | B34: 9 | C34: 0 | D34: 9 | E34: 3 | F34: 2 | G34: 4 | H34: 0
A35: Elektrotechnik | B35: 8 | C35: 3 | D35: 11 | E35: 0 | F35: 4 | G35: 7 | H35: 0
A36: Ernährung und Hauswirtschaft | B36: 70 | C36: 136 | D36: 206 | E36: 77 | F36: 70 | G36: 59 | H36: 0
A37: Farbtechnik und Raumgestaltung | B37: 35 | C37: 10 | D37: 45 | E37: 16 | F37: 15 | G37: 14 | H37: 0
A38: Holztechnik | B38: 51 | C38: 6 | D38: 57 | E38: 24 | F38: 15 | G38: 18 | H38: 0
A39: Metalltechnik | B39: 75 | C39: 6 | D39: 81 | E39: 35 | F39: 27 | G39: 16 | H39: 3
A40: Wirtschaft und Verwaltung | B40: 138 | C40: 78 | D40: 216 | E40: 81 | F40: 86 | G40: 49 | H40: 0
A41: Einzelberufe | B41: 0 | C41: 0 | D41: 0 | E41: 0 | F41: 0 | G41: 0 | H41: 0
A43: Insgesamt | B43: 442 | C43: 257 | D43: 699 | E43: 259 | F43: 242 | G43: 195 | H43: 3

Sheet TAB2.17+18
A2: 17. Schüler mit sonderpädagogischem Förderbedarf an berufsbildenden Einrichtungen für Behinderte
A3: insgesamt nach Förderschwerpunkten, Ausbildungsformen und Jahrgangsstufen
B5: Ins- gesamt | C5: Davon nach Förderschwerpunkt
A6: Ausbildungsform | C6: Lernen | D6: geistige Entwicklung | E6: emotionale und soziale Entwicklung | F6: körperliche und motorische Entwicklung | G6: Sprache | H6: Hören | I6: Sehen
A7: ______
A8: Jahrgangsstufe
A12: Berufsschule - dual | B12: 760 | C12: 481 | D12: 4 | E12: 215 | F12: 0 | G12: 0 | H12: 0 | I12: 0
A14: 1. Lehrjahr/Grundstufe | B14: 257 | C14: 150 | D14: 1 | E14: 88 | F14: 18 | G14: 0 | H14: 0 | I14: 0
A16: 2. Lehrjahr/Fachstufe I | B16: 260 | C16: 173 | D16: 1 | E16: 60 | F16: 0 | G16: 0 | H16: 0 | I16: 0
A18: 3. Lehrjahr/Fachstufe II | B18: 238 | C18: 158 | D18: 2 | E18: 0 | F18: 12 | G18: 0 | H18: 0 | I18: 0
A20: 4. Lehrjahr/Fachstufe III | B20: 5 | C20: 0 | D20: 0 | E20: 0 | F20: 0 | G20: 0 | H20: 0 | I20: 0
A23: Insgesamt | B23: 760 | C23: 481 | D23: 4 | E23: 215 | F23: 0 | G23: 0 | H23: 0 | I23: 0
A29: 18. Schüler mit sonderpädagogischem Förderbedarf an staatlichen berufsbildenden Einrichtungen
A30: für Behinderte nach Förderschwerpunkten, Ausbildungsformen und Jahrgangsstufen
B32: Ins- gesamt | C32: Davon nach Förderschwerpunkt
A33: Ausbildungsform | C33: Lernen | D33: geistige Entwicklung | E33: emotionale und soziale Entwicklung | F33: körperliche und motorische Entwicklung | G33: Sprache | H33: Hören | I33: Sehen
A34: ______
A35: Jahrgangsstufe
A39: Berufsschule - dual | B39: 416 | C39: 403 | D39: 0 | E39: 7 | F39: 0 | G39: 0 | H39: 0 | I39: 0
A41: 1. Lehrjahr/Grundstufe | B41: 132 | C41: 130 | D41: 0 | E41: 2 | F41: 0 | G41: 0 | H41: 0 | I41: 0
A43: 2. Lehrjahr/Fachstufe I | B43: 147 | C43: 143 | D43: 0 | E43: 0 | F43: 0 | G43: 0 | H43: 0 | I43: 0
A45: 3. Lehrjahr/Fachstufe II | B45: 137 | C45: 130 | D45: 0 | E45: 0 | F45: 0 | G45: 0 | H45: 0 | I45: 0
A47: 4. Lehrjahr/Fachstufe III | B47: 0 | C47: 0 | D47: 0 | E47: 0 | F47: 0 | G47: 0 | H47: 0 | I47: 0
A50: Insgesamt | B50: 416 | C50: 403 | D50: 0 | E50: 7 | F50: 0 | G50: 0 | H50: 0 | I50: 0

Sheet TAB2.19+20
A2: 19. Schüler mit sonderpädagogischem Förderbedarf im Gemeinsamen Unterricht an
A3: Schulen insgesamt nach Schulformen und Förderschwerpunkten
A5: Förderschwerpunkt | B5: Insgesamt | C5: Davon an
C6: Berufs- schulen | D6: Berufs- fach- schulen | E6: höhere Berufs- fach- schulen | F6: Fach- ober- schulen | G6: beruflichen Gymnasien | H6: Fach- schulen
A11: Lernen | B11: 96 | C11: 85 | D11: 8 | E11: 0 | F11: 1 | G11: 1 | H11: 1
A13: Geistige Entwicklung | B13: 6 | C13: 6 | D13: 0 | E13: 0 | F13: 0 | G13: 0 | H13: 0
A15: Emotionale und
A16: soziale Entwicklung | B16: 38 | C16: 25 | D16: 6 | E16: 1 | F16: 1 | G16: 4 | H16: 1
A18: Körperliche und
A19: motorische Entwicklung | B19: 29 | C19: 17 | D19: 7 | E19: 0 | F19: 3 | G19: 1 | H19: 1
A21: Sprache | B21: 39 | C21: 25 | D21: 4 | E21: 5 | F21: 0 | G21: 0 | H21: 5
A23: Hören | B23: 12 | C23: 5 | D23: 3 | E23: 2 | F23: 1 | G23: 1 | H23: 0
A25: Sehen | B25: 6 | C25: 5 | D25: 0 | E25: 0 | F25: 0 | G25: 1 | H25: 0
A27: Insgesamt | B27: 226 | C27: 168 | D27: 28 | E27: 8 | F27: 6 | G27: 8 | H27: 8
A31: 20. Schüler mit sonderpädagogischem Förderbedarf im Gemeinsamen Unterricht an
A32: staatlichen Schulen nach Schulformen und Förderschwerpunkten
A34: Förderschwerpunkt | B34: Insgesamt | C34: Davon an
C35: Berufs- schulen | D35: Berufs- fach- schulen | E35: höhere Berufs- fach- schulen | F35: Fach- ober- schulen | G35: beruflichen Gymnasien | H35: Fach- schulen
A40: Lernen | B40: 72 | C40: 61 | D40: 8 | E40: 0 | F40: 1 | G40: 1 | H40: 1
A42: Geistige Entwicklung | B42: 6 | C42: 6 | D42: 0 | E42: 0 | F42: 0 | G42: 0 | H42: 0
A44: Emotionale und
A45: soziale Entwicklung | B45: 25 | C45: 12 | D45: 0 | E45: 0 | F45: 1 | G45: 4 | H45: 1
A47: Körperliche und
A48: motorische Entwicklung | B48: 28 | C48: 17 | D48: 6 | E48: 0 | F48: 3 | G48: 1 | H48: 1
A50: Sprache | B50: 39 | C50: 25 | D50: 0 | E50: 0 | F50: 0 | G50: 0 | H50: 5
A52: Hören | B52: 10 | C52: 5 | D52: 3 | E52: 0 | F52: 1 | G52: 1 | H52: 0
A54: Sehen | B54: 6 | C54: 5 | D54: 0 | E54: 0 | F54: 0 | G54: 1 | H54: 0
A56: Insgesamt | B56: 186 | C56: 131 | D56: 27 | E56: 6 | F56: 6 | G56: 8 | H56: 8

Sheet TAB2.21
A2: 21. Schüler an Schulen insgesamt nach Schulformen und
A3: schulischer Vorbildung
A5: Vorbildung | B5: Insgesamt | C5: Davon an
C6: Berufs- schulen | D6: Berufs- fach- schulen | E6: höhere Berufs- fach- schulen | F6: Fach- ober- schulen | G6: beruflichen Gymnasien | H6: Fach- schulen | I6: berufs- bildenden Einrichtungen für Behinderte
A11: Ohne Hauptschulabschluss 1) | B11: 2527 | C11: 2232 | D11: 8 | E11: 0 | F11: 0 | G11: 0 | H11: 0 | I11: 287
A13: Abschluss im Bildungsgang
A14: zur Lernförderung | B14: 65 | C14: 27 | D14: 0 | E14: 0 | F14: 0 | G14: 0 | H14: 0 | I14: 38
A16: Abschluss im Bildungsgang
A17: zur individuellen Lebensbewältigung | B17: 6 | C17: 0 | D17: 0 | E17: 0 | F17: 0 | G17: 0 | H17: 0 | I17: 0
A19: Hauptschulabschluss oder
A20: gleichwertiger Abschluss | B20: 7604 | C20: 3714 | D20: 3307 | E20: 44 | F20: 0 | G20: 0 | H20: 0 | I20: 539
A22: Qualifizierender Hauptschulabschluss | B22: 1491 | C22: 1068 | D22: 361 | E22: 13 | F22: 0 | G22: 0 | H22: 0 | I22: 49
A24: Realschulabschluss oder
A25: gleichwertiger Abschluss | B25: 25798 | C25: 14638 | D25: 669 | E25: 6214 | F25: 1366 | G25: 2822 | H25: 0 | I25: 89
A27: Fachhochschulreife | B27: 1443 | C27: 994 | D27: 26 | E27: 309 | F27: 0 | G27: 2 | H27: 111 | I27: 1
A29: Allgemeine Hochschulreife | B29: 4177 | C29: 2956 | D29: 45 | E29: 1021 | F29: 0 | G29: 0 | H29: 155 | I29: 0
A31: Nicht vergleichbarer Abschluss
A32: von ausländischen Schulen | B32: 1300 | C32: 1209 | D32: 18 | E32: 71 | F32: 0 | G32: 1 | H32: 0 | I32: 1
A34: Wechsler aus allgemeinbildenden
A35: Gymnasien | B35: 46 | C35: 0 | D35: 0 | E35: 0 | F35: 0 | G35: 46 | H35: 0 | I35: 0
A37: Ohne Hauptschulabschluss 1)
A38: und Berufsabschluss | B38: 43 | C38: 35 | D38: 0 | E38: 0 | F38: 0 | G38: 0 | H38: 0 | I38: 8
A40: Abschluss im Bildungsgang
A41: zur Lernförderung und
A42: Berufsabschluss | B42: 9 | C42: 0 | D42: 0 | E42: 0 | F42: 0 | G42: 0 | H42: 0 | I42: 0
A44: Hauptschulabschluss oder
A45: gleichwertiger Abschluss
A46: und Berufsabschluss | B46: 396 | C46: 71 | D46: 73 | E46: 222 | F46: 0 | G46: 0 | H46: 27 | I46: 3
A48: Qualifizierender Hauptschulabschluss
A49: und Berufsabschluss | B49: 101 | C49: 17 | D49: 19 | E49: 60 | F49: 0 | G49: 0 | H49: 4 | I49: 1
A51: Realschulabschluss oder
A52: gleichwertiger Abschluss
A53: und Berufsabschluss | B53: 3920 | C53: 362 | D53: 95 | E53: 463 | F53: 112 | G53: 4 | H53: 2884 | I53: 0
A55: Fachhochschulreife
A56: und Berufsabschluss | B56: 169 | C56: 33 | D56: 2 | E56: 14 | F56: 0 | G56: 1 | H56: 119 | I56: 0
A58: Allgemeine Hochschulreife
A59: und Berufsabschluss | B59: 283 | C59: 29 | D59: 6 | E59: 41 | F59: 0 | G59: 0 | H59: 207 | I59: 0
A61: Nicht vergleichbarer Abschluss
A62: von ausländischen Schulen
A63: und Berufsabschluss | B63: 387 | C63: 303 | D63: 6 | E63: 47 | F63: 0 | G63: 0 | H63: 11 | I63: 20
A65: Insgesamt | B65: 49765 | C65: 27696 | D65: 4635 | E65: 8519 | F65: 1478 | G65: 2876 | H65: 3518 | I65: 1043
A67: __________
A68: 1) ohne Abschluss im Bildungsgang zur Lernförderung bzw. zur individuellen Lebensbewältigung

Sheet TAB2.22
A2: 22. Schüler an staatlichen Schulen nach Schulformen und
A3: schulischer Vorbildung
A5: Vorbildung | B5: Insgesamt | C5: Davon an
C6: Berufs- schulen | D6: Berufs- fach- schulen | E6: höhere Berufs- fach- schulen | F6: Fach- ober- schulen | G6: beruflichen Gymnasien | H6: Fach- schulen | I6: berufs- bildenden Einrichtungen für Behinderte
A11: Ohne Hauptschulabschluss 1) | B11: 2203 | C11: 2023 | D11: 4 | E11: 0 | F11: 0 | G11: 0 | H11: 0 | I11: 176
A13: Abschluss im Bildungsgang
A14: zur Lernförderung | B14: 63 | C14: 27 | D14: 0 | E14: 0 | F14: 0 | G14: 0 | H14: 0 | I14: 36
A16: Abschluss im Bildungsgang
A17: zur individuellen Lebensbewältigung | B17: 6 | C17: 0 | D17: 0 | E17: 0 | F17: 0 | G17: 0 | H17: 0 | I17: 0
A19: Hauptschulabschluss oder
A20: gleichwertiger Abschluss | B20: 6261 | C20: 3694 | D20: 2157 | E20: 26 | F20: 0 | G20: 0 | H20: 0 | I20: 384
A22: Qualifizierender Hauptschulabschluss | B22: 1269 | C22: 1032 | D22: 203 | E22: 6 | F22: 0 | G22: 0 | H22: 0 | I22: 28
A24: Realschulabschluss oder
A25: gleichwertiger Abschluss | B25: 21381 | C25: 14424 | D25: 294 | E25: 2569 | F25: 1272 | G25: 2785 | H25: 0 | I25: 37
A27: Fachhochschulreife | B27: 1147 | C27: 976 | D27: 14 | E27: 106 | F27: 0 | G27: 2 | H27: 49 | I27: 0
A29: Allgemeine Hochschulreife | B29: 3429 | C29: 2812 | D29: 36 | E29: 508 | F29: 0 | G29: 0 | H29: 73 | I29: 0
A31: Nicht vergleichbarer Abschluss
A32: von ausländischen Schulen | B32: 1106 | C32: 1072 | D32: 10 | E32: 22 | F32: 0 | G32: 1 | H32: 0 | I32: 1
A34: Wechsler aus allgemeinbildenden
A35: Gymnasien | B35: 46 | C35: 0 | D35: 0 | E35: 0 | F35: 0 | G35: 46 | H35: 0 | I35: 0
A37: Ohne Hauptschulabschluss 1)
A38: und Berufsabschluss | B38: 43 | C38: 35 | D38: 0 | E38: 0 | F38: 0 | G38: 0 | H38: 0 | I38: 8
A40: Abschluss im Bildungsgang
A41: zur Lernförderung und
A42: Berufsabschluss | B42: 9 | C42: 0 | D42: 0 | E42: 0 | F42: 0 | G42: 0 | H42: 0 | I42: 0
A44: Hauptschulabschluss oder
A45: gleichwertiger Abschluss
A46: und Berufsabschluss | B46: 163 | C46: 71 | D46: 41 | E46: 45 | F46: 0 | G46: 0 | H46: 4 | I46: 2
A48: Qualifizierender Hauptschulabschluss
A49: und Berufsabschluss | B49: 43 | C49: 17 | D49: 8 | E49: 15 | F49: 0 | G49: 0 | H49: 3 | I49: 0
A51: Realschulabschluss oder
A52: gleichwertiger Abschluss
A53: und Berufsabschluss | B53: 2087 | C53: 362 | D53: 59 | E53: 188 | F53: 105 | G53: 4 | H53: 1369 | I53: 0
A55: Fachhochschulreife
A56: und Berufsabschluss | B56: 141 | C56: 33 | D56: 1 | E56: 5 | F56: 0 | G56: 1 | H56: 101 | I56: 0
A58: Allgemeine Hochschulreife
A59: und Berufsabschluss | B59: 212 | C59: 29 | D59: 2 | E59: 16 | F59: 0 | G59: 0 | H59: 165 | I59: 0
A61: Nicht vergleichbarer Abschluss
A62: von ausländischen Schulen
A63: und Berufsabschluss | B63: 331 | C63: 302 | D63: 1 | E63: 4 | F63: 0 | G63: 0 | H63: 4 | I63: 20
A65: Insgesamt | B65: 39940 | C65: 26917 | D65: 2830 | E65: 3510 | F65: 1377 | G65: 2839 | H65: 1768 | I65: 699
A67: __________
A68: 1) ohne Abschluss im Bildungsgang zur Lernförderung bzw. zur individuellen Lebensbewältigung

Sheet S37
A28: Übersichten nach Schulämtern und Kreisen
A29: Stichtag: 5. November 2025

Sheet TAB3.01
H2: 1. Schulen, Klassen und Schüler an | I2: Schulen insgesamt nach Schulformen | T2: Noch: 1. Schulen, Klassen und Schüler an | U2: Schulen insgesamt nach Schulformen | AH2: Noch: 1. Schulen, Klassen und Schüler an | AI2: Schulen insgesamt nach Schulformen | AR2: Noch: 1. Schulen, Klassen und Schüler an | AT2: Schulen insgesamt nach Schulformen | BB2: Noch: 1. Schulen, Klassen und Schüler an Schulen insgesamt nach Schulformen
A4: Lfd. Nr. | B4: Staatliches Schulamt ______ Kreis | C4: Berufsbildende Schulen insgesamt | F4: Berufsschule | I4: Davon | M4: Lfd. Nr. | N4: Lfd. Nr. | O4: Staatliches Schulamt ______ Kreis | P4: Berufsfachschule | S4: Davon | AA4: Lfd. Nr. | AB4: Lfd. Nr. | AC4: Staatliches Schulamt ______ Kreis | AD4: Höhere Berufsfachschule | AG4: Davon | AK4: Fachoberschule | AN4: Lfd. Nr. | AO4: Lfd. Nr. | AP4: Staatliches Schulamt ______ Kreis | AQ4: Berufliches Gymnasium | AT4: Fachschule | AW4: Davon | BA4: Lfd. Nr. | BB4: Lfd. Nr. | BC4: Staatliches Schulamt ______ Kreis | BD4: Berufsbildende Einrichtung für Behinderte | BG4: Davon
I5: BVJ-Vollzeit | K5: Berufsschule-dual | S5: 1-jährig berufsqualifizierend | U5: 1/2-jährig nicht berufsqualifizierend | W5: 2-jährig berufsqualifizierend | Y5: 3-jährig Vollzeit | AG5: 2-jährig | AI5: 3-jährig | AW5: Vollzeit | AY5: Teilzeit | BG5: Berufsschule-dual
C6: Schulen | D6: Klassen | E6: Schüler | F6: Schulen | G6: Klassen | H6: Schüler | I6: Klassen | J6: Schüler | K6: Klassen | L6: Schüler | P6: Schulen | Q6: Klassen | R6: Schüler | S6: Klassen | T6: Schüler | U6: Klassen | V6: Schüler | W6: Klassen | X6: Schüler | Y6: Klassen | Z6: Schüler | AD6: Schulen | AE6: Klassen | AF6: Schüler | AG6: Klassen | AH6: Schüler | AI6: Klassen | AJ6: Schüler | AK6: Schulen | AL6: Klassen | AM6: Schüler | AQ6: Schulen | AR6: Klassen | AS6: Schüler | AT6: Schulen | AU6: Klassen | AV6: Schüler | AW6: Klassen | AX6: Schüler | AY6: Klassen | AZ6: Schüler | BD6: Schulen | BE6: Klassen | BF6: Schüler | BG6: Klassen | BH6: Schüler
A8: 1 | B8: Schulamt Mittelthüringen | C8: 24 | D8: 804 | E8: 14668 | F8: 12 | G8: 472 | H8: 8995 | I8: 28 | J8: 270 | K8: 444 | L8: 8725 | M8: 1 | N8: 1 | O8: Schulamt Mittelthüringen | P8: 15 | Q8: 55 | R8: 1040 | S8: 15 | T8: 265 | U8: 16 | V8: 308 | W8: 24 | X8: 467 | Y8: 0 | Z8: 0 | AA8: 1 | AB8: 1 | AC8: Schulamt Mittelthüringen | AD8: 15 | AE8: 134 | AF8: 2404 | AG8: 24 | AH8: 380 | AI8: 110 | AJ8: 2024 | AK8: 6 | AL8: 24 | AM8: 469 | AN8: 1 | AO8: 1 | AP8: Schulamt Mittelthüringen | AQ8: 5 | AR8: 35 | AS8: 736 | AT8: 8 | AU8: 49 | AV8: 800 | AW8: 43 | AX8: 715 | AY8: 6 | AZ8: 85 | BA8: 1 | BB8: 1 | BC8: Schulamt Mittelthüringen | BD8: 4 | BE8: 35 | BF8: 224 | BG8: 35 | BH8: 224
A9: 2 | B9: Stadt Erfurt | C9: 16 | D9: 562 | E9: 10326 | F9: 9 | G9: 334 | H9: 6397 | I9: 18 | J9: 182 | K9: 316 | L9: 6215 | M9: 2 | N9: 2 | O9: Stadt Erfurt | P9: 11 | Q9: 36 | R9: 724 | S9: 7 | T9: 137 | U9: 10 | V9: 207 | W9: 19 | X9: 380 | Y9: 0 | Z9: 0 | AA9: 2 | AB9: 2 | AC9: Stadt Erfurt | AD9: 9 | AE9: 92 | AF9: 1612 | AG9: 20 | AH9: 313 | AI9: 72 | AJ9: 1299 | AK9: 5 | AL9: 16 | AM9: 331 | AN9: 2 | AO9: 2 | AP9: Stadt Erfurt | AQ9: 3 | AR9: 21 | AS9: 458 | AT9: 7 | AU9: 34 | AV9: 599 | AW9: 33 | AX9: 584 | AY9: 1 | AZ9: 15 | BA9: 2 | BB9: 2 | BC9: Stadt Erfurt | BD9: 3 | BE9: 29 | BF9: 205 | BG9: 29 | BH9: 205
A10: 3 | B10: Stadt Weimar | C10: 6 | D10: 173 | E10: 3193 | F10: 2 | G10: 86 | H10: 1640 | I10: 4 | J10: 34 | K10: 82 | L10: 1606 | M10: 3 | N10: 3 | O10: Stadt Weimar | P10: 3 | Q10: 15 | R10: 255 | S10: 8 | T10: 128 | U10: 2 | V10: 40 | W10: 5 | X10: 87 | Y10: 0 | Z10: 0 | AA10: 3 | AB10: 3 | AC10: Stadt Weimar | AD10: 5 | AE10: 40 | AF10: 773 | AG10: 4 | AH10: 67 | AI10: 36 | AJ10: 706 | AK10: 1 | AL10: 8 | AM10: 138 | AN10: 3 | AO10: 3 | AP10: Stadt Weimar | AQ10: 1 | AR10: 9 | AS10: 186 | AT10: 1 | AU10: 15 | AV10: 201 | AW10: 10 | AX10: 131 | AY10: 5 | AZ10: 70 | BA10: 3 | BB10: 3 | BC10: Stadt Weimar | BD10: 0 | BE10: 0 | BF10: 0 | BG10: 0 | BH10: 0
A11: 4 | B11: Sömmerda | C11: 0 | D11: 0 | E11: 0 | F11: 0 | G11: 0 | H11: 0 | I11: 0 | J11: 0 | K11: 0 | L11: 0 | M11: 4 | N11: 4 | O11: Sömmerda | P11: 0 | Q11: 0 | R11: 0 | S11: 0 | T11: 0 | U11: 0 | V11: 0 | W11: 0 | X11: 0 | Y11: 0 | Z11: 0 | AA11: 4 | AB11: 4 | AC11: Sömmerda | AD11: 0 | AE11: 0 | AF11: 0 | AG11: 0 | AH11: 0 | AI11: 0 | AJ11: 0 | AK11: 0 | AL11: 0 | AM11: 0 | AN11: 4 | AO11: 4 | AP11: Sömmerda | AQ11: 0 | AR11: 0 | AS11: 0 | AT11: 0 | AU11: 0 | AV11: 0 | AW11: 0 | AX11: 0 | AY11: 0 | AZ11: 0 | BA11: 4 | BB11: 4 | BC11: Sömmerda | BD11: 0 | BE11: 0 | BF11: 0 | BG11: 0 | BH11: 0
A12: 5 | B12: Weimarer Land | C12: 2 | D12: 69 | E12: 1149 | F12: 1 | G12: 52 | H12: 958 | I12: 6 | J12: 54 | K12: 46 | L12: 904 | M12: 5 | N12: 5 | O12: Weimarer Land | P12: 1 | Q12: 4 | R12: 61 | S12: 0 | T12: 0 | U12: 4 | V12: 61 | W12: 0 | X12: 0 | Y12: 0 | Z12: 0 | AA12: 5 | AB12: 5 | AC12: Weimarer Land | AD12: 1 | AE12: 2 | AF12: 19 | AG12: 0 | AH12: 0 | AI12: 2 | AJ12: 19 | AK12: 0 | AL12: 0 | AM12: 0 | AN12: 5 | AO12: 5 | AP12: Weimarer Land | AQ12: 1 | AR12: 5 | AS12: 92 | AT12: 0 | AU12: 0 | AV12: 0 | AW12: 0 | AX12: 0 | AY12: 0 | AZ12: 0 | BA12: 5 | BB12: 5 | BC12: Weimarer Land | BD12: 1 | BE12: 6 | BF12: 19 | BG12: 6 | BH12: 19
A15: 6 | B15: Schulamt Nordthüringen | C15: 18 | D15: 470 | E15: 7621 | F15: 9 | G15: 205 | H15: 3498 | I15: 37 | J15: 474 | K15: 168 | L15: 3024 | M15: 6 | N15: 6 | O15: Schulamt Nordthüringen | P15: 14 | Q15: 52 | R15: 907 | S15: 11 | T15: 180 | U15: 17 | V15: 295 | W15: 24 | X15: 432 | Y15: 0 | Z15: 0 | AA15: 6 | AB15: 6 | AC15: Schulamt Nordthüringen | AD15: 11 | AE15: 87 | AF15: 1428 | AG15: 11 | AH15: 204 | AI15: 76 | AJ15: 1224 | AK15: 4 | AL15: 17 | AM15: 305 | AN15: 6 | AO15: 6 | AP15: Schulamt Nordthüringen | AQ15: 3 | AR15: 25 | AS15: 490 | AT15: 6 | AU15: 49 | AV15: 808 | AW15: 37 | AX15: 712 | AY15: 12 | AZ15: 96 | BA15: 6 | BB15: 6 | BC15: Schulamt Nordthüringen | BD15: 4 | BE15: 35 | BF15: 185 | BG15: 35 | BH15: 185
A16: 7 | B16: Eichsfeld | C16: 6 | D16: 115 | E16: 1761 | F16: 2 | G16: 48 | H16: 740 | I16: 9 | J16: 121 | K16: 39 | L16: 619 | M16: 7 | N16: 7 | O16: Eichsfeld | P16: 4 | Q16: 13 | R16: 252 | S16: 1 | T16: 30 | U16: 8 | V16: 146 | W16: 4 | X16: 76 | Y16: 0 | Z16: 0 | AA16: 7 | AB16: 7 | AC16: Eichsfeld | AD16: 3 | AE16: 18 | AF16: 353 | AG16: 3 | AH16: 59 | AI16: 15 | AJ16: 294 | AK16: 2 | AL16: 10 | AM16: 175 | AN16: 7 | AO16: 7 | AP16: Eichsfeld | AQ16: 0 | AR16: 0 | AS16: 0 | AT16: 1 | AU16: 8 | AV16: 170 | AW16: 8 | AX16: 170 | AY16: 0 | AZ16: 0 | BA16: 7 | BB16: 7 | BC16: Eichsfeld | BD16: 1 | BE16: 18 | BF16: 71 | BG16: 18 | BH16: 71
A17: 8 | B17: Nordhausen | C17: 4 | D17: 106 | E17: 1771 | F17: 2 | G17: 42 | H17: 731 | I17: 6 | J17: 74 | K17: 36 | L17: 657 | M17: 8 | N17: 8 | O17: Nordhausen | P17: 3 | Q17: 14 | R17: 226 | S17: 4 | T17: 65 | U17: 2 | V17: 34 | W17: 8 | X17: 127 | Y17: 0 | Z17: 0 | AA17: 8 | AB17: 8 | AC17: Nordhausen | AD17: 3 | AE17: 25 | AF17: 368 | AG17: 2 | AH17: 49 | AI17: 23 | AJ17: 319 | AK17: 1 | AL17: 5 | AM17: 92 | AN17: 8 | AO17: 8 | AP17: Nordhausen | AQ17: 1 | AR17: 9 | AS17: 196 | AT17: 1 | AU17: 9 | AV17: 148 | AW17: 9 | AX17: 148 | AY17: 0 | AZ17: 0 | BA17: 8 | BB17: 8 | BC17: Nordhausen | BD17: 1 | BE17: 2 | BF17: 10 | BG17: 2 | BH17: 10
A18: 9 | B18: Unstrut-Hainich-Kreis | C18: 4 | D18: 150 | E18: 2658 | F18: 3 | G18: 78 | H18: 1418 | I18: 15 | J18: 185 | K18: 63 | L18: 1233 | M18: 9 | N18: 9 | O18: Unstrut-Hainich-Kreis | P18: 3 | Q18: 13 | R18: 243 | S18: 4 | T18: 66 | U18: 3 | V18: 56 | W18: 6 | X18: 121 | Y18: 0 | Z18: 0 | AA18: 9 | AB18: 9 | AC18: Unstrut-Hainich-Kreis | AD18: 2 | AE18: 27 | AF18: 513 | AG18: 4 | AH18: 62 | AI18: 23 | AJ18: 451 | AK18: 0 | AL18: 0 | AM18: 0 | AN18: 9 | AO18: 9 | AP18: Unstrut-Hainich-Kreis | AQ18: 1 | AR18: 9 | AS18: 162 | AT18: 2 | AU18: 21 | AV18: 315 | AW18: 12 | AX18: 229 | AY18: 9 | AZ18: 86 | BA18: 9 | BB18: 9 | BC18: Unstrut-Hainich-Kreis | BD18: 1 | BE18: 2 | BF18: 7 | BG18: 2 | BH18: 7
A19: 10 | B19: Kyffhäuserkreis | C19: 4 | D19: 99 | E19: 1431 | F19: 2 | G19: 37 | H19: 609 | I19: 7 | J19: 94 | K19: 30 | L19: 515 | M19: 10 | N19: 10 | O19: Kyffhäuserkreis | P19: 4 | Q19: 12 | R19: 186 | S19: 2 | T19: 19 | U19: 4 | V19: 59 | W19: 6 | X19: 108 | Y19: 0 | Z19: 0 | AA19: 10 | AB19: 10 | AC19: Kyffhäuserkreis | AD19: 3 | AE19: 17 | AF19: 194 | AG19: 2 | AH19: 34 | AI19: 15 | AJ19: 160 | AK19: 1 | AL19: 2 | AM19: 38 | AN19: 10 | AO19: 10 | AP19: Kyffhäuserkreis | AQ19: 1 | AR19: 7 | AS19: 132 | AT19: 2 | AU19: 11 | AV19: 175 | AW19: 8 | AX19: 165 | AY19: 3 | AZ19: 10 | BA19: 10 | BB19: 10 | BC19: Kyffhäuserkreis | BD19: 1 | BE19: 13 | BF19: 97 | BG19: 13 | BH19: 97
A22: 11 | B22: Schulamt Ostthüringen | C22: 24 | D22: 744 | E22: 12288 | F22: 10 | G22: 375 | H22: 6635 | I22: 40 | J22: 532 | K22: 335 | L22: 6103 | M22: 11 | N22: 11 | O22: Schulamt Ostthüringen | P22: 18 | Q22: 75 | R22: 1364 | S22: 14 | T22: 255 | U22: 33 | V22: 560 | W22: 28 | X22: 549 | Y22: 0 | Z22: 0 | AA22: 11 | AB22: 11 | AC22: Schulamt Ostthüringen | AD22: 18 | AE22: 137 | AF22: 2273 | AG22: 44 | AH22: 655 | AI22: 93 | AJ22: 1618 | AK22: 6 | AL22: 18 | AM22: 387 | AN22: 11 | AO22: 11 | AP22: Schulamt Ostthüringen | AQ22: 5 | AR22: 24 | AS22: 418 | AT22: 12 | AU22: 57 | AV22: 891 | AW22: 51 | AX22: 831 | AY22: 6 | AZ22: 60 | BA22: 11 | BB22: 11 | BC22: Schulamt Ostthüringen | BD22: 5 | BE22: 58 | BF22: 320 | BG22: 58 | BH22: 320
A23: 12 | B23: Stadt Gera | C23: 10 | D23: 309 | E23: 4741 | F23: 3 | G23: 144 | H23: 2514 | I23: 13 | J23: 168 | K23: 131 | L23: 2346 | M23: 12 | N23: 12 | O23: Stadt Gera | P23: 5 | Q23: 25 | R23: 475 | S23: 6 | T23: 115 | U23: 8 | V23: 152 | W23: 11 | X23: 208 | Y23: 0 | Z23: 0 | AA23: 12 | AB23: 12 | AC23: Stadt Gera | AD23: 6 | AE23: 49 | AF23: 816 | AG23: 18 | AH23: 263 | AI23: 31 | AJ23: 553 | AK23: 3 | AL23: 9 | AM23: 194 | AN23: 12 | AO23: 12 | AP23: Stadt Gera | AQ23: 1 | AR23: 7 | AS23: 109 | AT23: 4 | AU23: 25 | AV23: 344 | AW23: 21 | AX23: 302 | AY23: 4 | AZ23: 42 | BA23: 12 | BB23: 12 | BC23: Stadt Gera | BD23: 2 | BE23: 50 | BF23: 289 | BG23: 50 | BH23: 289
... A44: 28 | B44: Insgesamt | C44: 96 | D44: 2957 | E44: 49765 | F44: 44 | G44: 1565 | H44: 27696 | I44: 155 | J44: 1877 | K44: 1410 | L44: 25819 | M44: 28 | N44: 28 | O44: Insgesamt | P44: 70 | Q44: 264 | R44: 4635 | S44: 56 | T44: 987 | U44: 96 | V44: 1642 | W44: 100 | X44: 1903 | Y44: 12 | Z44: 103 | AA44: 28 | AB44: 28 | AC44: Insgesamt | AD44: 62 | AE44: 492 | AF44: 8519 | AG44: 100 | AH44: 1591 | AI44: 392 | AJ44: 6928 | AK44: 21 | AL44: 78 | AM44: 1478 | AN44: 28 | AO44: 28 | AP44: Insgesamt | AQ44: 22 | AR44: 149 | AS44: 2876 | AT44: 38 | AU44: 222 | AV44: 3518 | AW44: 179 | AX44: 2981 | AY44: 43 | AZ44: 537 | BA44: 28 | BB44: 28 | BC44: Insgesamt | BD44: 18 | BE44: 187 | BF44: 1043 | BG44: 187 | BH44: 1043

Sheet TAB3.02
A2: 2. Absolventen/Abgänger aus Schulen insgesamt
A3: des Schuljahres 2024/25 nach Schulformen
A5: Staatliches Schulamt Kreis | B5: Insgesamt | C5: Davon aus
C6: Berufs- schulen | D6: Berufs- fach- schulen | E6: Fach- ober- schulen | F6: beruf- lichen Gym- nasien | G6: Fach- schulen | H6: berufs- bildenden Einrichtungen für Behinderte
A11: Schulamt Mittelthüringen | B11: 4532 | C11: 2689 | D11: 1049 | E11: 224 | F11: 215 | G11: 294 | H11: 61
A12: Stadt Erfurt | B12: 3239 | C12: 1945 | D12: 700 | E12: 163 | F12: 155 | G12: 219 | H12: 57
A13: Stadt Weimar | B13: 911 | C13: 430 | D13: 308 | E13: 61 | F13: 37 | G13: 75 | H13: 0
A14: Sömmerda | B14: 0 | C14: 0 | D14: 0 | E14: 0 | F14: 0 | G14: 0 | H14: 0
A15: Weimarer Land | B15: 382 | C15: 314 | D15: 41 | E15: 0 | F15: 23 | G15: 0 | H15: 4
A18: Schulamt Nordthüringen | B18: 2703 | C18: 1234 | D18: 870 | E18: 145 | F18: 137 | G18: 277 | H18: 40
A19: Eichsfeld | B19: 689 | C19: 308 | D19: 214 | E19: 86 | F19: 0 | G19: 64 | H19: 17
A20: Nordhausen | B20: 617 | C20: 245 | D20: 229 | E20: 48 | F20: 50 | G20: 41 | H20: 4
A21: Unstrut-Hainich-Kreis | B21: 908 | C21: 449 | D21: 283 | E21: 0 | F21: 52 | G21: 118 | H21: 6
A22: Kyffhäuserkreis | B22: 489 | C22: 232 | D22: 144 | E22: 11 | F22: 35 | G22: 54 | H22: 13
A25: Schulamt Ostthüringen | B25: 4014 | C25: 2154 | D25: 1185 | E25: 160 | F25: 102 | G25: 298 | H25: 115
A26: Stadt Gera | B26: 1577 | C26: 811 | D26: 424 | E26: 97 | F26: 22 | G26: 127 | H26: 96
... A47: Insgesamt | B47: 16370 | C47: 9018 | D47: 4284 | E47: 668 | F47: 826 | G47: 1294 | H47: 280

Sheet TAB3.03
H2: 3. Schulen, Klassen und Schüler an | I2: staatlichen Schulen nach Schulformen | T2: Noch: 3. Schulen, Klassen und Schüler an | U2: staatlichen Schulen nach Schulformen | AH2: Noch: 3. Schulen, Klassen und Schüler an | AI2: staatlichen Schulen nach Schulformen | AR2: Noch: 3. Schulen, Klassen und Schüler an | AT2: staatlichen Schulen nach Schulformen | BC2: Noch: 3. Schulen, Klassen und Schüler an staatlichen Schulen nach Schulformen
A4: Lfd. Nr. | B4: Staatliches Schulamt ______ Kreis | C4: Berufsbildende Schulen insgesamt | F4: Berufsschule | M4: Lfd. Nr. | N4: Lfd. Nr. | O4: Staatliches Schulamt ______ Kreis | P4: Berufsfachschule | AA4: Lfd. Nr. | AB4: Lfd. Nr. | AC4: Staatliches Schulamt ______ Kreis | AD4: Höhere Berufsfachschule | AG4: Davon | AK4: Fachoberschule | AN4: Lfd. Nr. | AO4: Lfd. Nr. | AP4: Staatliches Schulamt ______ Kreis | AQ4: Berufliches Gymnasium | AT4: Fachschule | AW4: Davon | BA4: Lfd. Nr. | BB4: Lfd. Nr. | BC4: Staatliches Schulamt ______ Kreis | BD4: Berufsbildende Einrichtung für Behinderte | BG4: Davon
I5: BVJ-Vollzeit | K5: Berufsschule-dual | S5: 1-jährig berufsqualifizierend | U5: 1/2-jährig nicht berufsqualifizierend | W5: 2-jährig berufsqualifizierend | Y5: 3-jährig Vollzeit | AG5: 2-jährig | AI5: 3-jährig | AW5: Vollzeit | AY5: Teilzeit | BG5: Berufsschule-dual
C6: Schulen | D6: Klassen | E6: Schüler | F6: Schulen | G6: Klassen | H6: Schüler | I6: Klassen | J6: Schüler | K6: Klassen | L6: Schüler | P6: Schulen | Q6: Klassen | R6: Schüler | S6: Klassen | T6: Schüler | U6: Klassen | V6: Schüler | W6: Klassen | X6: Schüler | Y6: Klassen | Z6: Schüler | AD6: Schulen | AE6: Klassen | AF6: Schüler | AG6: Klassen | AH6: Schüler | AI6: Klassen | AJ6: Schüler | AK6: Schulen | AL6: Klassen | AM6: Schüler | AQ6: Schulen | AR6: Klassen | AS6: Schüler | AT6: Schulen | AU6: Klassen | AV6: Schüler | AW6: Klassen | AX6: Schüler | AY6: Klassen | AZ6: Schüler | BD6: Schulen | BE6: Klassen | BF6: Schüler | BG6: Klassen | BH6: Schüler
A8: 1 | B8: Schulamt Mittelthüringen | C8: 9 | D8: 633 | E8: 11648 | F8: 9 | G8: 445 | H8: 8511 | I8: 24 | J8: 221 | K8: 421 | L8: 8290 | M8: 1 | N8: 1 | O8: Schulamt Mittelthüringen | P8: 7 | Q8: 28 | R8: 526 | S8: 1 | T8: 7 | U8: 16 | V8: 308 | W8: 11 | X8: 211 | Y8: 0 | Z8: 0 | AA8: 1 | AB8: 1 | AC8: Schulamt Mittelthüringen | AD8: 3 | AE8: 39 | AF8: 759 | AG8: 10 | AH8: 187 | AI8: 29 | AJ8: 572 | AK8: 6 | AL8: 24 | AM8: 469 | AN8: 1 | AO8: 1 | AP8: Schulamt Mittelthüringen | AQ8: 5 | AR8: 35 | AS8: 736 | AT8: 3 | AU8: 27 | AV8: 423 | AW8: 22 | AX8: 353 | AY8: 5 | AZ8: 70 | BA8: 1 | BB8: 1 | BC8: Schulamt Mittelthüringen | BD8: 3 | BE8: 35 | BF8: 224 | BG8: 35 | BH8: 224
A9: 2 | B9: Stadt Erfurt | C9: 6 | D9: 429 | E9: 8006 | F9: 6 | G9: 307 | H9: 5913 | I9: 14 | J9: 133 | K9: 293 | L9: 5780 | M9: 2 | N9: 2 | O9: Stadt Erfurt | P9: 5 | Q9: 17 | R9: 341 | S9: 0 | T9: 0 | U9: 10 | V9: 207 | W9: 7 | X9: 134 | Y9: 0 | Z9: 0 | AA9: 2 | AB9: 2 | AC9: Stadt Erfurt | AD9: 2 | AE9: 27 | AF9: 536 | AG9: 6 | AH9: 120 | AI9: 21 | AJ9: 416 | AK9: 5 | AL9: 16 | AM9: 331 | AN9: 2 | AO9: 2 | AP9: Stadt Erfurt | AQ9: 3 | AR9: 21 | AS9: 458 | AT9: 2 | AU9: 12 | AV9: 222 | AW9: 12 | AX9: 222 | AY9: 0 | AZ9: 0 | BA9: 2 | BB9: 2 | BC9: Stadt Erfurt | BD9: 2 | BE9: 29 | BF9: 205 | BG9: 29 | BH9: 205
A10: 3 | B10: Stadt Weimar | C10: 2 | D10: 137 | E10: 2512 | F10: 2 | G10: 86 | H10: 1640 | I10: 4 | J10: 34 | K10: 82 | L10: 1606 | M10: 3 | N10: 3 | O10: Stadt Weimar | P10: 1 | Q10: 7 | R10: 124 | S10: 1 | T10: 7 | U10: 2 | V10: 40 | W10: 4 | X10: 77 | Y10: 0 | Z10: 0 | AA10: 3 | AB10: 3 | AC10: Stadt Weimar | AD10: 1 | AE10: 12 | AF10: 223 | AG10: 4 | AH10: 67 | AI10: 8 | AJ10: 156 | AK10: 1 | AL10: 8 | AM10: 138 | AN10: 3 | AO10: 3 | AP10: Stadt Weimar | AQ10: 1 | AR10: 9 | AS10: 186 | AT10: 1 | AU10: 15 | AV10: 201 | AW10: 10 | AX10: 131 | AY10: 5 | AZ10: 70 | BA10: 3 | BB10: 3 | BC10: Stadt Weimar | BD10: 0 | BE10: 0 | BF10: 0 | BG10: 0 | BH10: 0
A11: 4 | B11: Sömmerda | C11: 0 | D11: 0 | E11: 0 | F11: 0 | G11: 0 | H11: 0 | I11: 0 | J11: 0 | K11: 0 | L11: 0 | M11: 4 | N11: 4 | O11: Sömmerda | P11: 0 | Q11: 0 | R11: 0 | S11: 0 | T11: 0 | U11: 0 | V11: 0 | W11: 0 | X11: 0 | Y11: 0 | Z11: 0 | AA11: 4 | AB11: 4 | AC11: Sömmerda | AD11: 0 | AE11: 0 | AF11: 0 | AG11: 0 | AH11: 0 | AI11: 0 | AJ11: 0 | AK11: 0 | AL11: 0 | AM11: 0 | AN11: 4 | AO11: 4 | AP11: Sömmerda | AQ11: 0 | AR11: 0 | AS11: 0 | AT11: 0 | AU11: 0 | AV11: 0 | AW11: 0 | AX11: 0 | AY11: 0 | AZ11: 0 | BA11: 4 | BB11: 4 | BC11: Sömmerda | BD11: 0 | BE11: 0 | BF11: 0 | BG11: 0 | BH11: 0
A12: 5 | B12: Weimarer Land | C12: 1 | D12: 67 | E12: 1130 | F12: 1 | G12: 52 | H12: 958 | I12: 6 | J12: 54 | K12: 46 | L12: 904 | M12: 5 | N12: 5 | O12: Weimarer Land | P12: 1 | Q12: 4 | R12: 61 | S12: 0 | T12: 0 | U12: 4 | V12: 61 | W12: 0 | X12: 0 | Y12: 0 | Z12: 0 | AA12: 5 | AB12: 5 | AC12: Weimarer Land | AD12: 0 | AE12: 0 | AF12: 0 | AG12: 0 | AH12: 0 | AI12: 0 | AJ12: 0 | AK12: 0 | AL12: 0 | AM12: 0 | AN12: 5 | AO12: 5 | AP12: Weimarer Land | AQ12: 1 | AR12: 5 | AS12: 92 | AT12: 0 | AU12: 0 | AV12: 0 | AW12: 0 | AX12: 0 | AY12: 0 | AZ12: 0 | BA12: 5 | BB12: 5 | BC12: Weimarer Land | BD12: 1 | BE12: 6 | BF12: 19 | BG12: 6 | BH12: 19
A15: 6 | B15: Schulamt Nordthüringen | C15: 4 | D15: 305 | E15: 5044 | F15: 4 | G15: 186 | H15: 3203 | I15: 24 | J15: 311 | K15: 162 | L15: 2892 | M15: 6 | N15: 6 | O15: Schulamt Nordthüringen | P15: 4 | Q15: 18 | R15: 291 | S15: 5 | T15: 81 | U15: 10 | V15: 158 | W15: 3 | X15: 52 | Y15: 0 | Z15: 0 | AA15: 6 | AB15: 6 | AC15: Schulamt Nordthüringen | AD15: 2 | AE15: 29 | AF15: 484 | AG15: 4 | AH15: 62 | AI15: 25 | AJ15: 422 | AK15: 3 | AL15: 13 | AM15: 234 | AN15: 6 | AO15: 6 | AP15: Schulamt Nordthüringen | AQ15: 3 | AR15: 25 | AS15: 490 | AT15: 1 | AU15: 17 | AV15: 228 | AW15: 9 | AX15: 147 | AY15: 8 | AZ15: 81 | BA15: 6 | BB15: 6 | BC15: Schulamt Nordthüringen | BD15: 3 | BE15: 17 | BF15: 114 | BG15: 17 | BH15: 114
A16: 7 | B16: Eichsfeld | C16: 1 | D16: 54 | E16: 849 | F16: 1 | G16: 44 | H16: 680 | I16: 5 | J16: 61 | K16: 39 | L16: 619 | M16: 7 | N16: 7 | O16: Eichsfeld | P16: 1 | Q16: 4 | R16: 65 | S16: 0 | T16: 0 | U16: 4 | V16: 65 | W16: 0 | X16: 0 | Y16: 0 | Z16: 0 | AA16: 7 | AB16: 7 | AC16: Eichsfeld | AD16: 0 | AE16: 0 | AF16: 0 | AG16: 0 | AH16: 0 | AI16: 0 | AJ16: 0 | AK16: 1 | AL16: 6 | AM16: 104 | AN16: 7 | AO16: 7 | AP16: Eichsfeld | AQ16: 0 | AR16: 0 | AS16: 0 | AT16: 0 | AU16: 0 | AV16: 0 | AW16: 0 | AX16: 0 | AY16: 0 | AZ16: 0 | BA16: 7 | BB16: 7 | BC16: Eichsfeld | BD16: 0 | BE16: 0 | BF16: 0 | BG16: 0 | BH16: 0
A17: 8 | B17: Nordhausen | C17: 1 | D17: 68 | E17: 1105 | F17: 1 | G17: 36 | H17: 599 | I17: 6 | J17: 74 | K17: 30 | L17: 525 | M17: 8 | N17: 8 | O17: Nordhausen | P17: 1 | Q17: 4 | R17: 71 | S17: 2 | T17: 37 | U17: 2 | V17: 34 | W17: 0 | X17: 0 | Y17: 0 | Z17: 0 | AA17: 8 | AB17: 8 | AC17: Nordhausen | AD17: 1 | AE17: 12 | AF17: 137 | AG17: 0 | AH17: 0 | AI17: 12 | AJ17: 137 | AK17: 1 | AL17: 5 | AM17: 92 | AN17: 8 | AO17: 8 | AP17: Nordhausen | AQ17: 1 | AR17: 9 | AS17: 196 | AT17: 0 | AU17: 0 | AV17: 0 | AW17: 0 | AX17: 0 | AY17: 0 | AZ17: 0 | BA17: 8 | BB17: 8 | BC17: Nordhausen | BD17: 1 | BE17: 2 | BF17: 10 | BG17: 2 | BH17: 10
A18: 9 | B18: Unstrut-Hainich-Kreis | C18: 1 | D18: 122 | E18: 2180 | F18: 1 | G18: 71 | H18: 1340 | I18: 8 | J18: 107 | K18: 63 | L18: 1233 | M18: 9 | N18: 9 | O18: Unstrut-Hainich-Kreis | P18: 1 | Q18: 6 | R18: 96 | S18: 3 | T18: 44 | U18: 0 | V18: 0 | W18: 3 | X18: 52 | Y18: 0 | Z18: 0 | AA18: 9 | AB18: 9 | AC18: Unstrut-Hainich-Kreis | AD18: 1 | AE18: 17 | AF18: 347 | AG18: 4 | AH18: 62 | AI18: 13 | AJ18: 285 | AK18: 0 | AL18: 0 | AM18: 0 | AN18: 9 | AO18: 9 | AP18: Unstrut-Hainich-Kreis | AQ18: 1 | AR18: 9 | AS18: 162 | AT18: 1 | AU18: 17 | AV18: 228 | AW18: 9 | AX18: 147 | AY18: 8 | AZ18: 81 | BA18: 9 | BB18: 9 | BC18: Unstrut-Hainich-Kreis | BD18: 1 | BE18: 2 | BF18: 7 | BG18: 2 | BH18: 7
A19: 10 | B19: Kyffhäuserkreis | C19: 1 | D19: 61 | E19: 910 | F19: 1 | G19: 35 | H19: 584 | I19: 5 | J19: 69 | K19: 30 | L19: 515 | M19: 10 | N19: 10 | O19: Kyffhäuserkreis | P19: 1 | Q19: 4 | R19: 59 | S19: 0 | T19: 0 | U19: 4 | V19: 59 | W19: 0 | X19: 0 | Y19: 0 | Z19: 0 | AA19: 10 | AB19: 10 | AC19: Kyffhäuserkreis | AD19: 0 | AE19: 0 | AF19: 0 | AG19: 0 | AH19: 0 | AI19: 0 | AJ19: 0 | AK19: 1 | AL19: 2 | AM19: 38 | AN19: 10 | AO19: 10 | AP19: Kyffhäuserkreis | AQ19: 1 | AR19: 7 | AS19: 132 | AT19: 0 | AU19: 0 | AV19: 0 | AW19: 0 | AX19: 0 | AY19: 0 | AZ19: 0 | BA19: 10 | BB19: 10 | BC19: Kyffhäuserkreis | BD19: 1 | BE19: 13 | BF19: 97 | BG19: 13 | BH19: 97
A22: 11 | B22: Schulamt Ostthüringen | C22: 10 | D22: 606 | E22: 10415 | F22: 10 | G22: 375 | H22: 6635 | I22: 40 | J22: 532 | K22: 335 | L22: 6103 | M22: 11 | N22: 11 | O22: Schulamt Ostthüringen | P22: 10 | Q22: 59 | R22: 1069 | S22: 10 | T22: 191 | U22: 33 | V22: 560 | W22: 16 | X22: 318 | Y22: 0 | Z22: 0 | AA22: 11 | AB22: 11 | AC22: Schulamt Ostthüringen | AD22: 7 | AE22: 81 | AF22: 1295 | AG22: 27 | AH22: 429 | AI22: 54 | AJ22: 866 | AK22: 6 | AL22: 18 | AM22: 387 | AN22: 11 | AO22: 11 | AP22: Schulamt Ostthüringen | AQ22: 5 | AR22: 24 | AS22: 418 | AT22: 6 | AU22: 36 | AV22: 564 | AW22: 30 | AX22: 504 | AY22: 6 | AZ22: 60 | BA22: 11 | BB22: 11 | BC22: Schulamt Ostthüringen | BD22: 4 | BE22: 13 | BF22: 47 | BG22: 13 | BH22: 47
A23: 12 | B23: Stadt Gera | C23: 3 | D23: 212 | E23: 3635 | F23: 3 | G23: 144 | H23: 2514 | I23: 13 | J23: 168 | K23: 131 | L23: 2346 | M23: 12 | N23: 12 | O23: Stadt Gera | P23: 3 | Q23: 20 | R23: 381 | S23: 6 | T23: 115 | U23: 8 | V23: 152 | W23: 6 | X23: 114 | Y23: 0 | Z23: 0 | AA23: 12 | AB23: 12 | AC23: Stadt Gera | AD23: 1 | AE23: 15 | AF23: 250 | AG23: 3 | AH23: 62 | AI23: 12 | AJ23: 188 | AK23: 3 | AL23: 9 | AM23: 194 | AN23: 12 | AO23: 12 | AP23: Stadt Gera | AQ23: 1 | AR23: 7 | AS23: 109 | AT23: 1 | AU23: 12 | AV23: 171 | AW23: 8 | AX23: 129 | AY23: 4 | AZ23: 42 | BA23: 12 | BB23: 12 | BC23: Stadt Gera | BD23: 1 | BE23: 5 | BF23: 16 | BG23: 5 | BH23: 16
... A44: 28 | B44: Insgesamt | C44: 37 | D44: 2344 | E44: 39940 | F44: 36 | G44: 1519 | H44: 26917 | I44: 138 | J44: 1665 | K44: 1381 | L44: 25252 | M44: 28 | N44: 28 | O44: Insgesamt | P44: 34 | Q44: 166 | R44: 2830 | S44: 23 | T44: 408 | U44: 89 | V44: 1505 | W44: 42 | X44: 814 | Y44: 12 | Z44: 103 | AA44: 28 | AB44: 28 | AC44: Insgesamt | AD44: 17 | AE44: 204 | AF44: 3510 | AG44: 53 | AH44: 877 | AI44: 151 | AJ44: 2633 | AK44: 19 | AL44: 70 | AM44: 1377 | AN44: 28 | AO44: 28 | AP44: Insgesamt | AQ44: 21 | AR44: 146 | AS44: 2839 | AT44: 16 | AU44: 115 | AV44: 1768 | AW44: 83 | AX44: 1305 | AY44: 32 | AZ44: 463 | BA44: 28 | BB44: 28 | BC44: Insgesamt | BD44: 15 | BE44: 124 | BF44: 699 | BG44: 124 | BH44: 699

Sheet TAB3.04
A2: 4. Absolventen/Abgänger aus staatlichen Schulen
A3: des Schuljahres 2024/25 nach Schulformen
A5: Staatliches Schulamt ______ Kreis | B5: Insgesamt | C5: Davon aus
C6: Berufs- schulen | D6: Berufs- fach- schulen | E6: Fach- ober- schulen | F6: beruf- lichen Gym- nasien | G6: Fach- schulen | H6: berufs- bildenden Einrichtungen für Behinderte
A11: Schulamt Mittelthüringen | B11: 3552 | C11: 2500 | D11: 407 | E11: 224 | F11: 215 | G11: 145 | H11: 61
A12: Stadt Erfurt | B12: 2474 | C12: 1756 | D12: 273 | E12: 163 | F12: 155 | G12: 70 | H12: 57
A13: Stadt Weimar | B13: 716 | C13: 430 | D13: 113 | E13: 61 | F13: 37 | G13: 75 | H13: 0
A14: Sömmerda | B14: 0 | C14: 0 | D14: 0 | E14: 0 | F14: 0 | G14: 0 | H14: 0
A15: Weimarer Land | B15: 362 | C15: 314 | D15: 21 | E15: 0 | F15: 23 | G15: 0 | H15: 4
A18: Schulamt Nordthüringen | B18: 1712 | C18: 1086 | D18: 267 | E18: 109 | F18: 137 | G18: 90 | H18: 23
A19: Eichsfeld | B19: 342 | C19: 276 | D19: 16 | E19: 50 | F19: 0 | G19: 0 | H19: 0
A20: Nordhausen | B20: 373 | C20: 212 | D20: 59 | E20: 48 | F20: 50 | G20: 0 | H20: 4
A21: Unstrut-Hainich-Kreis | B21: 690 | C21: 387 | D21: 155 | E21: 0 | F21: 52 | G21: 90 | H21: 6
A22: Kyffhäuserkreis | B22: 307 | C22: 211 | D22: 37 | E22: 11 | F22: 35 | G22: 0 | H22: 13
A25: Schulamt Ostthüringen | B25: 3410 | C25: 2154 | D25: 799 | E25: 160 | F25: 102 | G25: 171 | H25: 24
A26: Stadt Gera | B26: 1243 | C26: 811 | D26: 259 | E26: 97 | F26: 22 | G26: 49 | H26: 5
... A47: Insgesamt | B47: 13057 | C47: 8681 | D47: 2129 | E47: 625 | F47: 808 | G47: 642 | H47: 172
